Workbook

Sheet Berechnungen Fütterungsmenge
J1: 855 Tiere (6 Larven/cm2)
B2: PigSLK | J2: Berechnung Fütterungsmenge Substrat (PigSLK)
C3: Replikat 1 | D3: Replikat 2 | E3: Replikat 3 | F3: MW | G3: STABW | J3: gewünschte Fütterungsmenge [mg] | K3: Trockenmasse pro 855 Tiere [g] | L3: Wassergehalt pro 855 Tiere [g] | M3: Gesamtmasse zum Einwiegen [g]
B4: Wassergehalt (%) | C4: 77.25 | D4: 76.17 | E4: 76.71 | F4: =AVERAGE(C4:E4) -> 76.71 | G4: =_xlfn.STDEV.P(C4:E4) -> 0.44090815 | J4: 25 | K4: =(J4*B$25)/1000 -> 21.375 | L4: =(K4/F$5)*F$4 -> 70.402587 | M4: =K4+L4 -> 91.777587
B5: Trockensubstanz (%) | C5: =100-C4 -> 22.75 | D5: =100-D4 -> 23.83 | E5: =100-E4 -> 23.29 | F5: =AVERAGE(C5:E5) -> 23.29 | G5: =_xlfn.STDEV.P(C5:E5) -> 0.44090815 | J5: 50 | K5: =(J5*B$25)/1000 -> 42.75 | L5: =(K5/F$5)*F$4 -> 140.80517 | M5: =K5+L5 -> 183.55517
J6: 100 | K6: =(J6*B$25)/1000 -> 85.5 | L6: =(K6/F$5)*F$4 -> 281.61035 | M6: =K6+L6 -> 367.11035
B7: Weizenkleie | J7: 150 | K7: =(J7*B$25)/1000 -> 128.25 | L7: =(K7/F$5)*F$4 -> 422.41552 | M7: =K7+L7 -> 550.66552
C8: Replikat 1 | D8: Replikat 2 | E8: Replikat 3 | F8: MW | G8: STABW | J8: 200 | K8: =(J8*B$25)/1000 -> 171 | L8: =(K8/F$5)*F$4 -> 563.2207 | M8: =K8+L8 -> 734.2207
B9: Wassergehalt [%] | C9: 12.44 | D9: 12.39 | E9: 11.28 | F9: =AVERAGE(C9:E9) -> 12.036667 | G9: =_xlfn.STDEV.P(C9:E9) -> 0.53543337
B10: Trockensubstanz [%] | C10: =100-C9 -> 87.56 | D10: =100-D9 -> 87.61 | E10: =100-E9 -> 88.72 | F10: =AVERAGE(C10:E10) -> 87.963333 | G10: =_xlfn.STDEV.P(C9:E9) -> 0.53543337
B12: Junglarven TS | J12: Berechnung neue Fütterungsmenge Substrat abzüglich 20 % Weizenkleie
C13: Replikat 1 | D13: Replikat 2 | E13: Replikat 3 | F13: MW | G13: STABW | J13: gewünschte Fütterungsmenge [mg] | K13: Trockenmasse pro 855 Tiere [g] | L13: Wassergehalt pro 855 Tiere [g] | M13: Gesamtmasse zum Einwiegen [g]
B14: Wassergehalt [%] | C14: 77.28 | D14: 76.9 | E14: 76.92 | F14: =AVERAGE(C14:E14) -> 77.033333 | G14: =_xlfn.STDEV.P(C14:E14) -> 0.17461068 | J14: 25 | K14: =((J14*B$25)/1000)*E$26 -> 17.1 | L14: =(K14/F$5)*F$4 -> 56.32207 | M14: =K14+L14 -> 73.42207
B15: Trockensubstanz [%] | C15: =100-C14 -> 22.72 | D15: =100-D14 -> 23.1 | E15: =100-E14 -> 23.08 | F15: =AVERAGE(C15:E15) -> 22.966667 | G15: =_xlfn.STDEV.P(C14:E14) -> 0.17461068 | J15: 50 | K15: =((J15*B$25)/1000)*E$26 -> 34.2 | L15: =(K15/F$5)*F$4 -> 112.64414 | M15: =K15+L15 -> 146.84414
J16: 100 | K16: =((J16*B$25)/1000)*E$26 -> 68.4 | L16: =(K16/F$5)*F$4 -> 225.28828 | M16: =K16+L16 -> 293.68828
B17: Junglarven Gewicht | J17: 150 | K17: =((J17*B$25)/1000)*E$26 -> 102.6 | L17: =(K17/F$5)*F$4 -> 337.93242 | M17: =K17+L17 -> 440.53242
C18: Replikat 1 | D18: Replikat 2 | E18: Replikat 3 | F18: MW | G18: STABW | J18: 200 | K18: =((J18*B$25)/1000)*E$26 -> 136.8 | L18: =(K18/F$5)*F$4 -> 450.57656 | M18: =K18+L18 -> 587.37656
B19: Gewicht von 200x | C19: 1.15 | D19: 1.2829 | E19: 1.236 | F19: =AVERAGE(C19:E19) -> 1.2229667 | G19: =_xlfn.STDEV.P(C19:E19) -> 0.055033343
C20: =C19/200 -> 0.00575 | D20: =D19/200 -> 0.0064145 | E20: =E19/200 -> 0.00618 | F20: =AVERAGE(C20:E20)*1000 -> 6.1148333 | G20: =_xlfn.STDEV.P(C20:E20)*1000 -> 0.27516672
F21: =F19/200 -> 0.0061148333 | G21: g/Tier | J21: Berechnung 20 % Weizenkleie
F22: =F21*B25 -> 5.2281825 | G22: g/855 Tiere | J22: gewünschte Fütterungsmenge [mg] | K22: Trockenmasse pro 855 Tiere [g] | L22: Wassergehalt pro 855 Tiere [g] | M22: Gesamtmasse zum Einwiegen [g]
J23: 25 | K23: =(K4-K14) -> 4.275 | L23: =(K23/F$10)*F$9 -> 0.58497954 | M23: =K23+L23 -> 4.8599795
B24: Angaben für Berechnungen | J24: 50 | K24: =(K5-K15) -> 8.55 | L24: =(K24/F$10)*F$9 -> 1.1699591 | M24: =K24+L24 -> 9.7199591
B25: 855 | C25: Tiere pro Box | J25: 100 | K25: =(K6-K16) -> 17.1 | L25: =(K25/F$10)*F$9 -> 2.3399181 | M25: =K25+L25 -> 19.439918
B26: 80 | C26: % Substrat | E26: 0.8 | J26: 150 | K26: =(K7-K17) -> 25.65 | L26: =(K26/F$10)*F$9 -> 3.5098772 | M26: =K26+L26 -> 29.159877
B27: 20 | C27: % Weizenkleie | E27: 0.2 | J27: 200 | K27: =(K8-K18) -> 34.2 | L27: =(K27/F$10)*F$9 -> 4.6798363 | M27: =K27+L27 -> 38.879836
J30: Inhalt der Boxen
J31: gewünschte Fütterungsmenge [mg] | K31: Gesamtgewicht [g]
J32: 25 | K32: =M14+M23 -> 78.282049
J33: 50 | K33: =M15+M24 -> 156.5641
J34: 100 | K34: =M16+M25 -> 313.1282
J35: 150 | K35: =M17+M26 -> 469.69229
J36: 200 | K36: =M18+M27 -> 626.25639

Sheet 25 mg
A1: Box 1 | M1: Eiwaage [g] | N1: Mittelwert | O1: STABW | R1: Einwaage [g] | S1: Mittelwert | T1: STABW | Z1: Einwaage [g] | AA1: Mittelwert | AB1: STABW | AC1: Anzahl | AD1: Mittelwert | AE1: STABW | AH1: FCR DM/DM | AI1: Mittelwert | AJ1: STABW
A2: Tag | B2: Datum | C2: Gewicht 25 Larven [mg] | D2: individuelles Gewicht [mg] | E2: Anzahl geflohene Larven | F2: Beobachtungen | I2: Einwaage Substrat soll [g] | J2: ='Berechnungen Fütterungsmenge'!M14 -> 73.42207 | L2: PigSLK soll Box 1 [g] | M2: 73.422 | N2: =AVERAGE(M2:M4) -> 73.422 | O2: =_xlfn.STDEV.P(M2:M4) -> 0 | Q2: Frass (feucht) ist Box 1 [g] | R2: =D16 -> 21.05 | S2: =AVERAGE(R2:R4) -> 21.55 | T2: =_xlfn.STDEV.P(R2:R4) -> 0.37416574 | Y2: Larven geerntet (feucht) Box 1 [g] | Z2: =C13+F15*(D13/1000) -> 4.2145655 | AA2: =AVERAGE(Z2:Z4) -> 3.1229021 | AB2: =_xlfn.STDEV.P(Z2:Z4) -> 0.80200921 | AC2: =D15+F15 -> 394 | AD2: =AVERAGE(AC2:AC4) -> 309.66667 | AE2: =_xlfn.STDEV.P(AC2:AC4) -> 61.320651 | AG2: Feed Conversion Rate Box 1 | AH2: =M26/Z27 -> 37.969638 | AI2: =AVERAGE(AH2:AH4) -> -291.38454 | AJ2: =_xlfn.STDEV.P(AH2:AH4) -> 370.6522
A3: 0 | B3: 45321 | C3: 5.2287 | D3: =C3/A15*1000 -> 6.1154386 | F3: Initiales Larvengewicht 855x | I3: Einwaage Weizenkleie soll [g] | J3: ='Berechnungen Fütterungsmenge'!M23 -> 4.8599795 | L3: PigSLK soll Box 2 [g] | M3: 73.422 | Q3: Frass (feucht) ist Box 2 [g] | R3: =D34 -> 21.65 | Y3: Larven geerntet (feucht) Box 2 [g] | Z3: =C31+F33*(D31/1000) -> 2.3105533 | AC3: =D33+F33 -> 250 | AG3: Feed Conversion Rate Box 2 | AH3: =M27/Z28 -> -102.90594
A4: 1 | B4: 45322 | C4: 0.1771 | D4: =C4/A$16*1000 -> 7.084 | I4: Einwaage Larven soll | J4: ='Berechnungen Fütterungsmenge'!F22 -> 5.2281825 | L4: PigSLK soll Box 3 [g] | M4: 73.422 | Q4: Frass (feucht) ist Box 3 [g] | R4: =D52 -> 21.95 | Y4: Larven geerntet (feucht) Box 3 [g] | Z4: =C49+F51*(D49/1000) -> 2.8435875 | AC4: =D51+F51 -> 285 | AG4: Feed Conversion Rate Box 3 | AH4: =M28/Z29 -> -809.21733
A5: 2 | B5: 45323 | C5: 0.2457 | D5: =C5/A$16*1000 -> 9.828 | I5: Einwaage Substrat ist [g] | J5: 73.42 | L5: PigSLK ist Box 1 [g] | M5: =J5 -> 73.42 | N5: =AVERAGE(M5:M7) -> 73.42 | O5: =_xlfn.STDEV.P(M5:M7) -> 0
A6: 3 | B6: 45324 | C6: 0.2981 | D6: =C6/A$16*1000 -> 11.924 | I6: Einwaage Weizenkleie ist [g] | J6: 4.86 | L6: PigSLK ist Box 2 [g] | M6: =J23 -> 73.42 | R6: Wassergehalt [%] | S6: Mittelwert | T6: STABW | U6: Trockensubstanz [%] | V6: Mittelwert | W6: STABW | Z6: Wassergehalt [%] | AA6: Mittelwert | AB6: STABW | AC6: Trockensubstanz [%] | AD6: Mittelwert | AE6: STABW | AH6: Überlebensrate [%] | AI6: Mittelwert | AJ6: STABW
A7: 4 | B7: 45325 | C7: 0.3341 | D7: =C7/A$16*1000 -> 13.364 | I7: Einwaage Larven | J7: 5.2287 | L7: PigSLK ist Box 3 [g] | M7: =J41 -> 73.42 | Q7: Frass Box 1 Replikat 1 [%] | R7: 36.83 | S7: =AVERAGE(R7:R9) -> 36.32 | T7: =_xlfn.STDEV.P(R7:R9) -> 0.36887215 | U7: =100-R7 -> 63.17 | V7: =AVERAGE(U7:U9) -> 63.68 | W7: =_xlfn.STDEV.P(U7:U9) -> 0.36887215 | Y7: Larven geerntet Box 1 Replikat 1 [%] | Z7: 57.91 | AA7: =AVERAGE(Z7:Z9) -> 58.15 | AB7: =_xlfn.STDEV.P(Z7:Z9) -> 0.24711671 | AC7: =100-Z7 -> 42.09 | AD7: =AVERAGE(AC7:AC9) -> 41.85 | AE7: =_xlfn.STDEV.P(AC7:AC9) -> 0.24711671 | AG7: Überlebensrate Box 1 [%] | AH7: =AC2/M23*100 -> 46.07731 | AI7: =AVERAGE(AH7:AH9) -> 36.228627 | AJ7: =_xlfn.STDEV.P(AH7:AH9) -> 7.1625184
A8: 5 | B8: 45326 | C8: 0.2776 | D8: =C8/A$16*1000 -> 11.104 | L8: Weizenkleie soll Box 1 [g] | M8: 4.86 | N8: =AVERAGE(M8:M10) -> 4.86 | O8: =_xlfn.STDEV.P(M8:M10) -> 0 | Q8: Frass Box 1 Replikat 2 [%] | R8: 36.16 | U8: =100-R8 -> 63.84 | Y8: Larven geerntet Box 1 Replikat 2 [%] | Z8: 58.49 | AC8: =100-Z8 -> 41.51 | AG8: Überlebensrate Box 2 [%] | AH8: =AC3/M24*100 -> 29.253657
A9: 6 | B9: 45327 | C9: 0.353 | D9: =C9/A$16*1000 -> 14.12 | I9: Futter pro Tier in g | J9: 0.025 | L9: Weizenkleie soll Box 2 [g] | M9: 4.86 | Q9: Frass Box 1 Replikat 3 [%] | R9: 35.97 | U9: =100-R9 -> 64.03 | Y9: Larven geerntet Box 1 Replikat 3 [%] | Z9: 58.05 | AC9: =100-Z9 -> 41.95 | AG9: Überlebensrate Box 3 [%] | AH9: =AC4/M25*100 -> 33.354913
A10: 7 | B10: 45328 | C10: 0.4178 | D10: =C10/A$16*1000 -> 16.712 | L10: Weizenkleie soll Box 3 [g] | M10: 4.86 | Q10: Frass Box 2 Replikat 1 [%] | R10: 34.35 | S10: =AVERAGE(R10:R12) -> 32.35 | T10: =_xlfn.STDEV.P(R10:R12) -> 1.628926 | U10: =100-R10 -> 65.65 | V10: =AVERAGE(U10:U12) -> 67.65 | W10: =_xlfn.STDEV.P(U10:U12) -> 1.628926 | Y10: Larven geerntet Box 2 Replikat 1 [%] | Z10: 56.8 | AA10: =AVERAGE(Z10:Z12) -> 57.046667 | AB10: =_xlfn.STDEV.P(Z10:Z12) -> 0.18624953 | AC10: =100-Z10 -> 43.2 | AD10: =AVERAGE(AC10:AC12) -> 42.953333 | AE10: =_xlfn.STDEV.P(AC10:AC12) -> 0.18624953
A11: 8 | B11: 45329 | C11: 0.4329 | D11: =C11/A$16*1000 -> 17.316 | L11: Weizenkleie ist Box 1 [g] | M11: =J6 -> 4.86 | N11: =AVERAGE(M11:M13) -> 4.86 | O11: =_xlfn.STDEV.P(M11:M13) -> 0 | Q11: Frass Box 2 Replikat 2 [%] | R11: 32.34 | U11: =100-R11 -> 67.66 | Y11: Larven geerntet Box 2 Replikat 2 [%] | Z11: 57.09 | AC11: =100-Z11 -> 42.91 | AH11: Substratreduction [%] | AI11: Mittelwert | AJ11: STABW
A12: 9 | B12: 45330 | C12: 0.3238 | D12: =C12/A$16*1000 -> 12.952 | L12: Weizenkleie ist Box 2 [g] | M12: =J24 -> 4.86 | Q12: Frass Box 2 Replikat 3 [%] | R12: 30.36 | U12: =100-R12 -> 69.64 | Y12: Larven geerntet Box 2 Replikat 3 [%] | Z12: 57.25 | AC12: =100-Z12 -> 42.75 | AG12: Substratreduction Box 1 [%] | AH12: =(M26-R18)/M26*100 -> 37.286873 | AI12: =AVERAGE(AH12:AH14) -> 34.463708 | AJ12: =_xlfn.STDEV.P(AH12:AH14) -> 2.3741744
A13: 10 | B13: 45331 | C13: 4.0969 | D13: =C13/D15*1000 -> 10.696867 | F13: Endgewicht Larvenernte | L13: Weizenkleie ist Box 3 [g] | M13: =J42 -> 4.86 | Q13: Frass Box 3 Replikat 1 [%] | R13: 35.87 | S13: =AVERAGE(R13:R15) -> 36.34 | T13: =_xlfn.STDEV.P(R13:R15) -> 1.0307602 | U13: =100-R13 -> 64.13 | V13: =AVERAGE(U13:U15) -> 63.66 | W13: =_xlfn.STDEV.P(U13:U15) -> 1.0307602 | Y13: Larven geerntet Box 3 Replikat 1 [%] | Z13: 57.84 | AA13: =AVERAGE(Z13:Z15) -> 58.73 | AB13: =_xlfn.STDEV.P(Z13:Z15) -> 0.63092525 | AC13: =100-Z13 -> 42.16 | AD13: =AVERAGE(AC13:AC15) -> 41.27 | AE13: =_xlfn.STDEV.P(AC13:AC15) -> 0.63092525 | AG13: Substratreduction Box 2 [%] | AH13: =(M27-R19)/M27*100 -> 31.478162
L14: Gesamtmenge Box 1 [g] | M14: =M5+M11 -> 78.28 | N14: =AVERAGE(M14:M16) -> 78.28 | O14: =_xlfn.STDEV.P(M14:M16) -> 0 | Q14: Frass Box 3 Replikat 2 [%] | R14: 37.77 | U14: =100-R14 -> 62.23 | Y14: Larven geerntet Box 3 Replikat 2 [%] | Z14: 59.12 | AC14: =100-Z14 -> 40.88 | AG14: Substratreduction Box 3 [%] | AH14: =(M28-R20)/M28*100 -> 34.62609
A15: 855 | B15: Gesamtmenge | C15: Anzahl Larven an Tag 10 | D15: 383 | E15: Larven im Frass | F15: 11 | L15: Gesamtmenge Box 2 [g] | M15: =M6+M12 -> 78.28 | Q15: Frass Box 3 Replikat 3 [%] | R15: 35.38 | U15: =100-R15 -> 64.62 | Y15: Larven geerntet Box 3 Replikat 3 [%] | Z15: 59.23 | AC15: =100-Z15 -> 40.77
A16: 25 | B16: Tiere pro Tag gezählt | C16: Frass [g] | D16: 21.05 | L16: Gesamtmenge Box 3 [g] | M16: =M7+M13 -> 78.28 | AH16: Waste reduction index | AI16: Mittelwert | AJ16: STABW
L17: Larven soll Box 1 [g] | M17: 5.2281825 | N17: =AVERAGE(M17:M19) -> 5.2281825 | O17: =_xlfn.STDEV.P(M17:M19) -> 0 | R17: Einwaage [g] | S17: Mittelwert | T17: STABW | Z17: Einwaage [g] | AA17: Mittelwert | AB17: STABW | AG17: Waste reduction index Box 1 [%/d] | AH17: =AH12/10 -> 3.7286873 | AI17: =AVERAGE(AH17:AH19) -> 3.4463708 | AJ17: =_xlfn.STDEV.P(AH17:AH19) -> 0.23741744
L18: Larven soll Box 2 [g] | M18: 5.2281825 | Q18: Frass (trocken) ist Box 1 [g] | R18: =R2*(V7/100) -> 13.40464 | S18: =AVERAGE(R18:R20) -> 14.008078 | T18: =_xlfn.STDEV.P(R18:R20) -> 0.50746877 | Y18: Larven geerntet (trocken) Box 1 [g] | Z18: =Z2*(AD7/100) -> 1.7637957 | AA18: =AVERAGE(Z18:Z20) -> 1.3099346 | AB18: =_xlfn.STDEV.P(Z18:Z20) -> 0.32933335 | AC18: Hier muss noch das eingesetzte Gewicht subtrahiert werden! | AG18: Waste reduction index Box 2 [%/d] | AH18: =AH13/10 -> 3.1478162
A19: Box 2 | L19: Larven soll Box 3 [g] | M19: 5.2281825 | Q19: Frass (trocken) ist Box 2 [g] | R19: =R3*(V10/100) -> 14.646225 | Y19: Larven geerntet (trocken) Box 2 [g] | Z19: =Z3*(AD10/100) -> 0.99245965 | AG19: Waste reduction index Box 3 [%/d] | AH19: =AH14/10 -> 3.462609
A20: Tag | B20: Datum | C20: Gewicht 25 Larven [mg] | D20: individuelles Gewicht [mg] | E20: Anzahl geflohene Larven | F20: Beobachtungen | I20: Einwaage Substrat soll [g] | J20: ='Berechnungen Fütterungsmenge'!M14 -> 73.42207 | L20: Larven ist Box 1 [g] | M20: =J7 -> 5.2287 | N20: =AVERAGE(M20:M22) -> 5.2264 | O20: =_xlfn.STDEV.P(M20:M22) -> 0.0016673332 | Q20: Frass (trocken) ist Box 3 [g] | R20: =R4*(V13/100) -> 13.97337 | Y20: Larven geerntet (trocken) Box 3 [g] | Z20: =Z4*(AD13/100) -> 1.1735486
A21: 0 | B21: 45321 | C21: 5.2257 | D21: =C21/A33*1000 -> 6.1119298 | F21: Initiales Larvengewicht 855x | I21: Einwaage Weizenkleie soll [g] | J21: ='Berechnungen Fütterungsmenge'!M23 -> 4.8599795 | L21: Larven ist Box 2 [g] | M21: =J25 -> 5.2257 | Y21: Initiales Larvengewicht (feucht) Box 1 [g] | Z21: =M20 -> 5.2287 | AA21: =AVERAGE(Z21:Z23) -> 5.2264 | AB21: =_xlfn.STDEV.P(Z21:Z23) -> 0.0016673332 | AH21: ECI | AI21: Mittelwert | AJ21: STABW
A22: 1 | B22: 45322 | C22: 0.1756 | D22: =C22/A$16*1000 -> 7.024 | I22: Einwaage Larven soll | J22: ='Berechnungen Fütterungsmenge'!F22 -> 5.2281825 | L22: Larven ist Box 3 [g] | M22: =J43 -> 5.2248 | Y22: Initiales Larvengewicht (feucht) Box 2 [g] | Z22: =M21 -> 5.2257 | AC22: Trockensubstanz Junglarven [%] | AD22: 22.966667 | AG22: Efficiency of conversion of the ingested feed Box 1 | AH22: =Z27/(M26-R18) -> 0.070632989 | AI22: =AVERAGE(AH22:AH24) -> 0.012064383 | AJ22: =_xlfn.STDEV.P(AH22:AH24) -> 0.042887933
A23: 2 | B23: 45323 | C23: 0.2381 | D23: =C23/A$16*1000 -> 9.524 | I23: Einwaage Substrat ist [g] | J23: 73.42 | L23: Larven ist Box 1 [Anzahl] | M23: =M20/'Berechnungen Fütterungsmenge'!$F$21 -> 855.08463 | N23: =AVERAGE(M23:M25) -> 854.7085 | O23: =_xlfn.STDEV.P(M23:M25) -> 0.27267026 | Y23: Initiales Larvengewicht (feucht) Box 3 [g] | Z23: =M22 -> 5.2248 | AG23: Efficiency of conversion of the ingested feed Box 2 | AH23: =Z28/(M27-R19) -> -0.030870964
A24: 3 | B24: 45324 | C24: 0.2517 | D24: =C24/A$16*1000 -> 10.068 | I24: Einwaage Weizenkleie ist [g] | J24: 4.86 | L24: Larven ist Box 2 [Anzahl] | M24: =M21/'Berechnungen Fütterungsmenge'!$F$21 -> 854.59402 | Y24: Initiales Larvengewicht (trocken) Box 1 [g] | Z24: =Z21*(AD22/100) -> 1.2008581 | AA24: =AVERAGE(Z24:Z26) -> 1.2003299 | AB24: =_xlfn.STDEV.P(Z24:Z26) -> 0.00038293086 | AG24: Efficiency of conversion of the ingested feed Box 3 | AH24: =Z29/(M28-R20) -> -0.0035688753
A25: 4 | B25: 45325 | C25: 0.2963 | D25: =C25/A$16*1000 -> 11.852 | I25: Einwaage Larven | J25: 5.2257 | L25: Larven ist Box 3 [Anzahl] | M25: =M22/'Berechnungen Fütterungsmenge'!$F$21 -> 854.44684 | Y25: Initiales Larvengewicht (trocken) Box 2 [g] | Z25: =Z22*(AD22/100) -> 1.2001691
A26: 5 | B26: 45326 | C26: 0.3104 | D26: =C26/A$16*1000 -> 12.416 | L26: Gesamtmenge TS Box 1 [g] | M26: =M5*('Berechnungen Fütterungsmenge'!$F$5/100)+M11*('Berechnungen Fütterungsmenge'!$F$10/100) -> 21.374536 | N26: =AVERAGE(M26:M28) -> 21.374536 | O26: =_xlfn.STDEV.P(M26:M28) -> 0 | Y26: Initiales Larvengewicht (trocken) Box 3 [g] | Z26: =Z23*(AD22/100) -> 1.1999624 | AH26: Larval growth rate | AI26: Mittelwert | AJ26: STABW
A27: 6 | B27: 45327 | C27: 0.2835 | D27: =C27/A$16*1000 -> 11.34 | L27: Gesamtmenge TS Box 2 [g] | M27: =M6*('Berechnungen Fütterungsmenge'!$F$5/100)+M12*('Berechnungen Fütterungsmenge'!$F$10/100) -> 21.374536 | Y27: Larven geerntet-initial (trocken) Box 1 [g] | Z27: =Z18-Z24 -> 0.56293758 | AA27: =AVERAGE(Z27:Z29) -> 0.10960476 | AB27: =_xlfn.STDEV.P(Z27:Z29) -> 0.32898835 | AG27: Larval growth rate Box 1 [g/d] | AH27: =(Z18-Z24)/10 -> 0.056293758 | AI27: =AVERAGE(AH27:AH29) -> 0.010960476 | AJ27: =_xlfn.STDEV.P(AH27:AH29) -> 0.032898835
A28: 7 | B28: 45328 | C28: 0.4227 | D28: =C28/A$16*1000 -> 16.908 | L28: Gesamtmenge TS Box 3 [g] | M28: =M7*('Berechnungen Fütterungsmenge'!$F$5/100)+M13*('Berechnungen Fütterungsmenge'!$F$10/100) -> 21.374536 | Y28: Larven geerntet-initial (trocken) Box 2 [g] | Z28: =Z19-Z25 -> -0.20770945 | AG28: Larval growth rate Box 2 [g/d] | AH28: =(Z19-Z25)/10 -> -0.020770945
A29: 8 | B29: 45329 | C29: 0.3188 | D29: =C29/A$16*1000 -> 12.752 | Y29: Larven geerntet-initial (trocken) Box 3 [g] | Z29: =Z20-Z26 -> -0.026413839 | AG29: Larval growth rate Box 3 [g/d] | AH29: =(Z20-Z26)/10 -> -0.0026413839
A30: 9 | B30: 45330 | C30: 0.362 | D30: =C30/A$16*1000 -> 14.48
A31: 10 | B31: 45331 | C31: 2.2551 | D31: =C31/D33*1000 -> 9.2422131 | F31: Endgewicht Larvenernte | AD31: Einzelgewicht Larve [g] | AH31: Yield | AI31: Mittelwert | AJ31: STABW
AC32: Larven geerntet Einzelgewicht Box 1 [g] | AD32: =Z2/AC2 -> 0.010696867 | AG32: Yield Box 1 [g] | AH32: =Z27 -> 0.56293758 | AI32: =AVERAGE(AH32:AH34) -> 0.10960476 | AJ32: =_xlfn.STDEV.P(AH32:AH34) -> 0.32898835
A33: 855 | B33: Gesamtmenge | C33: Anzahl Larven an Tag 10 | D33: 244 | E33: Larven im Frass | F33: 6 | AG33: Yield Box 2 [g] | AH33: =Z28 -> -0.20770945
A34: 25 | B34: Tiere pro Tag gezählt | C34: Frass [g] | D34: 21.65 | AG34: Yield Box 3 [g] | AH34: =Z29 -> -0.026413839
AC35: Larven geerntet Einzelgewicht Box 2 [g] | AD35: =Z3/AC3 -> 0.0092422131
AH36: LFW | AI36: Mittelwert | AJ36: STABW
A37: Box 3 | AG37: Larval final weight Box 1 [mg/Larve] | AH37: =Z18*1000/AC2 -> 4.4766388 | AI37: =AVERAGE(AH37:AH39) -> 4.1880639 | AJ37: =_xlfn.STDEV.P(AH37:AH39) -> 0.21279631
A38: Tag | B38: Datum | C38: Gewicht 25 Larven [mg] | D38: individuelles Gewicht [mg] | E38: Anzahl geflohene Larven | F38: Beobachtungen | I38: Einwaage Substrat soll [g] | J38: ='Berechnungen Fütterungsmenge'!M14 -> 73.42207 | AC38: Larven geerntet Einzelgewicht Box [g] | AD38: =Z4/AC4 -> 0.0099775 | AG38: Larval final weight Box 2 [mg/Larve] | AH38: =Z19*1000/AC3 -> 3.9698386
A39: 0 | B39: 45321 | C39: 5.2248 | D39: =C39/A51*1000 -> 6.1108772 | F39: Initiales Larvengewicht 855x | I39: Einwaage Weizenkleie soll [g] | J39: ='Berechnungen Fütterungsmenge'!M23 -> 4.8599795 | AG39: Larval final weight Box 3 [mg/Larve] | AH39: =Z20*1000/AC4 -> 4.1177143
A40: 1 | B40: 45322 | C40: 0.176 | D40: =C40/A$16*1000 -> 7.04 | I40: Einwaage Larven soll | J40: ='Berechnungen Fütterungsmenge'!F22 -> 5.2281825
A41: 2 | B41: 45323 | C41: 0.2351 | D41: =C41/A$16*1000 -> 9.404 | I41: Einwaage Substrat ist [g] | J41: 73.42 | AH41: norm. Yield | AI41: Mittelwert | AJ41: STABW
A42: 3 | B42: 45324 | C42: 0.2592 | D42: =C42/A$16*1000 -> 10.368 | I42: Einwaage Weizenkleie ist [g] | J42: 4.86 | AG42: normalizied Yield Box 1 [mg/Larve] | AH42: =AH32*1000/M23 -> 0.65834136 | AI42: =AVERAGE(AH42:AH44) -> 0.12812585 | AJ42: =_xlfn.STDEV.P(AH42:AH44) -> 0.38479163
A43: 4 | B43: 45325 | C43: 0.2316 | D43: =C43/A$16*1000 -> 9.264 | I43: Einwaage Larven | J43: 5.2248 | AG43: normalizied Yield Box 2 [mg/Larve] | AH43: =AH33*1000/M24 -> -0.24305044
A44: 5 | B44: 45326 | C44: 0.2733 | D44: =C44/A$16*1000 -> 10.932 | AG44: normalizied Yield Box 3 [mg/Larve] | AH44: =AH34*1000/M25 -> -0.030913379
A45: 6 | B45: 45327 | C45: 0.2869 | D45: =C45/A$16*1000 -> 11.476
A46: 7 | B46: 45328 | C46: 0.4702 | D46: =C46/A$16*1000 -> 18.808 | AH46: norm. LGR | AI46: Mittelwert | AJ46: STABW
A47: 8 | B47: 45329 | C47: 0.3726 | D47: =C47/A$16*1000 -> 14.904 | AG47: normalizied Larval growth rate Box 1 [mg/d/Larve] | AH47: =AH27*1000/M23 -> 0.065834136 | AI47: =AVERAGE(AH47:AH49) -> 0.012812585 | AJ47: =_xlfn.STDEV.P(AH47:AH49) -> 0.038479163
A48: 9 | B48: 45330 | C48: 0.4072 | D48: =C48/A$16*1000 -> 16.288 | AG48: normalizied Larval growth rate Box 2 [mg/d/Larve] | AH48: =AH28*1000/M24 -> -0.024305044
A49: 10 | B49: 45331 | C49: 2.7937 | D49: =C49/D51*1000 -> 9.9775 | F49: Endgewicht Larvenernte | AG49: normalizied Larval growth rate Box 3 [mg/d/Larve] | AH49: =AH29*1000/M25 -> -0.0030913379
A51: 855 | B51: Gesamtmenge | C51: Anzahl Larven an Tag 10 | D51: 280 | E51: Larven im Frass | F51: 5
A52: 25 | B52: Tiere pro Tag gezählt | C52: Frass [g] | D52: 21.95

Sheet 50 mg
A1: Box 1 | M1: Eiwaage [g] | N1: Mittelwert | O1: STABW | R1: Einwaage [g] | S1: Mittelwert | T1: STABW | Z1: Einwaage [g] | AA1: Mittelwert | AB1: STABW | AC1: Anzahl | AD1: Mittelwert | AE1: STABW | AH1: FCR DM/DM | AI1: Mittelwert | AJ1: STABW
A2: Tag | B2: Datum | C2: Gewicht 25 Larven [mg] | D2: individuelles Gewicht [mg] | E2: Anzahl geflohene Larven | F2: Beobachtungen | I2: Einwaage Substrat soll [g] | J2: ='Berechnungen Fütterungsmenge'!M15 -> 146.84414 | L2: PigSLK soll Box 1 [g] | M2: 146.844 | N2: =AVERAGE(M2:M4) -> 146.844 | O2: =_xlfn.STDEV.P(M2:M4) -> 0 | Q2: Frass (feucht) ist Box 1 [g] | R2: =D16 -> 56.19 | S2: =AVERAGE(R2:R4) -> 55.753333 | T2: =_xlfn.STDEV.P(R2:R4) -> 2.0200715 | Y2: Larven geerntet (feucht) Box 1 [g] | Z2: =C13+F15*(D13/1000) -> 10.713122 | AA2: =AVERAGE(Z2:Z4) -> 12.811883 | AB2: =_xlfn.STDEV.P(Z2:Z4) -> 3.5480418 | AC2: =D15+F15 -> 497 | AD2: =AVERAGE(AC2:AC4) -> 597 | AE2: =_xlfn.STDEV.P(AC2:AC4) -> 173.46662 | AG2: Feed Conversion Rate Box 1 | AH2: =M26/Z27 -> 14.402779 | AI2: =AVERAGE(AH2:AH4) -> 13.042439 | AJ2: =_xlfn.STDEV.P(AH2:AH4) -> 3.9645763
A3: 0 | B3: 45321 | C3: 5.2281 | D3: =C3/A15*1000 -> 6.1147368 | I3: Einwaaage Weizenkleie soll [g] | J3: 9.7199591 | L3: PigSLK soll Box 2 [g] | Q3: Frass (feucht) ist Box 2 [g] | R3: =D34 -> 53.09 | Y3: Larven geerntet (feucht) Box 2 [g] | Z3: =C31+F33*(D31/1000) -> 17.808326 | AC3: =D33+F33 -> 841 | AG3: Feed Conversion Rate Box 2 | AH3: =M27/Z28 -> 7.651759
A4: 1 | B4: 45322 | C4: 0.1835 | D4: =C4/A$16*1000 -> 7.34 | I4: Einwaage Larven soll | J4: 5.2281825 | L4: PigSLK soll Box 3 [g] | Q4: Frass (feucht) ist Box 3 [g] | R4: =D52 -> 57.98 | Y4: Larven geerntet (feucht) Box 3 [g] | Z4: =C49+F51*(D49/1000) -> 9.9142 | AC4: =D51+F51 -> 453 | AG4: Feed Conversion Rate Box 3 | AH4: =M28/Z29 -> 17.072779
A5: 2 | B5: 45323 | C5: 0.2444 | D5: =C5/A$16*1000 -> 9.776 | I5: Einwaage Substrat ist [g] | J5: 146.84 | L5: PigSLK ist Box 1 [g] | M5: =J5 -> 146.84 | N5: =AVERAGE(M5:M7) -> 146.84 | O5: =_xlfn.STDEV.P(M5:M7) -> 0
A6: 3 | B6: 45324 | C6: 0.367 | D6: =C6/A$16*1000 -> 14.68 | I6: Einwaaage Weizenkleie ist [g] | J6: 9.72 | L6: PigSLK ist Box 2 [g] | M6: =J23 -> 146.84 | R6: Wassergehalt [%] | S6: Mittelwert | T6: STABW | U6: Trockensubstanz [%] | V6: Mittelwert | W6: STABW | Z6: Wassergehalt [%] | AA6: Mittelwert | AB6: STABW | AC6: Trockensubstanz [%] | AD6: Mittelwert | AE6: STABW | AH6: Überlebensrate [%] | AI6: Mittelwert | AJ6: STABW
A7: 4 | B7: 45325 | C7: 0.3145 | D7: =C7/A$16*1000 -> 12.58 | I7: Larven Einwaage ist | J7: 5.2281 | L7: PigSLK ist Box 3 [g] | M7: =J41 -> 146.84 | Q7: Frass Box 1 Replikat 1 [%] | R7: 47.22 | S7: =AVERAGE(R7:R9) -> 48.673333 | T7: =_xlfn.STDEV.P(R7:R9) -> 1.4599163 | U7: =100-R7 -> 52.78 | V7: =AVERAGE(U7:U9) -> 51.326667 | W7: =_xlfn.STDEV.P(U7:U9) -> 1.4599163 | Y7: Larven geerntet Box 1 Replikat 1 [%] | Z7: 60.04 | AA7: =AVERAGE(Z7:Z9) -> 61.086667 | AB7: =_xlfn.STDEV.P(Z7:Z9) -> 0.74028523 | AC7: =100-Z7 -> 39.96 | AD7: =AVERAGE(AC7:AC9) -> 38.913333 | AE7: =_xlfn.STDEV.P(AC7:AC9) -> 0.74028523 | AG7: Überlebensrate Box 1 [%] | AH7: =AC2/M23*100 -> 58.129572 | AI7: =AVERAGE(AH7:AH9) -> 69.815681 | AJ7: =_xlfn.STDEV.P(AH7:AH9) -> 20.273261
A8: 5 | B8: 45326 | C8: 0.3304 | D8: =C8/A$16*1000 -> 13.216 | L8: Weizenkleie soll Box 1 [g] | M8: 9.72 | N8: =AVERAGE(M8:M10) -> 9.72 | O8: =_xlfn.STDEV.P(M8:M10) -> 0 | Q8: Frass Box 1 Replikat 2 [%] | R8: 48.13 | U8: =100-R8 -> 51.87 | Y8: Larven geerntet Box 1 Replikat 2 [%] | Z8: 61.59 | AC8: =100-Z8 -> 38.41 | AG8: Überlebensrate Box 2 [%] | AH8: =AC3/M24*100 -> 98.332151
A9: 6 | B9: 45327 | C9: 0.6505 | D9: =C9/A$16*1000 -> 26.02 | I9: Futter pro Tier in g | J9: 0.05 | L9: Weizenkleie soll Box 2 [g] | Q9: Frass Box 1 Replikat 3 [%] | R9: 50.67 | U9: =100-R9 -> 49.33 | Y9: Larven geerntet Box 1 Replikat 3 [%] | Z9: 61.63 | AC9: =100-Z9 -> 38.37 | AG9: Überlebensrate Box 3 [%] | AH9: =AC4/M25*100 -> 52.985319
A10: 7 | B10: 45328 | C10: 0.6789 | D10: =C10/A$16*1000 -> 27.156 | L10: Weizenkleie soll Box 3 [g] | Q10: Frass Box 2 Replikat 1 [%] | R10: 49.15 | S10: =AVERAGE(R10:R12) -> 48.576667 | T10: =_xlfn.STDEV.P(R10:R12) -> 0.4170798 | U10: =100-R10 -> 50.85 | V10: =AVERAGE(U10:U12) -> 51.423333 | W10: =_xlfn.STDEV.P(U10:U12) -> 0.4170798 | Y10: Larven geerntet Box 2 Replikat 1 [%] | Z10: 61.3 | AA10: =AVERAGE(Z10:Z12) -> 61.883333 | AB10: =_xlfn.STDEV.P(Z10:Z12) -> 0.41298372 | AC10: =100-Z10 -> 38.7 | AD10: =AVERAGE(AC10:AC12) -> 38.116667 | AE10: =_xlfn.STDEV.P(AC10:AC12) -> 0.41298372
A11: 8 | B11: 45329 | C11: 0.7697 | D11: =C11/A$16*1000 -> 30.788 | L11: Weizenkleie ist Box 1 [g] | M11: =J6 -> 9.72 | N11: =AVERAGE(M11:M13) -> 9.72 | O11: =_xlfn.STDEV.P(M11:M13) -> 0 | Q11: Frass Box 2 Replikat 2 [%] | R11: 48.17 | U11: =100-R11 -> 51.83 | Y11: Larven geerntet Box 2 Replikat 2 [%] | Z11: 62.2 | AC11: =100-Z11 -> 37.8 | AH11: Substratreduction [%] | AI11: Mittelwert | AJ11: STABW
A12: 9 | B12: 45330 | C12: 0.7324 | D12: =C12/A$16*1000 -> 29.296 | L12: Weizenkleie ist Box 2 [g] | M12: =J24 -> 9.72 | Q12: Frass Box 2 Replikat 3 [%] | R12: 48.41 | U12: =100-R12 -> 51.59 | Y12: Larven geerntet Box 2 Replikat 3 [%] | Z12: 62.15 | AC12: =100-Z12 -> 37.85 | AG12: Substratreduction Box 1 [%] | AH12: =(M26-R18)/M26*100 -> 32.535485 | AI12: =AVERAGE(AH12:AH14) -> 33.563774 | AJ12: =_xlfn.STDEV.P(AH12:AH14) -> 1.8320666
A13: 10 | B13: 45331 | C13: 10.6269 | D13: =C13/D15*1000 -> 21.555578 | L13: Weizenkleie ist Box 3 [g] | M13: =J42 -> 9.72 | Q13: Frass Box 3 Replikat 1 [%] | R13: 50.15 | S13: =AVERAGE(R13:R15) -> 49.876667 | T13: =_xlfn.STDEV.P(R13:R15) -> 1.482348 | U13: =100-R13 -> 49.85 | V13: =AVERAGE(U13:U15) -> 50.123333 | W13: =_xlfn.STDEV.P(U13:U15) -> 1.482348 | Y13: Larven geerntet Box 3 Replikat 1 [%] | Z13: 62.1 | AA13: =AVERAGE(Z13:Z15) -> 62.633333 | AB13: =_xlfn.STDEV.P(Z13:Z15) -> 0.39406711 | AC13: =100-Z13 -> 37.9 | AD13: =AVERAGE(AC13:AC15) -> 37.366667 | AE13: =_xlfn.STDEV.P(AC13:AC15) -> 0.39406711 | AG13: Substratreduction Box 2 [%] | AH13: =(M27-R19)/M27*100 -> 36.13745
L14: Gesamtmenge Box 1 [g] | M14: =M5+M11 -> 156.56 | N14: =AVERAGE(M14:M16) -> 156.56 | O14: =_xlfn.STDEV.P(M14:M16) -> 0 | Q14: Frass Box 3 Replikat 2 [%] | R14: 47.94 | U14: =100-R14 -> 52.06 | Y14: Larven geerntet Box 3 Replikat 2 [%] | Z14: 63.04 | AC14: =100-Z14 -> 36.96 | AG14: Substratreduction Box 3 [%] | AH14: =(M28-R20)/M28*100 -> 32.018387
A15: 855 | B15: Gesamtmenge | C15: Anzahl Larven an Tag 10 | D15: 493 | E15: Larven im Frass | F15: 4 | L15: Gesamtmenge Box 2 [g] | M15: =M6+M12 -> 156.56 | Q15: Frass Box 3 Replikat 3 [%] | R15: 51.54 | U15: =100-R15 -> 48.46 | Y15: Larven geerntet Box 3 Replikat 3 [%] | Z15: 62.76 | AC15: =100-Z15 -> 37.24
A16: 25 | B16: Tiere pro Tag gezählt | C16: Frass [g] | D16: 56.19 | L16: Gesamtmenge Box 3 [g] | M16: =M7+M13 -> 156.56 | AH16: Waste reduction index | AI16: Mittelwert | AJ16: STABW
L17: Larven soll Box 1 [g] | M17: 5.2281825 | N17: =AVERAGE(M17:M19) -> 5.2281825 | O17: =_xlfn.STDEV.P(M17:M19) -> 0 | R17: Einwaage [g] | S17: Mittelwert | T17: STABW | Z17: Einwaage [g] | AA17: Mittelwert | AB17: STABW | AG17: Waste reduction index Box 1 [%/d] | AH17: =AH12/10 -> 3.2535485 | AI17: =AVERAGE(AH17:AH19) -> 3.3563774 | AJ17: =_xlfn.STDEV.P(AH17:AH19) -> 0.18320666
L18: Larven soll Box 2 [g] | Q18: Frass (trocken) ist Box 1 [g] | R18: =R2*(V7/100) -> 28.840454 | S18: =AVERAGE(R18:R20) -> 28.40087 | T18: =_xlfn.STDEV.P(R18:R20) -> 0.78319149 | Y18: Larven geerntet (trocken) Box 1 [g] | Z18: =Z2*(AD7/100) -> 4.168833 | AA18: =AVERAGE(Z18:Z20) -> 4.8871264 | AB18: =_xlfn.STDEV.P(Z18:Z20) -> 1.357374 | AC18: Hier muss noch das eingesetzte Gewicht subtrahiert werden! | AG18: Waste reduction index Box 2 [%/d] | AH18: =AH13/10 -> 3.613745
A19: Box 2 | L19: Larven soll Box 3 [g] | Q19: Frass (trocken) ist Box 2 [g] | R19: =R3*(V10/100) -> 27.300648 | Y19: Larven geerntet (trocken) Box 2 [g] | Z19: =Z3*(AD10/100) -> 6.7879401 | AG19: Waste reduction index Box 3 [%/d] | AH19: =AH14/10 -> 3.2018387
A20: Tag | B20: Datum | C20: Gewicht 25 Larven [mg] | D20: individuelles Gewicht [mg] | E20: Anzahl geflohene Larven | F20: Beobachtungen | I20: Einwaage Substrat soll [g] | J20: 146.84414 | L20: Larven ist Box 1 [g] | M20: =J7 -> 5.2281 | N20: =AVERAGE(M20:M22) -> 5.2286 | O20: =_xlfn.STDEV.P(M20:M22) -> 0.00085244746 | Q20: Frass (trocken) ist Box 3 [g] | R20: =R4*(V13/100) -> 29.061509 | Y20: Larven geerntet (trocken) Box 3 [g] | Z20: =Z4*(AD13/100) -> 3.7046061
A21: 0 | B21: 45321 | C21: 5.2298 | D21: =C21/A33*1000 -> 6.1167251 | I21: Einwaaage Weizenkleie soll [g] | J21: 9.7199591 | L21: Larven ist Box 2 [g] | M21: =J25 -> 5.2298 | Y21: Initiales Larvengewicht (feucht) Box 1 [g] | Z21: =M20 -> 5.2281 | AA21: =AVERAGE(Z21:Z23) -> 5.2286 | AB21: =_xlfn.STDEV.P(Z21:Z23) -> 0.00085244746 | AH21: ECI | AI21: Mittelwert | AJ21: STABW
A22: 1 | B22: 45322 | C22: 0.2072 | D22: =C22/A$16*1000 -> 8.288 | I22: Einwaage Larven soll | J22: 5.2281825 | L22: Larven ist Box 3 [g] | M22: =J43 -> 5.2279 | Y22: Initiales Larvengewicht (feucht) Box 2 [g] | Z22: =M21 -> 5.2298 | AC22: Trockensubstanz Junglarven [%] | AD22: 22.966667 | AG22: Efficiency of conversion of the ingested feed Box 1 | AH22: =Z27/(M26-R18) -> 0.21340098 | AI22: =AVERAGE(AH22:AH24) -> 0.25265991 | AJ22: =_xlfn.STDEV.P(AH22:AH24) -> 0.078060612
A23: 2 | B23: 45323 | C23: 0.2403 | D23: =C23/A$16*1000 -> 9.612 | I23: Einwaage Substrat ist [g] | J23: 146.84 | L23: Larven ist Box 1 [Anzahl] | M23: =M20/'Berechnungen Fütterungsmenge'!$F$21 -> 854.98651 | N23: =AVERAGE(M23:M25) -> 855.06828 | O23: =_xlfn.STDEV.P(M23:M25) -> 0.13940649 | Y23: Initiales Larvengewicht (feucht) Box 3 [g] | Z23: =M22 -> 5.2279 | AG23: Efficiency of conversion of the ingested feed Box 2 | AH23: =Z28/(M27-R19) -> 0.36164396
A24: 3 | B24: 45324 | C24: 0.3042 | D24: =C24/A$16*1000 -> 12.168 | I24: Einwaaage Weizenkleie ist [g] | J24: 9.72 | L24: Larven ist Box 2 [Anzahl] | M24: =M21/'Berechnungen Fütterungsmenge'!$F$21 -> 855.26452 | Y24: Initiales Larvengewicht (trocken) Box 1 [g] | Z24: =Z21*(AD22/100) -> 1.2007203 | AA24: =AVERAGE(Z24:Z26) -> 1.2008351 | AB24: =_xlfn.STDEV.P(Z24:Z26) -> 0.00019577877 | AG24: Efficiency of conversion of the ingested feed Box 3 | AH24: =Z29/(M28-R20) -> 0.1829348
A25: 4 | B25: 45325 | C25: 0.3332 | D25: =C25/A$16*1000 -> 13.328 | I25: Larven Einwaage ist | J25: 5.2298 | L25: Larven ist Box 3 [Anzahl] | M25: =M22/'Berechnungen Fütterungsmenge'!$F$21 -> 854.9538 | Y25: Initiales Larvengewicht (trocken) Box 2 [g] | Z25: =Z22*(AD22/100) -> 1.2011107
A26: 5 | B26: 45326 | C26: 0.36 | D26: =C26/A$16*1000 -> 14.4 | L26: Gesamtmenge TS Box 1 [g] | M26: =M5*('Berechnungen Fütterungsmenge'!$F$5/100)+M11*('Berechnungen Fütterungsmenge'!$F$10/100) -> 42.749072 | N26: =AVERAGE(M26:M28) -> 42.749072 | O26: =_xlfn.STDEV.P(M26:M28) -> 0 | Y26: Initiales Larvengewicht (trocken) Box 3 [g] | Z26: =Z23*(AD22/100) -> 1.2006744 | AH26: Larval growth rate | AI26: Mittelwert | AJ26: STABW
A27: 6 | B27: 45327 | C27: 0.4991 | D27: =C27/A$16*1000 -> 19.964 | L27: Gesamtmenge TS Box 2 [g] | M27: =M6*('Berechnungen Fütterungsmenge'!$F$5/100)+M12*('Berechnungen Fütterungsmenge'!$F$10/100) -> 42.749072 | Y27: Larven geerntet-initial (trocken) Box 1 [g] | Z27: =Z18-Z24 -> 2.9681127 | AA27: =AVERAGE(Z27:Z29) -> 3.6862912 | AB27: =_xlfn.STDEV.P(Z27:Z29) -> 1.3571784 | AG27: Larval growth rate Box 1 [g/d] | AH27: =(Z18-Z24)/10 -> 0.29681127 | AI27: =AVERAGE(AH27:AH29) -> 0.36862912 | AJ27: =_xlfn.STDEV.P(AH27:AH29) -> 0.13571784
A28: 7 | B28: 45328 | C28: 0.6766 | D28: =C28/A$16*1000 -> 27.064 | L28: Gesamtmenge TS Box 3 [g] | M28: =M7*('Berechnungen Fütterungsmenge'!$F$5/100)+M13*('Berechnungen Fütterungsmenge'!$F$10/100) -> 42.749072 | Y28: Larven geerntet-initial (trocken) Box 2 [g] | Z28: =Z19-Z25 -> 5.5868294 | AG28: Larval growth rate Box 2 [g/d] | AH28: =(Z19-Z25)/10 -> 0.55868294
A29: 8 | B29: 45329 | C29: 0.8453 | D29: =C29/A$16*1000 -> 33.812 | Y29: Larven geerntet-initial (trocken) Box 3 [g] | Z29: =Z20-Z26 -> 2.5039317 | AG29: Larval growth rate Box 3 [g/d] | AH29: =(Z20-Z26)/10 -> 0.25039317
A30: 9 | B30: 45330 | C30: 0.6447 | D30: =C30/A$16*1000 -> 25.788
A31: 10 | B31: 45331 | C31: 17.7448 | D31: =C31/D33*1000 -> 21.175179 | AD31: Einzelgewicht Larve [g] | AH31: Yield | AI31: Mittelwert | AJ31: STABW
AC32: Larven geerntet Einzelgewicht Box 1 [g] | AD32: =Z2/AC2 -> 0.021555578 | AG32: Yield Box 1 [g] | AH32: =Z27 -> 2.9681127 | AI32: =AVERAGE(AH32:AH34) -> 3.6862912 | AJ32: =_xlfn.STDEV.P(AH32:AH34) -> 1.3571784
A33: 855 | B33: Gesamtmenge | C33: Anzahl Larven an Tag 10 | D33: 838 | E33: Larven im Frass | F33: 3 | AG33: Yield Box 2 [g] | AH33: =Z28 -> 5.5868294
A34: 25 | B34: Tiere pro Tag gezählt | C34: Frass [g] | D34: 53.09 | AG34: Yield Box 3 [g] | AH34: =Z29 -> 2.5039317
AC35: Larven geerntet Einzelgewicht Box 2 [g] | AD35: =Z3/AC3 -> 0.021175179
AH36: LFW | AI36: Mittelwert | AJ36: STABW
A37: Box 3 | AG37: Larval final weight Box 1 [mg/Larve] | AH37: =Z18*1000/AC2 -> 8.387994 | AI37: =AVERAGE(AH37:AH39) -> 8.2124016 | AJ37: =_xlfn.STDEV.P(AH37:AH39) -> 0.13157741
A38: Tag | B38: Datum | C38: Gewicht 25 Larven [mg] | D38: individuelles Gewicht [mg] | E38: Anzahl geflohene Larven | F38: Beobachtungen | I38: Einwaage Substrat soll [g] | J38: 146.84414 | AC38: Larven geerntet Einzelgewicht Box [g] | AD38: =Z4/AC4 -> 0.021885651 | AG38: Larval final weight Box 2 [mg/Larve] | AH38: =Z19*1000/AC3 -> 8.0712724
A39: 0 | B39: 45321 | C39: 5.2279 | D39: =C39/A51*1000 -> 6.1145029 | I39: Einwaaage Weizenkleie soll [g] | J39: 9.7199591 | AG39: Larval final weight Box 3 [mg/Larve] | AH39: =Z20*1000/AC4 -> 8.1779383
A40: 1 | B40: 45322 | C40: 0.1728 | D40: =C40/A$16*1000 -> 6.912 | I40: Einwaage Larven soll | J40: 5.2281825
A41: 2 | B41: 45323 | C41: 0.2937 | D41: =C41/A$16*1000 -> 11.748 | I41: Einwaage Substrat ist [g] | J41: 146.84 | AH41: norm. Yield | AI41: Mittelwert | AJ41: STABW
A42: 3 | B42: 45324 | C42: 0.362 | D42: =C42/A$16*1000 -> 14.48 | I42: Einwaaage Weizenkleie ist [g] | J42: 9.72 | AG42: normalizied Yield Box 1 [mg/Larve] | AH42: =AH32*1000/M23 -> 3.4715316 | AI42: =AVERAGE(AH42:AH44) -> 4.3108491 | AJ42: =_xlfn.STDEV.P(AH42:AH44) -> 1.5863442
A43: 4 | B43: 45325 | C43: 0.3504 | D43: =C43/A$16*1000 -> 14.016 | I43: Larven Einwaage ist | J43: 5.2279 | AG43: normalizied Yield Box 2 [mg/Larve] | AH43: =AH33*1000/M24 -> 6.5322824
A44: 5 | B44: 45326 | C44: 0.3773 | D44: =C44/A$16*1000 -> 15.092 | AG44: normalizied Yield Box 3 [mg/Larve] | AH44: =AH34*1000/M25 -> 2.9287333
A45: 6 | B45: 45327 | C45: 0.5379 | D45: =C45/A$16*1000 -> 21.516
A46: 7 | B46: 45328 | C46: 0.7213 | D46: =C46/A$16*1000 -> 28.852 | AH46: norm. LGR | AI46: Mittelwert | AJ46: STABW
A47: 8 | B47: 45329 | C47: 0.7848 | D47: =C47/A$16*1000 -> 31.392 | AG47: normalizied Larval growth rate Box 1 [mg/d/Larve] | AH47: =AH27*1000/M23 -> 0.34715316 | AI47: =AVERAGE(AH47:AH49) -> 0.43108491 | AJ47: =_xlfn.STDEV.P(AH47:AH49) -> 0.15863442
A48: 9 | B48: 45330 | C48: 0.9676 | D48: =C48/A$16*1000 -> 38.704 | AG48: normalizied Larval growth rate Box 2 [mg/d/Larve] | AH48: =AH28*1000/M24 -> 0.65322824
A49: 10 | B49: 45331 | C49: 9.9142 | D49: =C49/D51*1000 -> 21.885651 | AG49: normalizied Larval growth rate Box 3 [mg/d/Larve] | AH49: =AH29*1000/M25 -> 0.29287333
A51: 855 | B51: Gesamtmenge | C51: Anzahl Larven an Tag 10 | D51: 453 | E51: Larven im Frass | F51: 0
A52: 25 | B52: Tiere pro Tag gezählt | C52: Frass [g] | D52: 57.98

Sheet 100 mg
A1: Box 1 | M1: Eiwaage [g] | N1: Mittelwert | O1: STABW | R1: Einwaage [g] | S1: Mittelwert | T1: STABW | Z1: Einwaage [g] | AA1: Mittelwert | AB1: STABW | AC1: Anzahl | AD1: Mittelwert | AE1: STABW | AH1: FCR DM/DM | AI1: Mittelwert | AJ1: STABW
A2: Tag | B2: Datum | C2: Gewicht 25 Larven [mg] | D2: individuelles Gewicht [mg] | E2: Anzahl geflohene Larven | F2: Beobachtungen | I2: Einwaage Substrat soll [g] | J2: =M2 -> 293.699 | L2: PigSLK soll Box 1 [g] | M2: 293.699 | N2: =AVERAGE(M2:M4) -> 293.699 | O2: =_xlfn.STDEV.P(M2:M4) -> 0 | Q2: Frass (feucht) ist Box 1 [g] | R2: =D16 -> 124.49 | S2: =AVERAGE(R2:R4) -> 132.12667 | T2: =_xlfn.STDEV.P(R2:R4) -> 7.7129343 | Y2: Larven geerntet (feucht) Box 1 [g] | Z2: =C13+F15*(D13/1000) -> 45.743197 | AA2: =AVERAGE(Z2:Z4) -> 43.076751 | AB2: =_xlfn.STDEV.P(Z2:Z4) -> 3.9125955 | AC2: =D15+F15 -> 994 | AD2: =AVERAGE(AC2:AC4) -> 875.66667 | AE2: =_xlfn.STDEV.P(AC2:AC4) -> 84.751926 | AG2: Feed Conversion Rate Box 1 | AH2: =M26/Z27 -> 5.9447921 | AI2: =AVERAGE(AH2:AH4) -> 6.8124487 | AJ2: =_xlfn.STDEV.P(AH2:AH4) -> 0.94678034
A3: 0 | B3: 45321 | C3: 5.2283 | D3: =C3/A15*1000 -> 6.1149708 | I3: Einwaaage Weizenkleie soll [g] | J3: =M8 -> 19.44 | L3: PigSLK soll Box 2 [g] | M3: 293.699 | Q3: Frass (feucht) ist Box 2 [g] | R3: =D34 -> 142.69 | Y3: Larven geerntet (feucht) Box 2 [g] | Z3: =C31+F33*(D31/1000) -> 37.5447 | AC3: =D33+F33 -> 833 | AG3: Feed Conversion Rate Box 2 | AH3: =M27/Z28 -> 8.1294352
A4: 1 | B4: 45322 | C4: 0.2149 | D4: =C4/A$16*1000 -> 8.596 | I4: Einwaage Larven soll | J4: 5.2281825 | L4: PigSLK soll Box 3 [g] | M4: 293.699 | Q4: Frass (feucht) ist Box 3 [g] | R4: =D52 -> 129.2 | Y4: Larven geerntet (feucht) Box 3 [g] | Z4: =C49+F51*(D49/1000) -> 45.942356 | AC4: =D51+F51 -> 800 | AG4: Feed Conversion Rate Box 3 | AH4: =M28/Z29 -> 6.3631187
A5: 2 | B5: 45323 | C5: 0.246 | D5: =C5/A$16*1000 -> 9.84 | I5: Einwaage Substrat ist [g] | J5: 293.69 | L5: PigSLK ist Box 1 [g] | M5: =J5 -> 293.69 | N5: =AVERAGE(M5:M7) -> 293.69 | O5: =_xlfn.STDEV.P(M5:M7) -> 0
A6: 3 | B6: 45324 | C6: 0.3786 | D6: =C6/A$16*1000 -> 15.144 | I6: Einwaaage Weizenkleie ist [g] | J6: 19.44 | L6: PigSLK ist Box 2 [g] | M6: =J23 -> 293.69 | R6: Wassergehalt [%] | S6: Mittelwert | T6: STABW | U6: Trockensubstanz [%] | V6: Mittelwert | W6: STABW | Z6: Wassergehalt [%] | AA6: Mittelwert | AB6: STABW | AC6: Trockensubstanz [%] | AD6: Mittelwert | AE6: STABW | AH6: Überlebensrate [%] | AI6: Mittelwert | AJ6: STABW
A7: 4 | B7: 45325 | C7: 0.3938 | D7: =C7/A$16*1000 -> 15.752 | I7: Larven Einwaage ist | J7: 5.2283 | L7: PigSLK ist Box 3 [g] | M7: =J41 -> 293.69 | Q7: Frass Box 1 Replikat 1 [%] | R7: 60.04 | S7: =AVERAGE(R7:R9) -> 58.693333 | T7: =_xlfn.STDEV.P(R7:R9) -> 1.1831408 | U7: =100-R7 -> 39.96 | V7: =AVERAGE(U7:U9) -> 41.306667 | W7: =_xlfn.STDEV.P(U7:U9) -> 1.1831408 | Y7: Larven geerntet Box 1 Replikat 1 [%] | Z7: 65.26 | AA7: =AVERAGE(Z7:Z9) -> 65.933333 | AB7: =_xlfn.STDEV.P(Z7:Z9) -> 0.84838408 | AC7: =100-Z7 -> 34.74 | AD7: =AVERAGE(AC7:AC9) -> 34.066667 | AE7: =_xlfn.STDEV.P(AC7:AC9) -> 0.84838408 | AG7: Überlebensrate Box 1 [%] | AH7: =AC2/M23*100 -> 116.2547 | AI7: =AVERAGE(AH7:AH9) -> 102.43802 | AJ7: =_xlfn.STDEV.P(AH7:AH9) -> 9.8964381
A8: 5 | B8: 45326 | C8: 0.4711 | D8: =C8/A$16*1000 -> 18.844 | L8: Weizenkleie soll Box 1 [g] | M8: 19.44 | N8: =AVERAGE(M8:M10) -> 19.44 | O8: =_xlfn.STDEV.P(M8:M10) -> 0 | Q8: Frass Box 1 Replikat 2 [%] | R8: 58.88 | U8: =100-R8 -> 41.12 | Y8: Larven geerntet Box 1 Replikat 2 [%] | Z8: 67.13 | AC8: =100-Z8 -> 32.87 | AG8: Überlebensrate Box 2 [%] | AH8: =AC3/M24*100 -> 97.461994
A9: 6 | B9: 45327 | C9: 0.7252 | D9: =C9/A$16*1000 -> 29.008 | I9: Futter pro Tier in g | J9: 0.1 | L9: Weizenkleie soll Box 2 [g] | M9: 19.44 | Q9: Frass Box 1 Replikat 3 [%] | R9: 57.16 | U9: =100-R9 -> 42.84 | Y9: Larven geerntet Box 1 Replikat 3 [%] | Z9: 65.41 | AC9: =100-Z9 -> 34.59 | AG9: Überlebensrate Box 3 [%] | AH9: =AC4/M25*100 -> 93.597372
A10: 7 | B10: 45328 | C10: 1.3277 | D10: =C10/A$16*1000 -> 53.108 | L10: Weizenkleie soll Box 3 [g] | M10: 19.44 | Q10: Frass Box 2 Replikat 1 [%] | R10: 60.53 | S10: =AVERAGE(R10:R12) -> 61.873333 | T10: =_xlfn.STDEV.P(R10:R12) -> 0.98624991 | U10: =100-R10 -> 39.47 | V10: =AVERAGE(U10:U12) -> 38.126667 | W10: =_xlfn.STDEV.P(U10:U12) -> 0.98624991 | Y10: Larven geerntet Box 2 Replikat 1 [%] | Z10: 70.15 | AA10: =AVERAGE(Z10:Z12) -> 68.79 | AB10: =_xlfn.STDEV.P(Z10:Z12) -> 0.98661036 | AC10: =100-Z10 -> 29.85 | AD10: =AVERAGE(AC10:AC12) -> 31.21 | AE10: =_xlfn.STDEV.P(AC10:AC12) -> 0.98661036
A11: 8 | B11: 45329 | C11: 1.7356 | D11: =C11/A$16*1000 -> 69.424 | L11: Weizenkleie ist Box 1 [g] | M11: =J6 -> 19.44 | N11: =AVERAGE(M11:M13) -> 19.44 | O11: =_xlfn.STDEV.P(M11:M13) -> 0 | Q11: Frass Box 2 Replikat 2 [%] | R11: 62.87 | U11: =100-R11 -> 37.13 | Y11: Larven geerntet Box 2 Replikat 2 [%] | Z11: 68.38 | AC11: =100-Z11 -> 31.62 | AH11: Substratreduction [%] | AI11: Mittelwert | AJ11: STABW
A12: 9 | B12: 45330 | C12: 1.4824 | D12: =C12/A$16*1000 -> 59.296 | L12: Weizenkleie ist Box 2 [g] | M12: =J24 -> 19.44 | Q12: Frass Box 2 Replikat 3 [%] | R12: 62.22 | U12: =100-R12 -> 37.78 | Y12: Larven geerntet Box 2 Replikat 3 [%] | Z12: 67.84 | AC12: =100-Z12 -> 32.16 | AG12: Substratreduction Box 1 [%] | AH12: =(M26-R18)/M26*100 -> 39.85686 | AI12: =AVERAGE(AH12:AH14) -> 39.944562 | AJ12: =_xlfn.STDEV.P(AH12:AH14) -> 2.9541084
A13: 10 | B13: 45331 | C13: 45.5131 | D13: =C13/D15*1000 -> 46.019312 | L13: Weizenkleie ist Box 3 [g] | M13: =J42 -> 19.44 | Q13: Frass Box 3 Replikat 1 [%] | R13: 61.24 | S13: =AVERAGE(R13:R15) -> 62.68 | T13: =_xlfn.STDEV.P(R13:R15) -> 1.855658 | U13: =100-R13 -> 38.76 | V13: =AVERAGE(U13:U15) -> 37.32 | W13: =_xlfn.STDEV.P(U13:U15) -> 1.855658 | Y13: Larven geerntet Box 3 Replikat 1 [%] | Z13: 67.07 | AA13: =AVERAGE(Z13:Z15) -> 68.14 | AB13: =_xlfn.STDEV.P(Z13:Z15) -> 1.1588212 | AC13: =100-Z13 -> 32.93 | AD13: =AVERAGE(AC13:AC15) -> 31.86 | AE13: =_xlfn.STDEV.P(AC13:AC15) -> 1.1588212 | AG13: Substratreduction Box 2 [%] | AH13: =(M27-R19)/M27*100 -> 36.371182
L14: Gesamtmenge Box 1 [g] | M14: =M5+M11 -> 313.13 | N14: =AVERAGE(M14:M16) -> 313.13 | O14: =_xlfn.STDEV.P(M14:M16) -> 0 | Q14: Frass Box 3 Replikat 2 [%] | R14: 61.5 | U14: =100-R14 -> 38.5 | Y14: Larven geerntet Box 3 Replikat 2 [%] | Z14: 69.75 | AC14: =100-Z14 -> 30.25 | AG14: Substratreduction Box 3 [%] | AH14: =(M28-R20)/M28*100 -> 43.605645
A15: 855 | B15: Gesamtmenge | C15: Anzahl Larven an Tag 10 | D15: 989 | E15: Larven im Frass | F15: 5 | L15: Gesamtmenge Box 2 [g] | M15: =M6+M12 -> 313.13 | Q15: Frass Box 3 Replikat 3 [%] | R15: 65.3 | U15: =100-R15 -> 34.7 | Y15: Larven geerntet Box 3 Replikat 3 [%] | Z15: 67.6 | AC15: =100-Z15 -> 32.4
A16: 25 | B16: Tiere pro Tag gezählt | C16: Frass [g] | D16: 124.49 | L16: Gesamtmenge Box 3 [g] | M16: =M7+M13 -> 313.13 | AH16: Waste reduction index | AI16: Mittelwert | AJ16: STABW
L17: Larven soll Box 1 [g] | M17: 5.2281825 | N17: =AVERAGE(M17:M19) -> 5.2281825 | O17: =_xlfn.STDEV.P(M17:M19) -> 0 | R17: Einwaage [g] | S17: Mittelwert | T17: STABW | Z17: Einwaage [g] | AA17: Mittelwert | AB17: STABW | AG17: Waste reduction index Box 1 [%/d] | AH17: =AH12/10 -> 3.985686 | AI17: =AVERAGE(AH17:AH19) -> 3.9944562 | AJ17: =_xlfn.STDEV.P(AH17:AH19) -> 0.29541084
L18: Larven soll Box 2 [g] | M18: 5.2281825 | Q18: Frass (trocken) ist Box 1 [g] | R18: =R2*(V7/100) -> 51.422669 | S18: =AVERAGE(R18:R20) -> 51.347683 | T18: =_xlfn.STDEV.P(R18:R20) -> 2.5257767 | Y18: Larven geerntet (trocken) Box 1 [g] | Z18: =Z2*(AD7/100) -> 15.583182 | AA18: =AVERAGE(Z18:Z20) -> 13.979373 | AB18: =_xlfn.STDEV.P(Z18:Z20) -> 1.6452099 | AC18: Hier muss noch das eingesetzte Gewicht subtrahiert werden! | AG18: Waste reduction index Box 2 [%/d] | AH18: =AH13/10 -> 3.6371182
A19: Box 2 | L19: Larven soll Box 3 [g] | M19: 5.2281825 | Q19: Frass (trocken) ist Box 2 [g] | R19: =R3*(V10/100) -> 54.402941 | Y19: Larven geerntet (trocken) Box 2 [g] | Z19: =Z3*(AD10/100) -> 11.717701 | AG19: Waste reduction index Box 3 [%/d] | AH19: =AH14/10 -> 4.3605645
A20: Tag | B20: Datum | C20: Gewicht 25 Larven [mg] | D20: individuelles Gewicht [mg] | E20: Anzahl geflohene Larven | F20: Beobachtungen | I20: Einwaage Substrat soll [g] | J20: =M2 -> 293.699 | L20: Larven ist Box 1 [g] | M20: =J7 -> 5.2283 | N20: =AVERAGE(M20:M22) -> 5.2270333 | O20: =_xlfn.STDEV.P(M20:M22) -> 0.0008993825 | Q20: Frass (trocken) ist Box 3 [g] | R20: =R4*(V13/100) -> 48.21744 | Y20: Larven geerntet (trocken) Box 3 [g] | Z20: =Z4*(AD13/100) -> 14.637235
A21: 0 | B21: 45321 | C21: 5.2263 | D21: =C21/A33*1000 -> 6.1126316 | I21: Einwaaage Weizenkleie soll [g] | J21: =M8 -> 19.44 | L21: Larven ist Box 2 [g] | M21: =J25 -> 5.2263 | Y21: Initiales Larvengewicht (feucht) Box 1 [g] | Z21: =M20 -> 5.2283 | AA21: =AVERAGE(Z21:Z23) -> 5.2270333 | AB21: =_xlfn.STDEV.P(Z21:Z23) -> 0.0008993825 | AH21: ECI | AI21: Mittelwert | AJ21: STABW
A22: 1 | B22: 45322 | C22: 0.1876 | D22: =C22/A$16*1000 -> 7.504 | I22: Einwaage Larven soll | J22: 5.2281825 | L22: Larven ist Box 3 [g] | M22: =J43 -> 5.2265 | Y22: Initiales Larvengewicht (feucht) Box 2 [g] | Z22: =M21 -> 5.2263 | AC22: Trockensubstanz Junglarven [%] | AD22: 22.966667 | AG22: Efficiency of conversion of the ingested feed Box 1 | AH22: =Z27/(M26-R18) -> 0.42204645 | AI22: =AVERAGE(AH22:AH24) -> 0.37355174 | AJ22: =_xlfn.STDEV.P(AH22:AH24) -> 0.035467932
A23: 2 | B23: 45323 | C23: 0.2236 | D23: =C23/A$16*1000 -> 8.944 | I23: Einwaage Substrat ist [g] | J23: 293.69 | L23: Larven ist Box 1 [Anzahl] | M23: =M20/'Berechnungen Fütterungsmenge'!$F$21 -> 855.01922 | N23: =AVERAGE(M23:M25) -> 854.81207 | O23: =_xlfn.STDEV.P(M23:M25) -> 0.1470821 | Y23: Initiales Larvengewicht (feucht) Box 3 [g] | Z23: =M22 -> 5.2265 | AG23: Efficiency of conversion of the ingested feed Box 2 | AH23: =Z28/(M27-R19) -> 0.33820671
A24: 3 | B24: 45324 | C24: 0.3183 | D24: =C24/A$16*1000 -> 12.732 | I24: Einwaaage Weizenkleie ist [g] | J24: 19.44 | L24: Larven ist Box 2 [Anzahl] | M24: =M21/'Berechnungen Fütterungsmenge'!$F$21 -> 854.69214 | Y24: Initiales Larvengewicht (trocken) Box 1 [g] | Z24: =Z21*(AD22/100) -> 1.2007662 | AA24: =AVERAGE(Z24:Z26) -> 1.2004753 | AB24: =_xlfn.STDEV.P(Z24:Z26) -> 0.00020655818 | AG24: Efficiency of conversion of the ingested feed Box 3 | AH24: =Z29/(M28-R20) -> 0.36040206
A25: 4 | B25: 45325 | C25: 0.3474 | D25: =C25/A$16*1000 -> 13.896 | I25: Larven Einwaage ist | J25: 5.2263 | L25: Larven ist Box 3 [Anzahl] | M25: =M22/'Berechnungen Fütterungsmenge'!$F$21 -> 854.72485 | Y25: Initiales Larvengewicht (trocken) Box 2 [g] | Z25: =Z22*(AD22/100) -> 1.2003069
A26: 5 | B26: 45326 | C26: 0.4048 | D26: =C26/A$16*1000 -> 16.192 | L26: Gesamtmenge TS Box 1 [g] | M26: =M5*('Berechnungen Fütterungsmenge'!$F$5/100)+M11*('Berechnungen Fütterungsmenge'!$F$10/100) -> 85.500473 | N26: =AVERAGE(M26:M28) -> 85.500473 | O26: =_xlfn.STDEV.P(M26:M28) -> 0 | Y26: Initiales Larvengewicht (trocken) Box 3 [g] | Z26: =Z23*(AD22/100) -> 1.2003528 | AH26: Larval growth rate | AI26: Mittelwert | AJ26: STABW
A27: 6 | B27: 45327 | C27: 0.5463 | D27: =C27/A$16*1000 -> 21.852 | L27: Gesamtmenge TS Box 2 [g] | M27: =M6*('Berechnungen Fütterungsmenge'!$F$5/100)+M12*('Berechnungen Fütterungsmenge'!$F$10/100) -> 85.500473 | Y27: Larven geerntet-initial (trocken) Box 1 [g] | Z27: =Z18-Z24 -> 14.382416 | AA27: =AVERAGE(Z27:Z29) -> 12.778897 | AB27: =_xlfn.STDEV.P(Z27:Z29) -> 1.6450545 | AG27: Larval growth rate Box 1 [g/d] | AH27: =(Z18-Z24)/10 -> 1.4382416 | AI27: =AVERAGE(AH27:AH29) -> 1.2778897 | AJ27: =_xlfn.STDEV.P(AH27:AH29) -> 0.16450545
A28: 7 | B28: 45328 | C28: 1.199 | D28: =C28/A$16*1000 -> 47.96 | L28: Gesamtmenge TS Box 3 [g] | M28: =M7*('Berechnungen Fütterungsmenge'!$F$5/100)+M13*('Berechnungen Fütterungsmenge'!$F$10/100) -> 85.500473 | Y28: Larven geerntet-initial (trocken) Box 2 [g] | Z28: =Z19-Z25 -> 10.517394 | AG28: Larval growth rate Box 2 [g/d] | AH28: =(Z19-Z25)/10 -> 1.0517394
A29: 8 | B29: 45329 | C29: 1.8522 | D29: =C29/A$16*1000 -> 74.088 | Y29: Larven geerntet-initial (trocken) Box 3 [g] | Z29: =Z20-Z26 -> 13.436882 | AG29: Larval growth rate Box 3 [g/d] | AH29: =(Z20-Z26)/10 -> 1.3436882
A30: 9 | B30: 45330 | C30: 1.6302 | D30: =C30/A$16*1000 -> 65.208
A31: 10 | B31: 45331 | C31: 37.5447 | D31: =C31/D33*1000 -> 45.071669 | AD31: Einzelgewicht Larve [g] | AH31: Yield | AI31: Mittelwert | AJ31: STABW
AC32: Larven geerntet Einzelgewicht Box 1 [g] | AD32: =Z2/AC2 -> 0.046019312 | AG32: Yield Box 1 [g] | AH32: =Z27 -> 14.382416 | AI32: =AVERAGE(AH32:AH34) -> 12.778897 | AJ32: =_xlfn.STDEV.P(AH32:AH34) -> 1.6450545
A33: 855 | B33: Gesamtmenge | C33: Anzahl Larven an Tag 10 | D33: 833 | E33: Larven im Frass | F33: 0 | AG33: Yield Box 2 [g] | AH33: =Z28 -> 10.517394
A34: 25 | B34: Tiere pro Tag gezählt | C34: Frass [g] | D34: 142.69 | AG34: Yield Box 3 [g] | AH34: =Z29 -> 13.436882
AC35: Larven geerntet Einzelgewicht Box 2 [g] | AD35: =Z3/AC3 -> 0.045071669
AH36: LFW | AI36: Mittelwert | AJ36: STABW
A37: Box 3 | AG37: Larval final weight Box 1 [mg/Larve] | AH37: =Z18*1000/AC2 -> 15.677246 | AI37: =AVERAGE(AH37:AH39) -> 16.013552 | AJ37: =_xlfn.STDEV.P(AH37:AH39) -> 1.7430558
A38: Tag | B38: Datum | C38: Gewicht 25 Larven [mg] | D38: individuelles Gewicht [mg] | E38: Anzahl geflohene Larven | F38: Beobachtungen | I38: Einwaage Substrat soll [g] | J38: =M2 -> 293.699 | AC38: Larven geerntet Einzelgewicht Box [g] | AD38: =Z4/AC4 -> 0.057427945 | AG38: Larval final weight Box 2 [mg/Larve] | AH38: =Z19*1000/AC3 -> 14.066868
A39: 0 | B39: 45321 | C39: 5.2265 | D39: =C39/A51*1000 -> 6.1128655 | I39: Einwaaage Weizenkleie soll [g] | J39: =M8 -> 19.44 | AG39: Larval final weight Box 3 [mg/Larve] | AH39: =Z20*1000/AC4 -> 18.296543
A40: 1 | B40: 45322 | C40: 0.1603 | D40: =C40/A$16*1000 -> 6.412 | I40: Einwaage Larven soll | J40: 5.2281825
A41: 2 | B41: 45323 | C41: 0.2572 | D41: =C41/A$16*1000 -> 10.288 | I41: Einwaage Substrat ist [g] | J41: 293.69 | AH41: norm. Yield | AI41: Mittelwert | AJ41: STABW
A42: 3 | B42: 45324 | C42: 0.3743 | D42: =C42/A$16*1000 -> 14.972 | I42: Einwaaage Weizenkleie ist [g] | J42: 19.44 | AG42: normalizied Yield Box 1 [mg/Larve] | AH42: =AH32*1000/M23 -> 16.821161 | AI42: =AVERAGE(AH42:AH44) -> 14.949116 | AJ42: =_xlfn.STDEV.P(AH42:AH44) -> 1.9225627
A43: 4 | B43: 45325 | C43: 0.3873 | D43: =C43/A$16*1000 -> 15.492 | I43: Larven Einwaage ist | J43: 5.2265 | AG43: normalizied Yield Box 2 [mg/Larve] | AH43: =AH33*1000/M24 -> 12.305476
A44: 5 | B44: 45326 | C44: 0.484 | D44: =C44/A$16*1000 -> 19.36 | AG44: normalizied Yield Box 3 [mg/Larve] | AH44: =AH34*1000/M25 -> 15.72071
A45: 6 | B45: 45327 | C45: 0.8301 | D45: =C45/A$16*1000 -> 33.204
A46: 7 | B46: 45328 | C46: 1.4186 | D46: =C46/A$16*1000 -> 56.744 | AH46: norm. LGR | AI46: Mittelwert | AJ46: STABW
A47: 8 | B47: 45329 | C47: 1.7293 | D47: =C47/A$16*1000 -> 69.172 | AG47: normalizied Larval growth rate Box 1 [mg/d/Larve] | AH47: =AH27*1000/M23 -> 1.6821161 | AI47: =AVERAGE(AH47:AH49) -> 1.4949116 | AJ47: =_xlfn.STDEV.P(AH47:AH49) -> 0.19225627
A48: 9 | B48: 45330 | C48: 1.8309 | D48: =C48/A$16*1000 -> 73.236 | AG48: normalizied Larval growth rate Box 2 [mg/d/Larve] | AH48: =AH28*1000/M24 -> 1.2305476
A49: 10 | B49: 45331 | C49: 45.8275 | D49: =C49/D51*1000 -> 57.427945 | AG49: normalizied Larval growth rate Box 3 [mg/d/Larve] | AH49: =AH29*1000/M25 -> 1.572071
A51: 855 | B51: Gesamtmenge | C51: Anzahl Larven an Tag 10 | D51: 798 | E51: Larven im Frass | F51: 2
A52: 25 | B52: Tiere pro Tag gezählt | C52: Frass [g] | D52: 129.2

Sheet 150 mg
A1: Box 1 | M1: Eiwaage [g] | N1: Mittelwert | O1: STABW | R1: Einwaage [g] | S1: Mittelwert | T1: STABW | Z1: Einwaage [g] | AA1: Mittelwert | AB1: STABW | AC1: Anzahl | AD1: Mittelwert | AE1: STABW | AH1: FCR DM/DM | AI1: Mittelwert | AJ1: STABW
A2: Tag | B2: Datum | C2: Gewicht 25 Larven [mg] | D2: individuelles Gewicht [mg] | E2: Anzahl geflohene Larven | F2: Beobachtungen | I2: Einwaage Substrat soll [g] | J2: =M2 -> 440.532 | L2: PigSLK soll Box 1 [g] | M2: 440.532 | N2: =AVERAGE(M2:M4) -> 440.532 | O2: =_xlfn.STDEV.P(M2:M4) -> 0 | Q2: Frass (feucht) ist Box 1 [g] | R2: =D16 -> 241.84 | S2: =AVERAGE(R2:R4) -> 241.06 | T2: =_xlfn.STDEV.P(R2:R4) -> 5.3358098 | Y2: Larven geerntet (feucht) Box 1 [g] | Z2: =C13+F15*(D13/1000) -> 54.226202 | AA2: =AVERAGE(Z2:Z4) -> 56.823524 | AB2: =_xlfn.STDEV.P(Z2:Z4) -> 2.1520745 | AC2: =D15+F15 -> 787 | AD2: =AVERAGE(AC2:AC4) -> 782 | AE2: =_xlfn.STDEV.P(AC2:AC4) -> 62.561969 | AG2: Feed Conversion Rate Box 1 | AH2: =M26/Z27 -> 8.560906 | AI2: =AVERAGE(AH2:AH4) -> 8.1360655 | AJ2: =_xlfn.STDEV.P(AH2:AH4) -> 0.30440974
A3: 0 | B3: 45321 | C3: 5.2261 | D3: =C3/A15*1000 -> 6.1123977 | I3: Einwaaage Weizenkleie soll [g] | J3: =M8 -> 29.16 | L3: PigSLK soll Box 2 [g] | M3: 440.532 | Q3: Frass (feucht) ist Box 2 [g] | R3: =D34 -> 234.17 | Y3: Larven geerntet (feucht) Box 2 [g] | Z3: =C31+F33*(D31/1000) -> 56.748292 | AC3: =D33+F33 -> 703 | AG3: Feed Conversion Rate Box 2 | AH3: =M27/Z28 -> 7.8633887
A4: 1 | B4: 45322 | C4: 0.2184 | D4: =C4/A$16*1000 -> 8.736 | I4: Einwaage Larven soll | J4: 5.2281825 | L4: PigSLK soll Box 3 [g] | M4: 440.532 | Q4: Frass (feucht) ist Box 3 [g] | R4: =D52 -> 247.17 | Y4: Larven geerntet (feucht) Box 3 [g] | Z4: =C49+F51*(D49/1000) -> 59.496076 | AC4: =D51+F51 -> 856 | AG4: Feed Conversion Rate Box 3 | AH4: =M28/Z29 -> 7.9839019
A5: 2 | B5: 45323 | C5: 0.2732 | D5: =C5/A$16*1000 -> 10.928 | I5: Einwaage Substrat ist [g] | J5: 440.53 | L5: PigSLK ist Box 1 [g] | M5: =J5 -> 440.53 | N5: =AVERAGE(M5:M7) -> 440.53 | O5: =_xlfn.STDEV.P(M5:M7) -> 0
A6: 3 | B6: 45324 | C6: 0.4352 | D6: =C6/A$16*1000 -> 17.408 | I6: Einwaaage Weizenkleie ist [g] | J6: 29.16 | L6: PigSLK ist Box 2 [g] | M6: =J23 -> 440.53 | R6: Wassergehalt [%] | S6: Mittelwert | T6: STABW | U6: Trockensubstanz [%] | V6: Mittelwert | W6: STABW | Z6: Wassergehalt [%] | AA6: Mittelwert | AB6: STABW | AC6: Trockensubstanz [%] | AD6: Mittelwert | AE6: STABW | AH6: Überlebensrate [%] | AI6: Mittelwert | AJ6: STABW
A7: 4 | B7: 45325 | C7: 0.3687 | D7: =C7/A$16*1000 -> 14.748 | I7: Larven Einwaage ist | J7: 5.2261 | L7: PigSLK ist Box 3 [g] | M7: =J41 -> 440.53 | Q7: Frass Box 1 Replikat 1 [%] | R7: 66.96 | S7: =AVERAGE(R7:R9) -> 67.72 | T7: =_xlfn.STDEV.P(R7:R9) -> 0.7439086 | U7: =100-R7 -> 33.04 | V7: =AVERAGE(U7:U9) -> 32.28 | W7: =_xlfn.STDEV.P(U7:U9) -> 0.7439086 | Y7: Larven geerntet Box 1 Replikat 1 [%] | Z7: 70.59 | AA7: =AVERAGE(Z7:Z9) -> 70.16 | AB7: =_xlfn.STDEV.P(Z7:Z9) -> 0.40898248 | AC7: =100-Z7 -> 29.41 | AD7: =AVERAGE(AC7:AC9) -> 29.84 | AE7: =_xlfn.STDEV.P(AC7:AC9) -> 0.40898248 | AG7: Überlebensrate Box 1 [%] | AH7: =AC2/M23*100 -> 92.083462 | AI7: =AVERAGE(AH7:AH9) -> 91.483228 | AJ7: =_xlfn.STDEV.P(AH7:AH9) -> 7.3393131
A8: 5 | B8: 45326 | C8: 0.5334 | D8: =C8/A$16*1000 -> 21.336 | L8: Weizenkleie soll Box 1 [g] | M8: 29.16 | N8: =AVERAGE(M8:M10) -> 29.16 | O8: =_xlfn.STDEV.P(M8:M10) -> 0 | Q8: Frass Box 1 Replikat 2 [%] | R8: 67.47 | U8: =100-R8 -> 32.53 | Y8: Larven geerntet Box 1 Replikat 2 [%] | Z8: 70.28 | AC8: =100-Z8 -> 29.72 | AG8: Überlebensrate Box 2 [%] | AH8: =AC3/M24*100 -> 82.209368
A9: 6 | B9: 45327 | C9: 1.2898 | D9: =C9/A$16*1000 -> 51.592 | I9: Futter pro Tier in g | J9: 0.15 | L9: Weizenkleie soll Box 2 [g] | M9: 29.16 | Q9: Frass Box 1 Replikat 3 [%] | R9: 68.73 | U9: =100-R9 -> 31.27 | Y9: Larven geerntet Box 1 Replikat 3 [%] | Z9: 69.61 | AC9: =100-Z9 -> 30.39 | AG9: Überlebensrate Box 3 [%] | AH9: =AC4/M25*100 -> 100.15685
A10: 7 | B10: 45328 | C10: 1.4467 | D10: =C10/A$16*1000 -> 57.868 | L10: Weizenkleie soll Box 3 [g] | M10: 29.16 | Q10: Frass Box 2 Replikat 1 [%] | R10: 66.96 | S10: =AVERAGE(R10:R12) -> 67.663333 | T10: =_xlfn.STDEV.P(R10:R12) -> 0.5131818 | U10: =100-R10 -> 33.04 | V10: =AVERAGE(U10:U12) -> 32.336667 | W10: =_xlfn.STDEV.P(U10:U12) -> 0.5131818 | Y10: Larven geerntet Box 2 Replikat 1 [%] | Z10: 69.09 | AA10: =AVERAGE(Z10:Z12) -> 69.143333 | AB10: =_xlfn.STDEV.P(Z10:Z12) -> 1.1437171 | AC10: =100-Z10 -> 30.91 | AD10: =AVERAGE(AC10:AC12) -> 30.856667 | AE10: =_xlfn.STDEV.P(AC10:AC12) -> 1.1437171
A11: 8 | B11: 45329 | C11: 1.7812 | D11: =C11/A$16*1000 -> 71.248 | L11: Weizenkleie ist Box 1 [g] | M11: =J6 -> 29.16 | N11: =AVERAGE(M11:M13) -> 29.16 | O11: =_xlfn.STDEV.P(M11:M13) -> 0 | Q11: Frass Box 2 Replikat 2 [%] | R11: 67.86 | U11: =100-R11 -> 32.14 | Y11: Larven geerntet Box 2 Replikat 2 [%] | Z11: 67.77 | AC11: =100-Z11 -> 32.23 | AH11: Substratreduction [%] | AI11: Mittelwert | AJ11: STABW
A12: 9 | B12: 45330 | C12: 2.2134 | D12: =C12/A$16*1000 -> 88.536 | L12: Weizenkleie ist Box 2 [g] | M12: =J24 -> 29.16 | Q12: Frass Box 2 Replikat 3 [%] | R12: 68.17 | U12: =100-R12 -> 31.83 | Y12: Larven geerntet Box 2 Replikat 3 [%] | Z12: 70.57 | AC12: =100-Z12 -> 29.43 | AG12: Substratreduction Box 1 [%] | AH12: =(M26-R18)/M26*100 -> 39.129646 | AI12: =AVERAGE(AH12:AH14) -> 43.225229 | AJ12: =_xlfn.STDEV.P(AH12:AH14) -> 4.5615076
A13: 10 | B13: 45331 | C13: 54.1573 | D13: =C13/D15*1000 -> 68.902417 | L13: Weizenkleie ist Box 3 [g] | M13: =J42 -> 29.16 | Q13: Frass Box 3 Replikat 1 [%] | R13: 74.73 | S13: =AVERAGE(R13:R15) -> 73.843333 | T13: =_xlfn.STDEV.P(R13:R15) -> 0.83207906 | U13: =100-R13 -> 25.27 | V13: =AVERAGE(U13:U15) -> 26.156667 | W13: =_xlfn.STDEV.P(U13:U15) -> 0.83207906 | Y13: Larven geerntet Box 3 Replikat 1 [%] | Z13: 70.82 | AA13: =AVERAGE(Z13:Z15) -> 70.983333 | AB13: =_xlfn.STDEV.P(Z13:Z15) -> 0.17745109 | AC13: =100-Z13 -> 29.18 | AD13: =AVERAGE(AC13:AC15) -> 29.016667 | AE13: =_xlfn.STDEV.P(AC13:AC15) -> 0.17745109 | AG13: Substratreduction Box 2 [%] | AH13: =(M27-R19)/M27*100 -> 40.956693
L14: Gesamtmenge Box 1 [g] | M14: =M5+M11 -> 469.69 | N14: =AVERAGE(M14:M16) -> 469.69 | O14: =_xlfn.STDEV.P(M14:M16) -> 0 | Q14: Frass Box 3 Replikat 2 [%] | R14: 74.07 | U14: =100-R14 -> 25.93 | Y14: Larven geerntet Box 3 Replikat 2 [%] | Z14: 70.9 | AC14: =100-Z14 -> 29.1 | AG14: Substratreduction Box 3 [%] | AH14: =(M28-R20)/M28*100 -> 49.589347
A15: 855 | B15: Gesamtmenge | C15: Anzahl Larven an Tag 10 | D15: 786 | E15: Larven im Frass | F15: 1 | L15: Gesamtmenge Box 2 [g] | M15: =M6+M12 -> 469.69 | Q15: Frass Box 3 Replikat 3 [%] | R15: 72.73 | U15: =100-R15 -> 27.27 | Y15: Larven geerntet Box 3 Replikat 3 [%] | Z15: 71.23 | AC15: =100-Z15 -> 28.77
A16: 25 | B16: Tiere pro Tag gezählt | C16: Frass [g] | D16: 241.84 | L16: Gesamtmenge Box 3 [g] | M16: =M7+M13 -> 469.69 | AH16: Waste reduction index | AI16: Mittelwert | AJ16: STABW
L17: Larven soll Box 1 [g] | M17: 5.2281825 | N17: =AVERAGE(M17:M19) -> 5.2281825 | O17: =_xlfn.STDEV.P(M17:M19) -> 0 | R17: Einwaage [g] | S17: Mittelwert | T17: STABW | Z17: Einwaage [g] | AA17: Mittelwert | AB17: STABW | AG17: Waste reduction index Box 1 [%/d] | AH17: =AH12/10 -> 3.9129646 | AI17: =AVERAGE(AH17:AH19) -> 4.3225229 | AJ17: =_xlfn.STDEV.P(AH17:AH19) -> 0.45615076
L18: Larven soll Box 2 [g] | M18: 5.2281825 | Q18: Frass (trocken) ist Box 1 [g] | R18: =R2*(V7/100) -> 78.065952 | S18: =AVERAGE(R18:R20) -> 72.813386 | T18: =_xlfn.STDEV.P(R18:R20) -> 5.8501127 | Y18: Larven geerntet (trocken) Box 1 [g] | Z18: =Z2*(AD7/100) -> 16.181099 | AA18: =AVERAGE(Z18:Z20) -> 16.985169 | AB18: =_xlfn.STDEV.P(Z18:Z20) -> 0.57742607 | AC18: Hier muss noch das eingesetzte Gewicht subtrahiert werden! | AG18: Waste reduction index Box 2 [%/d] | AH18: =AH13/10 -> 4.0956693
A19: Box 2 | L19: Larven soll Box 3 [g] | M19: 5.2281825 | Q19: Frass (trocken) ist Box 2 [g] | R19: =R3*(V10/100) -> 75.722772 | Y19: Larven geerntet (trocken) Box 2 [g] | Z19: =Z3*(AD10/100) -> 17.510631 | AG19: Waste reduction index Box 3 [%/d] | AH19: =AH14/10 -> 4.9589347
A20: Tag | B20: Datum | C20: Gewicht 25 Larven [mg] | D20: individuelles Gewicht [mg] | E20: Anzahl geflohene Larven | F20: Beobachtungen | I20: Einwaage Substrat soll [g] | J20: =M2 -> 440.532 | L20: Larven ist Box 1 [g] | M20: =J7 -> 5.2261 | N20: =AVERAGE(M20:M22) -> 5.2270667 | O20: =_xlfn.STDEV.P(M20:M22) -> 0.0013670731 | Q20: Frass (trocken) ist Box 3 [g] | R20: =R4*(V13/100) -> 64.651433 | Y20: Larven geerntet (trocken) Box 3 [g] | Z20: =Z4*(AD13/100) -> 17.263778
A21: 0 | B21: 45321 | C21: 5.229 | D21: =C21/A33*1000 -> 6.1157895 | I21: Einwaaage Weizenkleie soll [g] | J21: =M8 -> 29.16 | L21: Larven ist Box 2 [g] | M21: =J25 -> 5.229 | Y21: Initiales Larvengewicht (feucht) Box 1 [g] | Z21: =M20 -> 5.2261 | AA21: =AVERAGE(Z21:Z23) -> 5.2270667 | AB21: =_xlfn.STDEV.P(Z21:Z23) -> 0.0013670731 | AH21: ECI | AI21: Mittelwert | AJ21: STABW
A22: 1 | B22: 45322 | C22: 0.2052 | D22: =C22/A$16*1000 -> 8.208 | I22: Einwaage Larven soll | J22: 5.2281825 | L22: Larven ist Box 3 [g] | M22: =J43 -> 5.2261 | Y22: Initiales Larvengewicht (feucht) Box 2 [g] | Z22: =M21 -> 5.229 | AC22: Trockensubstanz Junglarven [%] | AD22: 22.966667 | AG22: Efficiency of conversion of the ingested feed Box 1 | AH22: =Z27/(M26-R18) -> 0.29852063 | AI22: =AVERAGE(AH22:AH24) -> 0.28720062 | AJ22: =_xlfn.STDEV.P(AH22:AH24) -> 0.024965435
A23: 2 | B23: 45323 | C23: 0.2758 | D23: =C23/A$16*1000 -> 11.032 | I23: Einwaage Substrat ist [g] | J23: 440.53 | L23: Larven ist Box 1 [Anzahl] | M23: =M20/'Berechnungen Fütterungsmenge'!$F$21 -> 854.65943 | N23: =AVERAGE(M23:M25) -> 854.81752 | O23: =_xlfn.STDEV.P(M23:M25) -> 0.2235667 | Y23: Initiales Larvengewicht (feucht) Box 3 [g] | Z23: =M22 -> 5.2261 | AG23: Efficiency of conversion of the ingested feed Box 2 | AH23: =Z28/(M27-R19) -> 0.31050269
A24: 3 | B24: 45324 | C24: 0.4111 | D24: =C24/A$16*1000 -> 16.444 | I24: Einwaaage Weizenkleie ist [g] | J24: 29.16 | L24: Larven ist Box 2 [Anzahl] | M24: =M21/'Berechnungen Fütterungsmenge'!$F$21 -> 855.13369 | Y24: Initiales Larvengewicht (trocken) Box 1 [g] | Z24: =Z21*(AD22/100) -> 1.200261 | AA24: =AVERAGE(Z24:Z26) -> 1.200483 | AB24: =_xlfn.STDEV.P(Z24:Z26) -> 0.00031397112 | AG24: Efficiency of conversion of the ingested feed Box 3 | AH24: =Z29/(M28-R20) -> 0.25257852
A25: 4 | B25: 45325 | C25: 0.4022 | D25: =C25/A$16*1000 -> 16.088 | I25: Larven Einwaage ist | J25: 5.229 | L25: Larven ist Box 3 [Anzahl] | M25: =M22/'Berechnungen Fütterungsmenge'!$F$21 -> 854.65943 | Y25: Initiales Larvengewicht (trocken) Box 2 [g] | Z25: =Z22*(AD22/100) -> 1.200927
A26: 5 | B26: 45326 | C26: 0.5818 | D26: =C26/A$16*1000 -> 23.272 | L26: Gesamtmenge TS Box 1 [g] | M26: =M5*('Berechnungen Fütterungsmenge'!$F$5/100)+M11*('Berechnungen Fütterungsmenge'!$F$10/100) -> 128.24955 | N26: =AVERAGE(M26:M28) -> 128.24955 | O26: =_xlfn.STDEV.P(M26:M28) -> 0 | Y26: Initiales Larvengewicht (trocken) Box 3 [g] | Z26: =Z23*(AD22/100) -> 1.200261 | AH26: Larval growth rate | AI26: Mittelwert | AJ26: STABW
A27: 6 | B27: 45327 | C27: 1.0963 | D27: =C27/A$16*1000 -> 43.852 | L27: Gesamtmenge TS Box 2 [g] | M27: =M6*('Berechnungen Fütterungsmenge'!$F$5/100)+M12*('Berechnungen Fütterungsmenge'!$F$10/100) -> 128.24955 | Y27: Larven geerntet-initial (trocken) Box 1 [g] | Z27: =Z18-Z24 -> 14.980838 | AA27: =AVERAGE(Z27:Z29) -> 15.784686 | AB27: =_xlfn.STDEV.P(Z27:Z29) -> 0.57722409 | AG27: Larval growth rate Box 1 [g/d] | AH27: =(Z18-Z24)/10 -> 1.4980838 | AI27: =AVERAGE(AH27:AH29) -> 1.5784686 | AJ27: =_xlfn.STDEV.P(AH27:AH29) -> 0.057722409
A28: 7 | B28: 45328 | C28: 1.6533 | D28: =C28/A$16*1000 -> 66.132 | L28: Gesamtmenge TS Box 3 [g] | M28: =M7*('Berechnungen Fütterungsmenge'!$F$5/100)+M13*('Berechnungen Fütterungsmenge'!$F$10/100) -> 128.24955 | Y28: Larven geerntet-initial (trocken) Box 2 [g] | Z28: =Z19-Z25 -> 16.309704 | AG28: Larval growth rate Box 2 [g/d] | AH28: =(Z19-Z25)/10 -> 1.6309704
A29: 8 | B29: 45329 | C29: 1.3963 | D29: =C29/A$16*1000 -> 55.852 | Y29: Larven geerntet-initial (trocken) Box 3 [g] | Z29: =Z20-Z26 -> 16.063517 | AG29: Larval growth rate Box 3 [g/d] | AH29: =(Z20-Z26)/10 -> 1.6063517
A30: 9 | B30: 45330 | C30: 1.7424 | D30: =C30/A$16*1000 -> 69.696
A31: 10 | B31: 45331 | C31: 56.4254 | D31: =C31/D33*1000 -> 80.723033 | AD31: Einzelgewicht Larve [g] | AH31: Yield | AI31: Mittelwert | AJ31: STABW
AC32: Larven geerntet Einzelgewicht Box 1 [g] | AD32: =Z2/AC2 -> 0.068902417 | AG32: Yield Box 1 [g] | AH32: =Z27 -> 14.980838 | AI32: =AVERAGE(AH32:AH34) -> 15.784686 | AJ32: =_xlfn.STDEV.P(AH32:AH34) -> 0.57722409
A33: 855 | B33: Gesamtmenge | C33: Anzahl Larven an Tag 10 | D33: 699 | E33: Larven im Frass | F33: 4 | AG33: Yield Box 2 [g] | AH33: =Z28 -> 16.309704
A34: 25 | B34: Tiere pro Tag gezählt | C34: Frass [g] | D34: 234.17 | AG34: Yield Box 3 [g] | AH34: =Z29 -> 16.063517
AC35: Larven geerntet Einzelgewicht Box 2 [g] | AD35: =Z3/AC3 -> 0.080723033
AH36: LFW | AI36: Mittelwert | AJ36: STABW
A37: Box 3 | AG37: Larval final weight Box 1 [mg/Larve] | AH37: =Z18*1000/AC2 -> 20.560481 | AI37: =AVERAGE(AH37:AH39) -> 21.878961 | AJ37: =_xlfn.STDEV.P(AH37:AH39) -> 2.1481482
A38: Tag | B38: Datum | C38: Gewicht 25 Larven [mg] | D38: individuelles Gewicht [mg] | E38: Anzahl geflohene Larven | F38: Beobachtungen | I38: Einwaage Substrat soll [g] | J38: =M2 -> 440.532 | AC38: Larven geerntet Einzelgewicht Box [g] | AD38: =Z4/AC4 -> 0.069504762 | AG38: Larval final weight Box 2 [mg/Larve] | AH38: =Z19*1000/AC3 -> 24.908437
A39: 0 | B39: 45321 | C39: 5.2261 | D39: =C39/A51*1000 -> 6.1123977 | I39: Einwaaage Weizenkleie soll [g] | J39: =M8 -> 29.16 | AG39: Larval final weight Box 3 [mg/Larve] | AH39: =Z20*1000/AC4 -> 20.167965
A40: 1 | B40: 45322 | C40: 0.1897 | D40: =C40/A$16*1000 -> 7.588 | I40: Einwaage Larven soll | J40: 5.2281825
A41: 2 | B41: 45323 | C41: 0.2777 | D41: =C41/A$16*1000 -> 11.108 | I41: Einwaage Substrat ist [g] | J41: 440.53 | AH41: norm. Yield | AI41: Mittelwert | AJ41: STABW
A42: 3 | B42: 45324 | C42: 0.3452 | D42: =C42/A$16*1000 -> 13.808 | I42: Einwaaage Weizenkleie ist [g] | J42: 29.16 | AG42: normalizied Yield Box 1 [mg/Larve] | AH42: =AH32*1000/M23 -> 17.52843 | AI42: =AVERAGE(AH42:AH44) -> 18.46545 | AJ42: =_xlfn.STDEV.P(AH42:AH44) -> 0.67218698
A43: 4 | B43: 45325 | C43: 0.3712 | D43: =C43/A$16*1000 -> 14.848 | I43: Larven Einwaage ist | J43: 5.2261 | AG43: normalizied Yield Box 2 [mg/Larve] | AH43: =AH33*1000/M24 -> 19.072695
A44: 5 | B44: 45326 | C44: 0.5711 | D44: =C44/A$16*1000 -> 22.844 | AG44: normalizied Yield Box 3 [mg/Larve] | AH44: =AH34*1000/M25 -> 18.795226
A45: 6 | B45: 45327 | C45: 1.2917 | D45: =C45/A$16*1000 -> 51.668
A46: 7 | B46: 45328 | C46: 2.1682 | D46: =C46/A$16*1000 -> 86.728 | AH46: norm. LGR | AI46: Mittelwert | AJ46: STABW
A47: 8 | B47: 45329 | C47: 1.9521 | D47: =C47/A$16*1000 -> 78.084 | AG47: normalizied Larval growth rate Box 1 [mg/d/Larve] | AH47: =AH27*1000/M23 -> 1.752843 | AI47: =AVERAGE(AH47:AH49) -> 1.846545 | AJ47: =_xlfn.STDEV.P(AH47:AH49) -> 0.067218698
A48: 9 | B48: 45330 | C48: 1.8226 | D48: =C48/A$16*1000 -> 72.904 | AG48: normalizied Larval growth rate Box 2 [mg/d/Larve] | AH48: =AH28*1000/M24 -> 1.9072695
A49: 10 | B49: 45331 | C49: 58.384 | D49: =C49/D51*1000 -> 69.504762 | AG49: normalizied Larval growth rate Box 3 [mg/d/Larve] | AH49: =AH29*1000/M25 -> 1.8795226
A51: 855 | B51: Gesamtmenge | C51: Anzahl Larven an Tag 10 | D51: 840 | E51: Larven im Frass | F51: 16
A52: 25 | B52: Tiere pro Tag gezählt | C52: Frass [g] | D52: 247.17

Sheet 200 mg
A1: Box 1 | M1: Eiwaage [g] | N1: Mittelwert | O1: STABW | R1: Einwaage [g] | S1: Mittelwert | T1: STABW | Z1: Einwaage [g] | AA1: Mittelwert | AB1: STABW | AC1: Anzahl | AD1: Mittelwert | AE1: STABW | AH1: FCR DM/DM | AI1: Mittelwert | AJ1: STABW
A2: Tag | B2: Datum | C2: Gewicht 25 Larven [mg] | D2: individuelles Gewicht [mg] | E2: Anzahl geflohene Larven | F2: Beobachtungen | I2: Einwaage Substrat soll [g] | J2: =M2 -> 587.377 | L2: PigSLK soll Box 1 [g] | M2: 587.377 | N2: =AVERAGE(M2:M4) -> 587.377 | O2: =_xlfn.STDEV.P(M2:M4) -> 0 | Q2: Frass (feucht) ist Box 1 [g] | R2: =D16 -> 333.01 | S2: =AVERAGE(R2:R4) -> 345.81 | T2: =_xlfn.STDEV.P(R2:R4) -> 13.326675 | Y2: Larven geerntet (feucht) Box 1 [g] | Z2: =C13+F15*(D13/1000) -> 68.431489 | AA2: =AVERAGE(Z2:Z4) -> 61.266945 | AB2: =_xlfn.STDEV.P(Z2:Z4) -> 5.1867747 | AC2: =D15+F15 -> 875 | AD2: =AVERAGE(AC2:AC4) -> 827.66667 | AE2: =_xlfn.STDEV.P(AC2:AC4) -> 45.638678 | AG2: Feed Conversion Rate Box 1 | AH2: =M26/Z27 -> 9.8023713 | AI2: =AVERAGE(AH2:AH4) -> 10.746697 | AJ2: =_xlfn.STDEV.P(AH2:AH4) -> 0.67291618
A3: 0 | B3: 45321 | C3: 5.2269 | D3: =C3/A15*1000 -> 6.1133333 | I3: Einwaaage Weizenkleie soll [g] | J3: =M8 -> 38.88 | L3: PigSLK soll Box 2 [g] | M3: 587.377 | Q3: Frass (feucht) ist Box 2 [g] | R3: =D34 -> 340.23 | Y3: Larven geerntet (feucht) Box 2 [g] | Z3: =C31+F33*(D31/1000) -> 59.047 | AC3: =D33+F33 -> 766 | AG3: Feed Conversion Rate Box 2 | AH3: =M27/Z28 -> 11.116826
A4: 1 | B4: 45322 | C4: 0.1801 | D4: =C4/A$16*1000 -> 7.204 | I4: Einwaage Larven soll | J4: 5.2281825 | L4: PigSLK soll Box 3 [g] | M4: 587.377 | Q4: Frass (feucht) ist Box 3 [g] | R4: =D52 -> 364.19 | Y4: Larven geerntet (feucht) Box 3 [g] | Z4: =C49+F51*(D49/1000) -> 56.322347 | AC4: =D51+F51 -> 842 | AG4: Feed Conversion Rate Box 3 | AH4: =M28/Z29 -> 11.320894
A5: 2 | B5: 45323 | C5: 0.2785 | D5: =C5/A$16*1000 -> 11.14 | I5: Einwaage Substrat ist [g] | J5: 587.38 | L5: PigSLK ist Box 1 [g] | M5: =J5 -> 587.38 | N5: =AVERAGE(M5:M7) -> 587.38 | O5: =_xlfn.STDEV.P(M5:M7) -> 0
A6: 3 | B6: 45324 | C6: 0.3945 | D6: =C6/A$16*1000 -> 15.78 | I6: Einwaaage Weizenkleie ist [g] | J6: 38.88 | L6: PigSLK ist Box 2 [g] | M6: =J23 -> 587.38 | R6: Wassergehalt [%] | S6: Mittelwert | T6: STABW | U6: Trockensubstanz [%] | V6: Mittelwert | W6: STABW | Z6: Wassergehalt [%] | AA6: Mittelwert | AB6: STABW | AC6: Trockensubstanz [%] | AD6: Mittelwert | AE6: STABW | AH6: Überlebensrate [%] | AI6: Mittelwert | AJ6: STABW
A7: 4 | B7: 45325 | C7: 0.4305 | D7: =C7/A$16*1000 -> 17.22 | I7: Larven Einwaage ist | J7: 5.2269 | L7: PigSLK ist Box 3 [g] | M7: =J41 -> 587.38 | Q7: Frass Box 1 Replikat 1 [%] | R7: 71.89 | S7: =AVERAGE(R7:R9) -> 71.386667 | T7: =_xlfn.STDEV.P(R7:R9) -> 0.38663793 | U7: =100-R7 -> 28.11 | V7: =AVERAGE(U7:U9) -> 28.613333 | W7: =_xlfn.STDEV.P(U7:U9) -> 0.38663793 | Y7: Larven geerntet Box 1 Replikat 1 [%] | Z7: 72.97 | AA7: =AVERAGE(Z7:Z9) -> 72.753333 | AB7: =_xlfn.STDEV.P(Z7:Z9) -> 0.16819301 | AC7: =100-Z7 -> 27.03 | AD7: =AVERAGE(AC7:AC9) -> 27.246667 | AE7: =_xlfn.STDEV.P(AC7:AC9) -> 0.16819301 | AG7: Überlebensrate Box 1 [%] | AH7: =AC2/M23*100 -> 102.36429 | AI7: =AVERAGE(AH7:AH9) -> 96.833787 | AJ7: =_xlfn.STDEV.P(AH7:AH9) -> 5.3308685
A8: 5 | B8: 45326 | C8: 0.4956 | D8: =C8/A$16*1000 -> 19.824 | L8: Weizenkleie soll Box 1 [g] | M8: 38.88 | N8: =AVERAGE(M8:M10) -> 38.88 | O8: =_xlfn.STDEV.P(M8:M10) -> 0 | Q8: Frass Box 1 Replikat 2 [%] | R8: 70.95 | U8: =100-R8 -> 29.05 | Y8: Larven geerntet Box 1 Replikat 2 [%] | Z8: 72.56 | AC8: =100-Z8 -> 27.44 | AG8: Überlebensrate Box 2 [%] | AH8: =AC3/M24*100 -> 89.631489
A9: 6 | B9: 45327 | C9: 1.005 | D9: =C9/A$16*1000 -> 40.2 | I9: Futter pro Tier in g | J9: 0.2 | L9: Weizenkleie soll Box 2 [g] | M9: 38.88 | Q9: Frass Box 1 Replikat 3 [%] | R9: 71.32 | U9: =100-R9 -> 28.68 | Y9: Larven geerntet Box 1 Replikat 3 [%] | Z9: 72.73 | AC9: =100-Z9 -> 27.27 | AG9: Überlebensrate Box 3 [%] | AH9: =AC4/M25*100 -> 98.50558
A10: 7 | B10: 45328 | C10: 1.9032 | D10: =C10/A$16*1000 -> 76.128 | L10: Weizenkleie soll Box 3 [g] | M10: 38.88 | Q10: Frass Box 2 Replikat 1 [%] | R10: 71.89 | S10: =AVERAGE(R10:R12) -> 71.05 | T10: =_xlfn.STDEV.P(R10:R12) -> 1.383257 | U10: =100-R10 -> 28.11 | V10: =AVERAGE(U10:U12) -> 28.95 | W10: =_xlfn.STDEV.P(U10:U12) -> 1.383257 | Y10: Larven geerntet Box 2 Replikat 1 [%] | Z10: 71.96 | AA10: =AVERAGE(Z10:Z12) -> 71.916667 | AB10: =_xlfn.STDEV.P(Z10:Z12) -> 0.47863231 | AC10: =100-Z10 -> 28.04 | AD10: =AVERAGE(AC10:AC12) -> 28.083333 | AE10: =_xlfn.STDEV.P(AC10:AC12) -> 0.47863231
A11: 8 | B11: 45329 | C11: 1.8796 | D11: =C11/A$16*1000 -> 75.184 | L11: Weizenkleie ist Box 1 [g] | M11: =J6 -> 38.88 | N11: =AVERAGE(M11:M13) -> 38.88 | O11: =_xlfn.STDEV.P(M11:M13) -> 0 | Q11: Frass Box 2 Replikat 2 [%] | R11: 72.16 | U11: =100-R11 -> 27.84 | Y11: Larven geerntet Box 2 Replikat 2 [%] | Z11: 72.48 | AC11: =100-Z11 -> 27.52 | AH11: Substratreduction [%] | AI11: Mittelwert | AJ11: STABW
A12: 9 | B12: 45330 | C12: 2.2977 | D12: =C12/A$16*1000 -> 91.908 | L12: Weizenkleie ist Box 2 [g] | M12: =J24 -> 38.88 | Q12: Frass Box 2 Replikat 3 [%] | R12: 69.1 | U12: =100-R12 -> 30.9 | Y12: Larven geerntet Box 2 Replikat 3 [%] | Z12: 71.31 | AC12: =100-Z12 -> 28.69 | AG12: Substratreduction Box 1 [%] | AH12: =(M26-R18)/M26*100 -> 44.277933 | AI12: =AVERAGE(AH12:AH14) -> 41.567353 | AJ12: =_xlfn.STDEV.P(AH12:AH14) -> 2.6201015
A13: 10 | B13: 45331 | C13: 67.493 | D13: =C13/D15*1000 -> 78.207416 | L13: Weizenkleie ist Box 3 [g] | M13: =J42 -> 38.88 | Q13: Frass Box 3 Replikat 1 [%] | R13: 69.1 | S13: =AVERAGE(R13:R15) -> 70.9 | T13: =_xlfn.STDEV.P(R13:R15) -> 1.4820931 | U13: =100-R13 -> 30.9 | V13: =AVERAGE(U13:U15) -> 29.1 | W13: =_xlfn.STDEV.P(U13:U15) -> 1.4820931 | Y13: Larven geerntet Box 3 Replikat 1 [%] | Z13: 71.34 | AA13: =AVERAGE(Z13:Z15) -> 71.05 | AB13: =_xlfn.STDEV.P(Z13:Z15) -> 0.36175498 | AC13: =100-Z13 -> 28.66 | AD13: =AVERAGE(AC13:AC15) -> 28.95 | AE13: =_xlfn.STDEV.P(AC13:AC15) -> 0.36175498 | AG13: Substratreduction Box 2 [%] | AH13: =(M27-R19)/M27*100 -> 42.399977
L14: Gesamtmenge Box 1 [g] | M14: =M5+M11 -> 626.26 | N14: =AVERAGE(M14:M16) -> 626.26 | O14: =_xlfn.STDEV.P(M14:M16) -> 0 | Q14: Frass Box 3 Replikat 2 [%] | R14: 70.87 | U14: =100-R14 -> 29.13 | Y14: Larven geerntet Box 3 Replikat 2 [%] | Z14: 71.27 | AC14: =100-Z14 -> 28.73 | AG14: Substratreduction Box 3 [%] | AH14: =(M28-R20)/M28*100 -> 38.02415
A15: 855 | B15: Gesamtmenge | C15: Anzahl Larven an Tag 10 | D15: 863 | E15: Larven im Frass | F15: 12 | L15: Gesamtmenge Box 2 [g] | M15: =M6+M12 -> 626.26 | Q15: Frass Box 3 Replikat 3 [%] | R15: 72.73 | U15: =100-R15 -> 27.27 | Y15: Larven geerntet Box 3 Replikat 3 [%] | Z15: 70.54 | AC15: =100-Z15 -> 29.46
A16: 25 | B16: Tiere pro Tag gezählt | C16: Frass [g] | D16: 333.01 | L16: Gesamtmenge Box 3 [g] | M16: =M7+M13 -> 626.26 | AH16: Waste reduction index | AI16: Mittelwert | AJ16: STABW
L17: Larven soll Box 1 [g] | M17: 5.2281825 | N17: =AVERAGE(M17:M19) -> 5.2281825 | O17: =_xlfn.STDEV.P(M17:M19) -> 0 | R17: Einwaage [g] | S17: Mittelwert | T17: STABW | Z17: Einwaage [g] | AA17: Mittelwert | AB17: STABW | AG17: Waste reduction index Box 1 [%/d] | AH17: =AH12/10 -> 4.4277933 | AI17: =AVERAGE(AH17:AH19) -> 4.1567353 | AJ17: =_xlfn.STDEV.P(AH17:AH19) -> 0.26201015
L18: Larven soll Box 2 [g] | M18: 5.2281825 | Q18: Frass (trocken) ist Box 1 [g] | R18: =R2*(V7/100) -> 95.285261 | S18: =AVERAGE(R18:R20) -> 99.920379 | T18: =_xlfn.STDEV.P(R18:R20) -> 4.4803983 | Y18: Larven geerntet (trocken) Box 1 [g] | Z18: =Z2*(AD7/100) -> 18.6453 | AA18: =AVERAGE(Z18:Z20) -> 17.177662 | AB18: =_xlfn.STDEV.P(Z18:Z20) -> 1.043922 | AC18: Hier muss noch das eingesetzte Gewicht subtrahiert werden! | AG18: Waste reduction index Box 2 [%/d] | AH18: =AH13/10 -> 4.2399977
A19: Box 2 | L19: Larven soll Box 3 [g] | M19: 5.2281825 | Q19: Frass (trocken) ist Box 2 [g] | R19: =R3*(V10/100) -> 98.496585 | Y19: Larven geerntet (trocken) Box 2 [g] | Z19: =Z3*(AD10/100) -> 16.582366 | AG19: Waste reduction index Box 3 [%/d] | AH19: =AH14/10 -> 3.802415
A20: Tag | B20: Datum | C20: Gewicht 25 Larven [mg] | D20: individuelles Gewicht [mg] | E20: Anzahl geflohene Larven | F20: Beobachtungen | I20: Einwaage Substrat soll [g] | J20: =M2 -> 587.377 | L20: Larven ist Box 1 [g] | M20: =J7 -> 5.2269 | N20: =AVERAGE(M20:M22) -> 5.2265 | O20: =_xlfn.STDEV.P(M20:M22) -> 0.00049665548 | Q20: Frass (trocken) ist Box 3 [g] | R20: =R4*(V13/100) -> 105.97929 | Y20: Larven geerntet (trocken) Box 3 [g] | Z20: =Z4*(AD13/100) -> 16.305319
A21: 0 | B21: 45321 | C21: 5.2258 | D21: =C21/A33*1000 -> 6.1120468 | I21: Einwaaage Weizenkleie soll [g] | J21: =M8 -> 38.88 | L21: Larven ist Box 2 [g] | M21: =J25 -> 5.2258 | Y21: Initiales Larvengewicht (feucht) Box 1 [g] | Z21: =M20 -> 5.2269 | AA21: =AVERAGE(Z21:Z23) -> 5.2265 | AB21: =_xlfn.STDEV.P(Z21:Z23) -> 0.00049665548 | AH21: ECI | AI21: Mittelwert | AJ21: STABW
A22: 1 | B22: 45322 | C22: 0.1671 | D22: =C22/A$16*1000 -> 6.684 | I22: Einwaage Larven soll | J22: 5.2281825 | L22: Larven ist Box 3 [g] | M22: =J43 -> 5.2268 | Y22: Initiales Larvengewicht (feucht) Box 2 [g] | Z22: =M21 -> 5.2258 | AC22: Trockensubstanz Junglarven [%] | AD22: 22.966667 | AG22: Efficiency of conversion of the ingested feed Box 1 | AH22: =Z27/(M26-R18) -> 0.23039949 | AI22: =AVERAGE(AH22:AH24) -> 0.22495343 | AJ22: =_xlfn.STDEV.P(AH22:AH24) -> 0.009083144
A23: 2 | B23: 45323 | C23: 0.2444 | D23: =C23/A$16*1000 -> 9.776 | I23: Einwaage Substrat ist [g] | J23: 587.38 | L23: Larven ist Box 1 [Anzahl] | M23: =M20/'Berechnungen Fütterungsmenge'!$F$21 -> 854.79026 | N23: =AVERAGE(M23:M25) -> 854.72485 | O23: =_xlfn.STDEV.P(M23:M25) -> 0.081221426 | Y23: Initiales Larvengewicht (feucht) Box 3 [g] | Z23: =M22 -> 5.2268 | AG23: Efficiency of conversion of the ingested feed Box 2 | AH23: =Z28/(M27-R19) -> 0.21215515
A24: 3 | B24: 45324 | C24: 0.423 | D24: =C24/A$16*1000 -> 16.92 | I24: Einwaaage Weizenkleie ist [g] | J24: 38.88 | L24: Larven ist Box 2 [Anzahl] | M24: =M21/'Berechnungen Fütterungsmenge'!$F$21 -> 854.61037 | Y24: Initiales Larvengewicht (trocken) Box 1 [g] | Z24: =Z21*(AD22/100) -> 1.2004447 | AA24: =AVERAGE(Z24:Z26) -> 1.2003528 | AB24: =_xlfn.STDEV.P(Z24:Z26) -> 0.00011406521 | AG24: Efficiency of conversion of the ingested feed Box 3 | AH24: =Z29/(M28-R20) -> 0.23230564
A25: 4 | B25: 45325 | C25: 0.4304 | D25: =C25/A$16*1000 -> 17.216 | I25: Larven Einwaage ist | J25: 5.2258 | L25: Larven ist Box 3 [Anzahl] | M25: =M22/'Berechnungen Fütterungsmenge'!$F$21 -> 854.77391 | Y25: Initiales Larvengewicht (trocken) Box 2 [g] | Z25: =Z22*(AD22/100) -> 1.2001921
A26: 5 | B26: 45326 | C26: 0.5484 | D26: =C26/A$16*1000 -> 21.936 | L26: Gesamtmenge TS Box 1 [g] | M26: =M5*('Berechnungen Fütterungsmenge'!$F$5/100)+M11*('Berechnungen Fütterungsmenge'!$F$10/100) -> 171.00095 | N26: =AVERAGE(M26:M28) -> 171.00095 | O26: =_xlfn.STDEV.P(M26:M28) -> 0 | Y26: Initiales Larvengewicht (trocken) Box 3 [g] | Z26: =Z23*(AD22/100) -> 1.2004217 | AH26: Larval growth rate | AI26: Mittelwert | AJ26: STABW
A27: 6 | B27: 45327 | C27: 1.1718 | D27: =C27/A$16*1000 -> 46.872 | L27: Gesamtmenge TS Box 2 [g] | M27: =M6*('Berechnungen Fütterungsmenge'!$F$5/100)+M12*('Berechnungen Fütterungsmenge'!$F$10/100) -> 171.00095 | Y27: Larven geerntet-initial (trocken) Box 1 [g] | Z27: =Z18-Z24 -> 17.444855 | AA27: =AVERAGE(Z27:Z29) -> 15.977309 | AB27: =_xlfn.STDEV.P(Z27:Z29) -> 1.0438676 | AG27: Larval growth rate Box 1 [g/d] | AH27: =(Z18-Z24)/10 -> 1.7444855 | AI27: =AVERAGE(AH27:AH29) -> 1.5977309 | AJ27: =_xlfn.STDEV.P(AH27:AH29) -> 0.10438676
A28: 7 | B28: 45328 | C28: 1.4311 | D28: =C28/A$16*1000 -> 57.244 | L28: Gesamtmenge TS Box 3 [g] | M28: =M7*('Berechnungen Fütterungsmenge'!$F$5/100)+M13*('Berechnungen Fütterungsmenge'!$F$10/100) -> 171.00095 | Y28: Larven geerntet-initial (trocken) Box 2 [g] | Z28: =Z19-Z25 -> 15.382174 | AG28: Larval growth rate Box 2 [g/d] | AH28: =(Z19-Z25)/10 -> 1.5382174
A29: 8 | B29: 45329 | C29: 1.7283 | D29: =C29/A$16*1000 -> 69.132 | Y29: Larven geerntet-initial (trocken) Box 3 [g] | Z29: =Z20-Z26 -> 15.104898 | AG29: Larval growth rate Box 3 [g/d] | AH29: =(Z20-Z26)/10 -> 1.5104898
A30: 9 | B30: 45330 | C30: 1.8439 | D30: =C30/A$16*1000 -> 73.756
A31: 10 | B31: 45331 | C31: 59.047 | D31: =C31/D33*1000 -> 77.084856 | AD31: Einzelgewicht Larve [g] | AH31: Yield | AI31: Mittelwert | AJ31: STABW
AC32: Larven geerntet Einzelgewicht Box 1 [g] | AD32: =Z2/AC2 -> 0.078207416 | AG32: Yield Box 1 [g] | AH32: =Z27 -> 17.444855 | AI32: =AVERAGE(AH32:AH34) -> 15.977309 | AJ32: =_xlfn.STDEV.P(AH32:AH34) -> 1.0438676
A33: 855 | B33: Gesamtmenge | C33: Anzahl Larven an Tag 10 | D33: 766 | E33: Larven im Frass | F33: 0 | AG33: Yield Box 2 [g] | AH33: =Z28 -> 15.382174
A34: 25 | B34: Tiere pro Tag gezählt | C34: Frass [g] | D34: 340.23 | AG34: Yield Box 3 [g] | AH34: =Z29 -> 15.104898
AC35: Larven geerntet Einzelgewicht Box 2 [g] | AD35: =Z3/AC3 -> 0.077084856
AH36: LFW | AI36: Mittelwert | AJ36: STABW
A37: Box 3 | AG37: Larval final weight Box 1 [mg/Larve] | AH37: =Z18*1000/AC2 -> 21.308914 | AI37: =AVERAGE(AH37:AH39) -> 20.773966 | AJ37: =_xlfn.STDEV.P(AH37:AH39) -> 1.0058695
A38: Tag | B38: Datum | C38: Gewicht 25 Larven [mg] | D38: individuelles Gewicht [mg] | E38: Anzahl geflohene Larven | F38: Beobachtungen | I38: Einwaage Substrat soll [g] | J38: =M2 -> 587.377 | AC38: Larven geerntet Einzelgewicht Box [g] | AD38: =Z4/AC4 -> 0.066891148 | AG38: Larval final weight Box 2 [mg/Larve] | AH38: =Z19*1000/AC3 -> 21.647997
A39: 0 | B39: 45321 | C39: 5.2268 | D39: =C39/A51*1000 -> 6.1132164 | I39: Einwaaage Weizenkleie soll [g] | J39: =M8 -> 38.88 | AG39: Larval final weight Box 3 [mg/Larve] | AH39: =Z20*1000/AC4 -> 19.364987
A40: 1 | B40: 45322 | C40: 0.1746 | D40: =C40/A$16*1000 -> 6.984 | I40: Einwaage Larven soll | J40: 5.2281825
A41: 2 | B41: 45323 | C41: 0.2708 | D41: =C41/A$16*1000 -> 10.832 | I41: Einwaage Substrat ist [g] | J41: 587.38 | AH41: norm. Yield | AI41: Mittelwert | AJ41: STABW
A42: 3 | B42: 45324 | C42: 0.361 | D42: =C42/A$16*1000 -> 14.44 | I42: Einwaaage Weizenkleie ist [g] | J42: 38.88 | AG42: normalizied Yield Box 1 [mg/Larve] | AH42: =AH32*1000/M23 -> 20.408345 | AI42: =AVERAGE(AH42:AH44) -> 18.692871 | AJ42: =_xlfn.STDEV.P(AH42:AH44) -> 1.2203842
A43: 4 | B43: 45325 | C43: 0.3749 | D43: =C43/A$16*1000 -> 14.996 | I43: Larven Einwaage ist | J43: 5.2268 | AG43: normalizied Yield Box 2 [mg/Larve] | AH43: =AH33*1000/M24 -> 17.999049
A44: 5 | B44: 45326 | C44: 0.5179 | D44: =C44/A$16*1000 -> 20.716 | AG44: normalizied Yield Box 3 [mg/Larve] | AH44: =AH34*1000/M25 -> 17.67122
A45: 6 | B45: 45327 | C45: 1.0444 | D45: =C45/A$16*1000 -> 41.776
A46: 7 | B46: 45328 | C46: 1.3354 | D46: =C46/A$16*1000 -> 53.416 | AH46: norm. LGR | AI46: Mittelwert | AJ46: STABW
A47: 8 | B47: 45329 | C47: 1.9304 | D47: =C47/A$16*1000 -> 77.216 | AG47: normalizied Larval growth rate Box 1 [mg/d/Larve] | AH47: =AH27*1000/M23 -> 2.0408345 | AI47: =AVERAGE(AH47:AH49) -> 1.8692871 | AJ47: =_xlfn.STDEV.P(AH47:AH49) -> 0.12203842
A48: 9 | B48: 45330 | C48: 1.6235 | D48: =C48/A$16*1000 -> 64.94 | AG48: normalizied Larval growth rate Box 2 [mg/d/Larve] | AH48: =AH28*1000/M24 -> 1.7999049
A49: 10 | B49: 45331 | C49: 55.921 | D49: =C49/D51*1000 -> 66.891148 | AG49: normalizied Larval growth rate Box 3 [mg/d/Larve] | AH49: =AH29*1000/M25 -> 1.767122
A51: 855 | B51: Gesamtmenge | C51: Anzahl Larven an Tag 10 | D51: 836 | E51: Larven im Frass | F51: 6
A52: 25 | B52: Tiere pro Tag gezählt | C52: Frass [g] | D52: 364.19

Sheet Wachstumskurven
A1: Wachstumskurven
A3: 25 mg
A4: Tag | B4: Datum | C4: Box 1 | D4: Box 2 | E4: Box 3 | F4: MW | G4: STABW
A5: 0 | B5: 45321 | C5: ='25 mg'!D3 -> 6.1154386 | D5: ='25 mg'!D21 -> 6.1119298 | E5: ='25 mg'!D39 -> 6.1108772 | F5: =AVERAGE(C5:E5) -> 6.1127485 | G5: =_xlfn.STDEV.P(C5:E5) -> 0.0019500973
A6: 1 | B6: 45322 | C6: ='25 mg'!D4 -> 7.084 | D6: ='25 mg'!D22 -> 7.024 | E6: ='25 mg'!D40 -> 7.04 | F6: =AVERAGE(C6:E6) -> 7.0493333 | G6: =_xlfn.STDEV.P(C6:E6) -> 0.025368397
A7: 2 | B7: 45323 | C7: ='25 mg'!D5 -> 9.828 | D7: ='25 mg'!D23 -> 9.524 | E7: ='25 mg'!D41 -> 9.404 | F7: =AVERAGE(C7:E7) -> 9.5853333 | G7: =_xlfn.STDEV.P(C7:E7) -> 0.17844763
A8: 3 | B8: 45324 | C8: ='25 mg'!D6 -> 11.924 | D8: ='25 mg'!D24 -> 10.068 | E8: ='25 mg'!D42 -> 10.368 | F8: =AVERAGE(C8:E8) -> 10.786667 | G8: =_xlfn.STDEV.P(C8:E8) -> 0.81348851
A9: 4 | B9: 45325 | C9: ='25 mg'!D7 -> 13.364 | D9: ='25 mg'!D25 -> 11.852 | E9: ='25 mg'!D43 -> 9.264 | F9: =AVERAGE(C9:E9) -> 11.493333 | G9: =_xlfn.STDEV.P(C9:E9) -> 1.6929228
A10: 5 | B10: 45326 | C10: ='25 mg'!D8 -> 11.104 | D10: ='25 mg'!D26 -> 12.416 | E10: ='25 mg'!D44 -> 10.932 | F10: =AVERAGE(C10:E10) -> 11.484 | G10: =_xlfn.STDEV.P(C10:E10) -> 0.66275385
A11: 6 | B11: 45327 | C11: ='25 mg'!D9 -> 14.12 | D11: ='25 mg'!D27 -> 11.34 | E11: ='25 mg'!D45 -> 11.476 | F11: =AVERAGE(C11:E11) -> 12.312 | G11: =_xlfn.STDEV.P(C11:E11) -> 1.2796541
A12: 7 | B12: 45328 | C12: ='25 mg'!D10 -> 16.712 | D12: ='25 mg'!D28 -> 16.908 | E12: ='25 mg'!D46 -> 18.808 | F12: =AVERAGE(C12:E12) -> 17.476 | G12: =_xlfn.STDEV.P(C12:E12) -> 0.94525905
A13: 8 | B13: 45329 | C13: ='25 mg'!D11 -> 17.316 | D13: ='25 mg'!D29 -> 12.752 | E13: ='25 mg'!D47 -> 14.904 | F13: =AVERAGE(C13:E13) -> 14.990667 | G13: =_xlfn.STDEV.P(C13:E13) -> 1.8642527
A14: 9 | B14: 45330 | C14: ='25 mg'!D12 -> 12.952 | D14: ='25 mg'!D30 -> 14.48 | E14: ='25 mg'!D48 -> 16.288 | F14: =AVERAGE(C14:E14) -> 14.573333 | G14: =_xlfn.STDEV.P(C14:E14) -> 1.3635144
A15: 10 | B15: 45331 | C15: ='25 mg'!D13 -> 10.696867 | D15: ='25 mg'!D31 -> 9.2422131 | E15: ='25 mg'!D49 -> 9.9775 | F15: =AVERAGE(C15:E15) -> 9.9721933 | G15: =_xlfn.STDEV.P(C15:E15) -> 0.59387175
A17: 50 mg
A18: Tag | B18: Datum | C18: Box 1 | D18: Box 2 | E18: Box 3 | F18: MW | G18: STABW
A19: 0 | B19: 45321 | C19: ='50 mg'!D3 -> 6.1147368 | D19: ='50 mg'!D21 -> 6.1167251 | E19: ='50 mg'!D39 -> 6.1145029 | F19: =AVERAGE(C19:E19) -> 6.1153216 | G19: =_xlfn.STDEV.P(C19:E19) -> 0.00099701457
A20: 1 | B20: 45322 | C20: ='50 mg'!D4 -> 7.34 | D20: ='50 mg'!D22 -> 8.288 | E20: ='50 mg'!D40 -> 6.912 | F20: =AVERAGE(C20:E20) -> 7.5133333 | G20: =_xlfn.STDEV.P(C20:E20) -> 0.57496512
A21: 2 | B21: 45323 | C21: ='50 mg'!D5 -> 9.776 | D21: ='50 mg'!D23 -> 9.612 | E21: ='50 mg'!D41 -> 11.748 | F21: =AVERAGE(C21:E21) -> 10.378667 | G21: =_xlfn.STDEV.P(C21:E21) -> 0.97057692
A22: 3 | B22: 45324 | C22: ='50 mg'!D6 -> 14.68 | D22: ='50 mg'!D24 -> 12.168 | E22: ='50 mg'!D42 -> 14.48 | F22: =AVERAGE(C22:E22) -> 13.776 | G22: =_xlfn.STDEV.P(C22:E22) -> 1.1399556
A23: 4 | B23: 45325 | C23: ='50 mg'!D7 -> 12.58 | D23: ='50 mg'!D25 -> 13.328 | E23: ='50 mg'!D43 -> 14.016 | F23: =AVERAGE(C23:E23) -> 13.308 | G23: =_xlfn.STDEV.P(C23:E23) -> 0.5864151
A24: 5 | B24: 45326 | C24: ='50 mg'!D8 -> 13.216 | D24: ='50 mg'!D26 -> 14.4 | E24: ='50 mg'!D44 -> 15.092 | F24: =AVERAGE(C24:E24) -> 14.236 | G24: =_xlfn.STDEV.P(C24:E24) -> 0.77460355
A25: 6 | B25: 45327 | C25: ='50 mg'!D9 -> 26.02 | D25: ='50 mg'!D27 -> 19.964 | E25: ='50 mg'!D45 -> 21.516 | F25: =AVERAGE(C25:E25) -> 22.5 | G25: =_xlfn.STDEV.P(C25:E25) -> 2.5683946
A26: 7 | B26: 45328 | C26: ='50 mg'!D10 -> 27.156 | D26: ='50 mg'!D28 -> 27.064 | E26: ='50 mg'!D46 -> 28.852 | F26: =AVERAGE(C26:E26) -> 27.690667 | G26: =_xlfn.STDEV.P(C26:E26) -> 0.82204515
A27: 8 | B27: 45329 | C27: ='50 mg'!D11 -> 30.788 | D27: ='50 mg'!D29 -> 33.812 | E27: ='50 mg'!D47 -> 31.392 | F27: =AVERAGE(C27:E27) -> 31.997333 | G27: =_xlfn.STDEV.P(C27:E27) -> 1.3066408
A28: 9 | B28: 45330 | C28: ='50 mg'!D12 -> 29.296 | D28: ='50 mg'!D30 -> 25.788 | E28: ='50 mg'!D48 -> 38.704 | F28: =AVERAGE(C28:E28) -> 31.262667 | G28: =_xlfn.STDEV.P(C28:E28) -> 5.4532313
A29: 10 | B29: 45331 | C29: ='50 mg'!D13 -> 21.555578 | D29: ='50 mg'!D31 -> 21.175179 | E29: ='50 mg'!D49 -> 21.885651 | F29: =AVERAGE(C29:E29) -> 21.538803 | G29: =_xlfn.STDEV.P(C29:E29) -> 0.29029152
A31: 100 mg
A32: Tag | B32: Datum | C32: Box 1 | D32: Box 2 | E32: Box 3 | F32: MW | G32: STABW
A33: 0 | B33: 45321 | C33: ='100 mg'!D3 -> 6.1149708 | D33: ='100 mg'!D21 -> 6.1126316 | E33: ='100 mg'!D39 -> 6.1128655 | F33: =AVERAGE(C33:E33) -> 6.1134893 | G33: =_xlfn.STDEV.P(C33:E33) -> 0.0010519094
A34: 1 | B34: 45322 | C34: ='100 mg'!D4 -> 8.596 | D34: ='100 mg'!D22 -> 7.504 | E34: ='100 mg'!D40 -> 6.412 | F34: =AVERAGE(C34:E34) -> 7.504 | G34: =_xlfn.STDEV.P(C34:E34) -> 0.89161427
A35: 2 | B35: 45323 | C35: ='100 mg'!D5 -> 9.84 | D35: ='100 mg'!D23 -> 8.944 | E35: ='100 mg'!D41 -> 10.288 | F35: =AVERAGE(C35:E35) -> 9.6906667 | G35: =_xlfn.STDEV.P(C35:E35) -> 0.55875417
A36: 3 | B36: 45324 | C36: ='100 mg'!D6 -> 15.144 | D36: ='100 mg'!D24 -> 12.732 | E36: ='100 mg'!D42 -> 14.972 | F36: =AVERAGE(C36:E36) -> 14.282667 | G36: =_xlfn.STDEV.P(C36:E36) -> 1.098733
A37: 4 | B37: 45325 | C37: ='100 mg'!D7 -> 15.752 | D37: ='100 mg'!D25 -> 13.896 | E37: ='100 mg'!D43 -> 15.492 | F37: =AVERAGE(C37:E37) -> 15.046667 | G37: =_xlfn.STDEV.P(C37:E37) -> 0.82053858
A38: 5 | B38: 45326 | C38: ='100 mg'!D8 -> 18.844 | D38: ='100 mg'!D26 -> 16.192 | E38: ='100 mg'!D44 -> 19.36 | F38: =AVERAGE(C38:E38) -> 18.132 | G38: =_xlfn.STDEV.P(C38:E38) -> 1.3878674
A39: 6 | B39: 45327 | C39: ='100 mg'!D9 -> 29.008 | D39: ='100 mg'!D27 -> 21.852 | E39: ='100 mg'!D45 -> 33.204 | F39: =AVERAGE(C39:E39) -> 28.021333 | G39: =_xlfn.STDEV.P(C39:E39) -> 4.6866555
A40: 7 | B40: 45328 | C40: ='100 mg'!D10 -> 53.108 | D40: ='100 mg'!D28 -> 47.96 | E40: ='100 mg'!D46 -> 56.744 | F40: =AVERAGE(C40:E40) -> 52.604 | G40: =_xlfn.STDEV.P(C40:E40) -> 3.6037181
A41: 8 | B41: 45329 | C41: ='100 mg'!D11 -> 69.424 | D41: ='100 mg'!D29 -> 74.088 | E41: ='100 mg'!D47 -> 69.172 | F41: =AVERAGE(C41:E41) -> 70.894667 | G41: =_xlfn.STDEV.P(C41:E41) -> 2.2603701
A42: 9 | B42: 45330 | C42: ='100 mg'!D12 -> 59.296 | D42: ='100 mg'!D30 -> 65.208 | E42: ='100 mg'!D48 -> 73.236 | F42: =AVERAGE(C42:E42) -> 65.913333 | G42: =_xlfn.STDEV.P(C42:E42) -> 5.7127939
A43: 10 | B43: 45331 | C43: ='100 mg'!D13 -> 46.019312 | D43: ='100 mg'!D31 -> 45.071669 | E43: ='100 mg'!D49 -> 57.427945 | F43: =AVERAGE(C43:E43) -> 49.506309 | G43: =_xlfn.STDEV.P(C43:E43) -> 5.6147869
A45: 150 mg
A46: Tag | B46: Datum | C46: Box 1 | D46: Box 2 | E46: Box 3 | F46: MW | G46: STABW
A47: 0 | B47: 45321 | C47: ='150 mg'!D3 -> 6.1123977 | D47: ='150 mg'!D21 -> 6.1157895 | E47: ='150 mg'!D39 -> 6.1123977 | F47: =AVERAGE(C47:E47) -> 6.1135283 | G47: =_xlfn.STDEV.P(C47:E47) -> 0.0015989159
A48: 1 | B48: 45322 | C48: ='150 mg'!D4 -> 8.736 | D48: ='150 mg'!D22 -> 8.208 | E48: ='150 mg'!D40 -> 7.588 | F48: =AVERAGE(C48:E48) -> 8.1773333 | G48: =_xlfn.STDEV.P(C48:E48) -> 0.46917043
A49: 2 | B49: 45323 | C49: ='150 mg'!D5 -> 10.928 | D49: ='150 mg'!D23 -> 11.032 | E49: ='150 mg'!D41 -> 11.108 | F49: =AVERAGE(C49:E49) -> 11.022667 | G49: =_xlfn.STDEV.P(C49:E49) -> 0.073780455
A50: 3 | B50: 45324 | C50: ='150 mg'!D6 -> 17.408 | D50: ='150 mg'!D24 -> 16.444 | E50: ='150 mg'!D42 -> 13.808 | F50: =AVERAGE(C50:E50) -> 15.886667 | G50: =_xlfn.STDEV.P(C50:E50) -> 1.5216143
A51: 4 | B51: 45325 | C51: ='150 mg'!D7 -> 14.748 | D51: ='150 mg'!D25 -> 16.088 | E51: ='150 mg'!D43 -> 14.848 | F51: =AVERAGE(C51:E51) -> 15.228 | G51: =_xlfn.STDEV.P(C51:E51) -> 0.60948065
A52: 5 | B52: 45326 | C52: ='150 mg'!D8 -> 21.336 | D52: ='150 mg'!D26 -> 23.272 | E52: ='150 mg'!D44 -> 22.844 | F52: =AVERAGE(C52:E52) -> 22.484 | G52: =_xlfn.STDEV.P(C52:E52) -> 0.83035093
A53: 6 | B53: 45327 | C53: ='150 mg'!D9 -> 51.592 | D53: ='150 mg'!D27 -> 43.852 | E53: ='150 mg'!D45 -> 51.668 | F53: =AVERAGE(C53:E53) -> 49.037333 | G53: =_xlfn.STDEV.P(C53:E53) -> 3.6667156
A54: 7 | B54: 45328 | C54: ='150 mg'!D10 -> 57.868 | D54: ='150 mg'!D28 -> 66.132 | E54: ='150 mg'!D46 -> 86.728 | F54: =AVERAGE(C54:E54) -> 70.242667 | G54: =_xlfn.STDEV.P(C54:E54) -> 12.135295
A55: 8 | B55: 45329 | C55: ='150 mg'!D11 -> 71.248 | D55: ='150 mg'!D29 -> 55.852 | E55: ='150 mg'!D47 -> 78.084 | F55: =AVERAGE(C55:E55) -> 68.394667 | G55: =_xlfn.STDEV.P(C55:E55) -> 9.2977269
A56: 9 | B56: 45330 | C56: ='150 mg'!D12 -> 88.536 | D56: ='150 mg'!D30 -> 69.696 | E56: ='150 mg'!D48 -> 72.904 | F56: =AVERAGE(C56:E56) -> 77.045333 | G56: =_xlfn.STDEV.P(C56:E56) -> 8.2300013
A57: 10 | B57: 45331 | C57: ='150 mg'!D13 -> 68.902417 | D57: ='150 mg'!D31 -> 80.723033 | E57: ='150 mg'!D49 -> 69.504762 | F57: =AVERAGE(C57:E57) -> 73.043404 | G57: =_xlfn.STDEV.P(C57:E57) -> 5.4358826
A59: 200 mg
A60: Tag | B60: Datum | C60: Box 1 | D60: Box 2 | E60: Box 3 | F60: MW | G60: STABW
A61: 0 | B61: 45321 | C61: ='200 mg'!D3 -> 6.1133333 | D61: ='200 mg'!D21 -> 6.1120468 | E61: ='200 mg'!D39 -> 6.1132164 | F61: =AVERAGE(C61:E61) -> 6.1128655 | G61: =_xlfn.STDEV.P(C61:E61) -> 0.0005808836
A62: 1 | B62: 45322 | C62: ='200 mg'!D4 -> 7.204 | D62: ='200 mg'!D22 -> 6.684 | E62: ='200 mg'!D40 -> 6.984 | F62: =AVERAGE(C62:E62) -> 6.9573333 | G62: =_xlfn.STDEV.P(C62:E62) -> 0.2131249
A63: 2 | B63: 45323 | C63: ='200 mg'!D5 -> 11.14 | D63: ='200 mg'!D23 -> 9.776 | E63: ='200 mg'!D41 -> 10.832 | F63: =AVERAGE(C63:E63) -> 10.582667 | G63: =_xlfn.STDEV.P(C63:E63) -> 0.58409436
A64: 3 | B64: 45324 | C64: ='200 mg'!D6 -> 15.78 | D64: ='200 mg'!D24 -> 16.92 | E64: ='200 mg'!D42 -> 14.44 | F64: =AVERAGE(C64:E64) -> 15.713333 | G64: =_xlfn.STDEV.P(C64:E64) -> 1.0135526
A65: 4 | B65: 45325 | C65: ='200 mg'!D7 -> 17.22 | D65: ='200 mg'!D25 -> 17.216 | E65: ='200 mg'!D43 -> 14.996 | F65: =AVERAGE(C65:E65) -> 16.477333 | G65: =_xlfn.STDEV.P(C65:E65) -> 1.0474621
A66: 5 | B66: 45326 | C66: ='200 mg'!D8 -> 19.824 | D66: ='200 mg'!D26 -> 21.936 | E66: ='200 mg'!D44 -> 20.716 | F66: =AVERAGE(C66:E66) -> 20.825333 | G66: =_xlfn.STDEV.P(C66:E66) -> 0.86567944
A67: 6 | B67: 45327 | C67: ='200 mg'!D9 -> 40.2 | D67: ='200 mg'!D27 -> 46.872 | E67: ='200 mg'!D45 -> 41.776 | F67: =AVERAGE(C67:E67) -> 42.949333 | G67: =_xlfn.STDEV.P(C67:E67) -> 2.8473882
A68: 7 | B68: 45328 | C68: ='200 mg'!D10 -> 76.128 | D68: ='200 mg'!D28 -> 57.244 | E68: ='200 mg'!D46 -> 53.416 | F68: =AVERAGE(C68:E68) -> 62.262667 | G68: =_xlfn.STDEV.P(C68:E68) -> 9.928041
A69: 8 | B69: 45329 | C69: ='200 mg'!D11 -> 75.184 | D69: ='200 mg'!D29 -> 69.132 | E69: ='200 mg'!D47 -> 77.216 | F69: =AVERAGE(C69:E69) -> 73.844 | G69: =_xlfn.STDEV.P(C69:E69) -> 3.4336049
A70: 9 | B70: 45330 | C70: ='200 mg'!D12 -> 91.908 | D70: ='200 mg'!D30 -> 73.756 | E70: ='200 mg'!D48 -> 64.94 | F70: =AVERAGE(C70:E70) -> 76.868 | G70: =_xlfn.STDEV.P(C70:E70) -> 11.227397
A71: 10 | B71: 45331 | C71: ='200 mg'!D13 -> 78.207416 | D71: ='200 mg'!D31 -> 77.084856 | E71: ='200 mg'!D49 -> 66.891148 | F71: =AVERAGE(C71:E71) -> 74.06114 | G71: =_xlfn.STDEV.P(C71:E71) -> 5.0906203

Sheet Zusammenfassung
B3: FCR
B4: Versuch | C4: FCR DM/DM | D4: STABWN
B5: 25mg | C5: ='25 mg'!AI2 -> -291.38454 | D5: ='25 mg'!AJ2 -> 370.6522
B6: 50 mg | C6: ='50 mg'!AI2 -> 13.042439 | D6: ='50 mg'!AJ2 -> 3.9645763
B7: 100 mg | C7: ='100 mg'!AI2 -> 6.8124487 | D7: ='100 mg'!AJ2 -> 0.94678034
B8: 150 mg | C8: ='150 mg'!AI2 -> 8.1360655 | D8: ='150 mg'!AJ2 -> 0.30440974
B9: 200 mg | C9: ='200 mg'!AI2 -> 10.746697 | D9: ='200 mg'!AJ2 -> 0.67291618
B12: Versuch | C12: Überlebensrate [%] | D12: STABWN
B13: 25mg | C13: ='25 mg'!AI7 -> 36.228627 | D13: ='25 mg'!AJ7 -> 7.1625184
B14: 50 mg | C14: ='50 mg'!AI7 -> 69.815681 | D14: ='50 mg'!AJ7 -> 20.273261
B15: 100 mg | C15: ='100 mg'!AI7 -> 102.43802 | D15: ='100 mg'!AJ7 -> 9.8964381
B16: 150 mg | C16: ='150 mg'!AI7 -> 91.483228 | D16: ='150 mg'!AJ7 -> 7.3393131
B17: 200 mg | C17: ='200 mg'!AI7 -> 96.833787 | D17: ='200 mg'!AJ7 -> 5.3308685
B19: Versuch | C19: Substratreduction [%] | D19: STABWN
B20: 25mg | C20: ='25 mg'!AI12 -> 34.463708 | D20: ='25 mg'!AJ12 -> 2.3741744
B21: 50 mg | C21: ='50 mg'!AI12 -> 33.563774 | D21: ='50 mg'!AJ12 -> 1.8320666
B22: 100 mg | C22: ='100 mg'!AI12 -> 39.944562 | D22: ='100 mg'!AJ12 -> 2.9541084
B23: 150 mg | C23: ='150 mg'!AI12 -> 43.225229 | D23: ='150 mg'!AJ12 -> 4.5615076
B24: 200 mg | C24: ='200 mg'!AI12 -> 41.567353 | D24: ='200 mg'!AJ12 -> 2.6201015
B26: Versuch | C26: Waste reduction index [%/d] | D26: STABWN
B27: 25mg | C27: ='25 mg'!AI17 -> 3.4463708 | D27: ='25 mg'!AJ17 -> 0.23741744
B28: 50 mg | C28: ='50 mg'!AI17 -> 3.3563774 | D28: ='50 mg'!AJ17 -> 0.18320666
B29: 100 mg | C29: ='100 mg'!AI17 -> 3.9944562 | D29: ='100 mg'!AJ17 -> 0.29541084
B30: 150 mg | C30: ='150 mg'!AI17 -> 4.3225229 | D30: ='150 mg'!AJ17 -> 0.45615076
B31: 200 mg | C31: ='200 mg'!AI17 -> 4.1567353 | D31: ='200 mg'!AJ17 -> 0.26201015
B33: Versuch | C33: Efficiency of conversion of the ingested feed | D33: STABWN
B34: 25mg | C34: ='25 mg'!AI22 -> 0.012064383 | D34: ='25 mg'!AJ22 -> 0.042887933
B35: 50 mg | C35: ='50 mg'!AI22 -> 0.25265991 | D35: ='50 mg'!AJ22 -> 0.078060612
B36: 100 mg | C36: ='100 mg'!AI22 -> 0.37355174 | D36: ='100 mg'!AJ22 -> 0.035467932
B37: 150 mg | C37: ='150 mg'!AI22 -> 0.28720062 | D37: ='150 mg'!AJ22 -> 0.024965435
B38: 200 mg | C38: ='200 mg'!AI22 -> 0.22495343 | D38: ='200 mg'!AJ22 -> 0.009083144
B40: Versuch | C40: Larval growth rate [g/d] | D40: STABWN
B41: 25mg | C41: ='25 mg'!AI27 -> 0.010960476 | D41: ='25 mg'!AJ27 -> 0.032898835
B42: 50 mg | C42: ='50 mg'!AI27 -> 0.36862912 | D42: ='50 mg'!AJ27 -> 0.13571784
B43: 100 mg | C43: ='100 mg'!AI27 -> 1.2778897 | D43: ='100 mg'!AJ27 -> 0.16450545
B44: 150 mg | C44: ='150 mg'!AI27 -> 1.5784686 | D44: ='150 mg'!AJ27 -> 0.057722409
B45: 200 mg | C45: ='200 mg'!AI27 -> 1.5977309 | D45: ='200 mg'!AJ27 -> 0.10438676
B47: Versuch | C47: Yield [g] | D47: STABWN
B48: 25mg | C48: ='25 mg'!AI32 -> 0.10960476 | D48: ='[1]25 mg'!AJ34 -> -0.001877792
B49: 50 mg | C49: ='50 mg'!AI32 -> 3.6862912 | D49: ='[1]50 mg'!AJ34 -> 1.2503697
B50: 100 mg | C50: ='100 mg'!AI32 -> 12.778897 | D50: ='[1]100 mg'!AJ34 -> 2.6061704
B51: 150 mg | C51: ='150 mg'!AI32 -> 15.784686 | D51: ='[1]150 mg'!AJ34 -> 2.165301
B52: 200 mg | C52: ='200 mg'!AI32 -> 15.977309 | D52: ='[1]200 mg'!AJ34 -> 2.2943759
B54: Versuch | C54: Larval final weight [mg/Larve] | D54: STABWN
B55: 25mg | C55: ='25 mg'!AI37 -> 4.1880639 | D55: ='25 mg'!AJ37 -> 0.21279631
B56: 50 mg | C56: ='50 mg'!AI37 -> 8.2124016 | D56: ='50 mg'!AJ37 -> 0.13157741
B57: 100 mg | C57: ='100 mg'!AI37 -> 16.013552 | D57: ='100 mg'!AJ37 -> 1.7430558
B58: 150 mg | C58: ='150 mg'!AI37 -> 21.878961 | D58: ='150 mg'!AJ37 -> 2.1481482
B59: 200 mg | C59: ='200 mg'!AI37 -> 20.773966 | D59: ='200 mg'!AJ37 -> 1.0058695
B61: Versuch | C61: normalizied Yield Box 1 [mg/Larve] | D61: STABWN
B62: 25mg | C62: ='25 mg'!AI42 -> 0.12812585 | D62: ='25 mg'!AJ42 -> 0.38479163
B63: 50 mg | C63: ='50 mg'!AI42 -> 4.3108491 | D63: ='50 mg'!AJ42 -> 1.5863442
B64: 100 mg | C64: ='100 mg'!AI42 -> 14.949116 | D64: ='100 mg'!AJ42 -> 1.9225627
B65: 150 mg | C65: ='150 mg'!AI42 -> 18.46545 | D65: ='150 mg'!AJ42 -> 0.67218698
B66: 200 mg | C66: ='200 mg'!AI42 -> 18.692871 | D66: ='200 mg'!AJ42 -> 1.2203842
B68: Versuch | C68: normalizied Larval growth rate Box 1 [mg/d/Larve] | D68: STABWN
B69: 25mg | C69: ='25 mg'!AI47 -> 0.012812585 | D69: ='25 mg'!AJ47 -> 0.038479163
B70: 50 mg | C70: ='50 mg'!AI47 -> 0.43108491 | D70: ='50 mg'!AJ47 -> 0.15863442
B71: 100 mg | C71: ='100 mg'!AI47 -> 1.4949116 | D71: ='100 mg'!AJ47 -> 0.19225627
B72: 150 mg | C72: ='150 mg'!AI47 -> 1.846545 | D72: ='150 mg'!AJ47 -> 0.067218698
B73: 200 mg | C73: ='200 mg'!AI47 -> 1.8692871 | D73: ='200 mg'!AJ47 -> 0.12203842

Sheet OneWay ANOVA
C4: FCR DM/DM | D4: Überlebensrate [%] | E4: Substratreduction | F4: ECI | G4: WIR | H4: Larval final weight | I4: Larval growth rate [g/d] | J4: Yield [g] | K4: normalizied Yield [mg/Tier] | L4: normalizied Larval growth rate
A5: 25mg | B5: Box 1 | C5: ='25 mg'!AH2 -> 37.969638 | D5: ='25 mg'!AH7 -> 46.07731 | E5: ='25 mg'!AH12 -> 37.286873 | F5: ='25 mg'!AH22 -> 0.070632989 | G5: ='25 mg'!AH17 -> 3.7286873 | H5: ='25 mg'!AH37 -> 4.4766388 | I5: ='25 mg'!AH27 -> 0.056293758 | J5: ='25 mg'!AH32 -> 0.56293758 | K5: ='25 mg'!AH42 -> 0.65834136 | L5: ='25 mg'!AH47 -> 0.065834136
B6: Box 2 | C6: ='25 mg'!AH3 -> -102.90594 | D6: ='25 mg'!AH8 -> 29.253657 | E6: ='25 mg'!AH13 -> 31.478162 | F6: ='25 mg'!AH23 -> -0.030870964 | G6: ='25 mg'!AH18 -> 3.1478162 | H6: ='25 mg'!AH38 -> 3.9698386 | I6: ='25 mg'!AH28 -> -0.020770945 | J6: ='25 mg'!AH33 -> -0.20770945 | K6: ='25 mg'!AH43 -> -0.24305044 | L6: ='25 mg'!AH48 -> -0.024305044
B7: Box 3 | C7: ='25 mg'!AH4 -> -809.21733 | D7: ='25 mg'!AH9 -> 33.354913 | E7: ='25 mg'!AH14 -> 34.62609 | F7: ='25 mg'!AH24 -> -0.0035688753 | G7: ='25 mg'!AH19 -> 3.462609 | H7: ='25 mg'!AH39 -> 4.1177143 | I7: ='25 mg'!AH29 -> -0.0026413839 | J7: ='25 mg'!AH34 -> -0.026413839 | K7: ='25 mg'!AH44 -> -0.030913379 | L7: ='25 mg'!AH49 -> -0.0030913379
A8: 50mg | B8: Box 1 | C8: ='50 mg'!AH2 -> 14.402779 | D8: ='50 mg'!AH7 -> 58.129572 | E8: ='50 mg'!AH12 -> 32.535485 | F8: ='50 mg'!AH22 -> 0.21340098 | G8: ='50 mg'!AH17 -> 3.2535485 | H8: ='50 mg'!AH37 -> 8.387994 | I8: ='50 mg'!AH27 -> 0.29681127 | J8: ='50 mg'!AH32 -> 2.9681127 | K8: ='50 mg'!AH42 -> 3.4715316 | L8: ='50 mg'!AH47 -> 0.34715316
B9: Box 2 | C9: ='50 mg'!AH3 -> 7.651759 | D9: ='50 mg'!AH8 -> 98.332151 | E9: ='50 mg'!AH13 -> 36.13745 | F9: ='50 mg'!AH23 -> 0.36164396 | G9: ='50 mg'!AH18 -> 3.613745 | H9: ='50 mg'!AH38 -> 8.0712724 | I9: ='50 mg'!AH28 -> 0.55868294 | J9: ='50 mg'!AH33 -> 5.5868294 | K9: ='50 mg'!AH43 -> 6.5322824 | L9: ='50 mg'!AH48 -> 0.65322824
B10: Box 3 | C10: ='50 mg'!AH4 -> 17.072779 | D10: ='50 mg'!AH9 -> 52.985319 | E10: ='50 mg'!AH14 -> 32.018387 | F10: ='50 mg'!AH24 -> 0.1829348 | G10: ='50 mg'!AH19 -> 3.2018387 | H10: ='50 mg'!AH39 -> 8.1779383 | I10: ='50 mg'!AH29 -> 0.25039317 | J10: ='50 mg'!AH34 -> 2.5039317 | K10: ='50 mg'!AH44 -> 2.9287333 | L10: ='50 mg'!AH49 -> 0.29287333
A11: 100mg | B11: Box 1 | C11: ='100 mg'!AH2 -> 5.9447921 | D11: ='100 mg'!AH7 -> 116.2547 | E11: ='100 mg'!AH12 -> 39.85686 | F11: ='100 mg'!AH22 -> 0.42204645 | G11: ='100 mg'!AH17 -> 3.985686 | H11: ='100 mg'!AH37 -> 15.677246 | I11: ='100 mg'!AH27 -> 1.4382416 | J11: ='100 mg'!AH32 -> 14.382416 | K11: ='100 mg'!AH42 -> 16.821161 | L11: ='100 mg'!AH47 -> 1.6821161
B12: Box 2 | C12: ='100 mg'!AH3 -> 8.1294352 | D12: ='100 mg'!AH8 -> 97.461994 | E12: ='100 mg'!AH13 -> 36.371182 | F12: ='100 mg'!AH23 -> 0.33820671 | G12: ='100 mg'!AH18 -> 3.6371182 | H12: ='100 mg'!AH38 -> 14.066868 | I12: ='100 mg'!AH28 -> 1.0517394 | J12: ='100 mg'!AH33 -> 10.517394 | K12: ='100 mg'!AH43 -> 12.305476 | L12: ='100 mg'!AH48 -> 1.2305476
B13: Box 3 | C13: ='100 mg'!AH4 -> 6.3631187 | D13: ='100 mg'!AH9 -> 93.597372 | E13: ='100 mg'!AH14 -> 43.605645 | F13: ='100 mg'!AH24 -> 0.36040206 | G13: ='100 mg'!AH19 -> 4.3605645 | H13: ='100 mg'!AH39 -> 18.296543 | I13: ='100 mg'!AH29 -> 1.3436882 | J13: ='100 mg'!AH34 -> 13.436882 | K13: ='100 mg'!AH44 -> 15.72071 | L13: ='100 mg'!AH49 -> 1.572071
A14: 150mg | B14: Box 1 | C14: ='150 mg'!AH2 -> 8.560906 | D14: ='150 mg'!AH7 -> 92.083462 | E14: ='150 mg'!AH12 -> 39.129646 | F14: ='150 mg'!AH22 -> 0.29852063 | G14: ='150 mg'!AH17 -> 3.9129646 | H14: ='150 mg'!AH37 -> 20.560481 | I14: ='150 mg'!AH27 -> 1.4980838 | J14: ='150 mg'!AH32 -> 14.980838 | K14: ='150 mg'!AH42 -> 17.52843 | L14: ='150 mg'!AH47 -> 1.752843
B15: Box 2 | C15: ='150 mg'!AH3 -> 7.8633887 | D15: ='150 mg'!AH8 -> 82.209368 | E15: ='150 mg'!AH13 -> 40.956693 | F15: ='150 mg'!AH23 -> 0.31050269 | G15: ='150 mg'!AH18 -> 4.0956693 | H15: ='150 mg'!AH38 -> 24.908437 | I15: ='150 mg'!AH28 -> 1.6309704 | J15: ='150 mg'!AH33 -> 16.309704 | K15: ='150 mg'!AH43 -> 19.072695 | L15: ='150 mg'!AH48 -> 1.9072695
B16: Box 3 | C16: ='150 mg'!AH4 -> 7.9839019 | D16: ='150 mg'!AH9 -> 100.15685 | E16: ='150 mg'!AH14 -> 49.589347 | F16: ='150 mg'!AH24 -> 0.25257852 | G16: ='150 mg'!AH19 -> 4.9589347 | H16: ='150 mg'!AH39 -> 20.167965 | I16: ='150 mg'!AH29 -> 1.6063517 | J16: ='150 mg'!AH34 -> 16.063517 | K16: ='150 mg'!AH44 -> 18.795226 | L16: ='150 mg'!AH49 -> 1.8795226
A17: 200mg | B17: Box 1 | C17: ='200 mg'!AH2 -> 9.8023713 | D17: ='200 mg'!AH7 -> 102.36429 | E17: ='200 mg'!AH12 -> 44.277933 | F17: ='200 mg'!AH22 -> 0.23039949 | G17: ='200 mg'!AH17 -> 4.4277933 | H17: ='200 mg'!AH37 -> 21.308914 | I17: ='200 mg'!AH27 -> 1.7444855 | J17: ='200 mg'!AH32 -> 17.444855 | K17: ='200 mg'!AH42 -> 20.408345 | L17: ='200 mg'!AH47 -> 2.0408345
B18: Box 2 | C18: ='200 mg'!AH3 -> 11.116826 | D18: ='200 mg'!AH8 -> 89.631489 | E18: ='200 mg'!AH13 -> 42.399977 | F18: ='200 mg'!AH23 -> 0.21215515 | G18: ='200 mg'!AH18 -> 4.2399977 | H18: ='200 mg'!AH38 -> 21.647997 | I18: ='200 mg'!AH28 -> 1.5382174 | J18: ='200 mg'!AH33 -> 15.382174 | K18: ='200 mg'!AH43 -> 17.999049 | L18: ='200 mg'!AH48 -> 1.7999049
B19: Box 3 | C19: ='200 mg'!AH4 -> 11.320894 | D19: ='200 mg'!AH9 -> 98.50558 | E19: ='200 mg'!AH14 -> 38.02415 | F19: ='200 mg'!AH24 -> 0.23230564 | G19: ='200 mg'!AH19 -> 3.802415 | H19: ='200 mg'!AH39 -> 19.364987 | I19: ='200 mg'!AH29 -> 1.5104898 | J19: ='200 mg'!AH34 -> 15.104898 | K19: ='200 mg'!AH44 -> 17.67122 | L19: ='200 mg'!AH49 -> 1.767122
M26: =120/100 -> 1.2
