Workbook

Sheet Berechnungen Fütterungsmenge
J1: 855 Tiere (6 Larven/cm2)
B2: PigSLK | J2: Berechnung Fütterungsmenge Substrat (PigSLK)
C3: Replikat 1 | D3: Replikat 2 | E3: Replikat 3 | F3: MW | G3: STABW | J3: gewünschte Fütterungsmenge [mg] | K3: Trockenmasse pro 855 Tiere [g] | L3: Wassergehalt pro 855 Tiere [g] | M3: Gesamtmasse zum Einwiegen [g]
B4: Wassergehalt (%) | C4: 77.25 | D4: 76.17 | E4: 76.71 | F4: =AVERAGE(C4:E4) -> 76.71 | G4: =_xlfn.STDEV.P(C4:E4) -> 0.44090815 | J4: 25 | K4: =(J4*B$25)/1000 -> 21.375 | L4: =(K4/F$5)*F$4 -> 70.402587 | M4: =K4+L4 -> 91.777587
B5: Trockensubstanz (%) | C5: =100-C4 -> 22.75 | D5: =100-D4 -> 23.83 | E5: =100-E4 -> 23.29 | F5: =AVERAGE(C5:E5) -> 23.29 | G5: =_xlfn.STDEV.P(C5:E5) -> 0.44090815 | J5: 50 | K5: =(J5*B$25)/1000 -> 42.75 | L5: =(K5/F$5)*F$4 -> 140.80517 | M5: =K5+L5 -> 183.55517
J6: 100 | K6: =(J6*B$25)/1000 -> 85.5 | L6: =(K6/F$5)*F$4 -> 281.61035 | M6: =K6+L6 -> 367.11035
B7: Weizenkleie | J7: 150 | K7: =(J7*B$25)/1000 -> 128.25 | L7: =(K7/F$5)*F$4 -> 422.41552 | M7: =K7+L7 -> 550.66552
C8: Replikat 1 | D8: Replikat 2 | E8: Replikat 3 | F8: MW | G8: STABW | J8: 200 | K8: =(J8*B$25)/1000 -> 171 | L8: =(K8/F$5)*F$4 -> 563.2207 | M8: =K8+L8 -> 734.2207
B9: Wassergehalt [%] | C9: 12.44 | D9: 12.39 | E9: 11.28 | F9: =AVERAGE(C9:E9) -> 12.036667 | G9: =_xlfn.STDEV.P(C9:E9) -> 0.53543337
B10: Trockensubstanz [%] | C10: =100-C9 -> 87.56 | D10: =100-D9 -> 87.61 | E10: =100-E9 -> 88.72 | F10: =AVERAGE(C10:E10) -> 87.963333 | G10: =_xlfn.STDEV.P(C9:E9) -> 0.53543337
B12: Junglarven TS | J12: Berechnung neue Fütterungsmenge Substrat abzüglich 20 % Weizenkleie
C13: Replikat 1 | D13: Replikat 2 | E13: Replikat 3 | F13: MW | G13: STABW | J13: gewünschte Fütterungsmenge [mg] | K13: Trockenmasse pro 855 Tiere [g] | L13: Wassergehalt pro 855 Tiere [g] | M13: Gesamtmasse zum Einwiegen [g]
B14: Wassergehalt [%] | C14: 77.28 | D14: 76.9 | E14: 76.92 | F14: =AVERAGE(C14:E14) -> 77.033333 | G14: =_xlfn.STDEV.P(C14:E14) -> 0.17461068 | J14: 25 | K14: =((J14*B$25)/1000)*E$26 -> 17.1 | L14: =(K14/F$5)*F$4 -> 56.32207 | M14: =K14+L14 -> 73.42207
B15: Trockensubstanz [%] | C15: =100-C14 -> 22.72 | D15: =100-D14 -> 23.1 | E15: =100-E14 -> 23.08 | F15: =AVERAGE(C15:E15) -> 22.966667 | G15: =_xlfn.STDEV.P(C14:E14) -> 0.17461068 | J15: 50 | K15: =((J15*B$25)/1000)*E$26 -> 34.2 | L15: =(K15/F$5)*F$4 -> 112.64414 | M15: =K15+L15 -> 146.84414
J16: 100 | K16: =((J16*B$25)/1000)*E$26 -> 68.4 | L16: =(K16/F$5)*F$4 -> 225.28828 | M16: =K16+L16 -> 293.68828
B17: Junglarven Gewicht | J17: 150 | K17: =((J17*B$25)/1000)*E$26 -> 102.6 | L17: =(K17/F$5)*F$4 -> 337.93242 | M17: =K17+L17 -> 440.53242
C18: Replikat 1 | D18: Replikat 2 | E18: Replikat 3 | F18: MW | G18: STABW | J18: 200 | K18: =((J18*B$25)/1000)*E$26 -> 136.8 | L18: =(K18/F$5)*F$4 -> 450.57656 | M18: =K18+L18 -> 587.37656
B19: Gewicht von 200x | C19: 1.15 | D19: 1.2829 | E19: 1.236 | F19: =AVERAGE(C19:E19) -> 1.2229667 | G19: =_xlfn.STDEV.P(C19:E19) -> 0.055033343
C20: =C19/200 -> 0.00575 | D20: =D19/200 -> 0.0064145 | E20: =E19/200 -> 0.00618 | F20: =AVERAGE(C20:E20)*1000 -> 6.1148333 | G20: =_xlfn.STDEV.P(C20:E20)*1000 -> 0.27516672
F21: =F19/200 -> 0.0061148333 | G21: g/Tier | J21: Berechnung 20 % Weizenkleie
F22: =F21*B25 -> 5.2281825 | G22: g/855 Tiere | J22: gewünschte Fütterungsmenge [mg] | K22: Trockenmasse pro 855 Tiere [g] | L22: Wassergehalt pro 855 Tiere [g] | M22: Gesamtmasse zum Einwiegen [g]
J23: 25 | K23: =(K4-K14) -> 4.275 | L23: =(K23/F$10)*F$9 -> 0.58497954 | M23: =K23+L23 -> 4.8599795
B24: Angaben für Berechnungen | J24: 50 | K24: =(K5-K15) -> 8.55 | L24: =(K24/F$10)*F$9 -> 1.1699591 | M24: =K24+L24 -> 9.7199591
B25: 855 | C25: Tiere pro Box | J25: 100 | K25: =(K6-K16) -> 17.1 | L25: =(K25/F$10)*F$9 -> 2.3399181 | M25: =K25+L25 -> 19.439918
B26: 80 | C26: % Substrat | E26: 0.8 | J26: 150 | K26: =(K7-K17) -> 25.65 | L26: =(K26/F$10)*F$9 -> 3.5098772 | M26: =K26+L26 -> 29.159877
B27: 20 | C27: % Weizenkleie | E27: 0.2 | J27: 200 | K27: =(K8-K18) -> 34.2 | L27: =(K27/F$10)*F$9 -> 4.6798363 | M27: =K27+L27 -> 38.879836
J30: Inhalt der Boxen
J31: gewünschte Fütterungsmenge [mg] | K31: Gesamtgewicht [g]
J32: 25 | K32: =M14+M23 -> 78.282049
J33: 50 | K33: =M15+M24 -> 156.5641
J34: 100 | K34: =M16+M25 -> 313.1282
J35: 150 | K35: =M17+M26 -> 469.69229
J36: 200 | K36: =M18+M27 -> 626.25639

Sheet 25 mg
A1: Box 1 | M1: Eiwaage [g] | N1: Mittelwert | O1: STABW | R1: Einwaage [g] | S1: Mittelwert | T1: STABW | Z1: Einwaage [g] | AA1: Mittelwert | AB1: STABW | AC1: Anzahl | AD1: Mittelwert | AE1: STABW | AH1: FCR DM/DM | AI1: Mittelwert | AJ1: STABW
A2: Tag | B2: Datum | C2: Gewicht 25 Larven [mg] | D2: individuelles Gewicht [mg] | E2: Anzahl geflohene Larven | F2: Beobachtungen | I2: Einwaage Substrat soll [g] | J2: ='Berechnungen Fütterungsmenge'!M14 -> 73.42207 | L2: PigSLK soll Box 1 [g] | M2: 73.422 | N2: =AVERAGE(M2:M4) -> 73.422 | O2: =_xlfn.STDEV.P(M2:M4) -> 0 | Q2: Frass (feucht) ist Box 1 [g] | R2: =D16 -> 21.05 | S2: =AVERAGE(R2:R4) -> 21.55 | T2: =_xlfn.STDEV.P(R2:R4) -> 0.37416574 | Y2: Larven geerntet (feucht) Box 1 [g] | Z2: =C13+F15*(D13/1000) -> 4.2145655 | AA2: =AVERAGE(Z2:Z4) -> 3.1229021 | AB2: =_xlfn.STDEV.P(Z2:Z4) -> 0.80200921 | AC2: =D15+F15 -> 394 | AD2: =AVERAGE(AC2:AC4) -> 309.66667 | AE2: =_xlfn.STDEV.P(AC2:AC4) -> 61.320651 | AG2: Feed Conversion Rate Box 1 | AH2: =M26/Z27 -> 37.969638 | AI2: =AVERAGE(AH2:AH4) -> -291.38454 | AJ2: =_xlfn.STDEV.P(AH2:AH4) -> 370.6522
A3: 0 | B3: 45321 | C3: 5.2287 | D3: =C3/A15*1000 -> 6.1154386 | F3: Initiales Larvengewicht 855x | I3: Einwaage Weizenkleie soll [g] | J3: ='Berechnungen Fütterungsmenge'!M23 -> 4.8599795 | L3: PigSLK soll Box 2 [g] | M3: 73.422 | Q3: Frass (feucht) ist Box 2 [g] | R3: =D34 -> 21.65 | Y3: Larven geerntet (feucht) Box 2 [g] | Z3: =C31+F33*(D31/1000) -> 2.3105533 | AC3: =D33+F33 -> 250 | AG3: Feed Conversion Rate Box 2 | AH3: =M27/Z28 -> -102.90594
A4: 1 | B4: 45322 | C4: 0.1771 | D4: =C4/A$16*1000 -> 7.084 | I4: Einwaage Larven soll | J4: ='Berechnungen Fütterungsmenge'!F22 -> 5.2281825 | L4: PigSLK soll Box 3 [g] | M4: 73.422 | Q4: Frass (feucht) ist Box 3 [g] | R4: =D52 -> 21.95 | Y4: Larven geerntet (feucht) Box 3 [g] | Z4: =C49+F51*(D49/1000) -> 2.8435875 | AC4: =D51+F51 -> 285 | AG4: Feed Conversion Rate Box 3 | AH4: =M28/Z29 -> -809.21733
A5: 2 | B5: 45323 | C5: 0.2457 | D5: =C5/A$16*1000 -> 9.828 | I5: Einwaage Substrat ist [g] | J5: 73.42 | L5: PigSLK ist Box 1 [g] | M5: =J5 -> 73.42 | N5: =AVERAGE(M5:M7) -> 73.42 | O5: =_xlfn.STDEV.P(M5:M7) -> 0
A6: 3 | B6: 45324 | C6: 0.2981 | D6: =C6/A$16*1000 -> 11.924 | I6: Einwaage Weizenkleie ist [g] | J6: 4.86 | L6: PigSLK ist Box 2 [g] | M6: =J23 -> 73.42 | R6: Wassergehalt [%] | S6: Mittelwert | T6: STABW | U6: Trockensubstanz [%] | V6: Mittelwert | W6: STABW | Z6: Wassergehalt [%] | AA6: Mittelwert | AB6: STABW | AC6: Trockensubstanz [%] | AD6: Mittelwert | AE6: STABW | AH6: Überlebensrate [%] | AI6: Mittelwert | AJ6: STABW
A7: 4 | B7: 45325 | C7: 0.3341 | D7: =C7/A$16*1000 -> 13.364 | I7: Einwaage Larven | J7: 5.2287 | L7: PigSLK ist Box 3 [g] | M7: =J41 -> 73.42 | Q7: Frass Box 1 Replikat 1 [%] | R7: 36.83 | S7: =AVERAGE(R7:R9) -> 36.32 | T7: =_xlfn.STDEV.P(R7:R9) -> 0.36887215 | U7: =100-R7 -> 63.17 | V7: =AVERAGE(U7:U9) -> 63.68 | W7: =_xlfn.STDEV.P(U7:U9) -> 0.36887215 | Y7: Larven geerntet Box 1 Replikat 1 [%] | Z7: 57.91 | AA7: =AVERAGE(Z7:Z9) -> 58.15 | AB7: =_xlfn.STDEV.P(Z7:Z9) -> 0.24711671 | AC7: =100-Z7 -> 42.09 | AD7: =AVERAGE(AC7:AC9) -> 41.85 | AE7: =_xlfn.STDEV.P(AC7:AC9) -> 0.24711671 | AG7: Überlebensrate Box 1 [%] | AH7: =AC2/M23*100 -> 46.07731 | AI7: =AVERAGE(AH7:AH9) -> 36.228627 | AJ7: =_xlfn.STDEV.P(AH7:AH9) -> 7.1625184
A8: 5 | B8: 45326 | C8: 0.2776 | D8: =C8/A$16*1000 -> 11.104 | L8: Weizenkleie soll Box 1 [g] | M8: 4.86 | N8: =AVERAGE(M8:M10) -> 4.86 | O8: =_xlfn.STDEV.P(M8:M10) -> 0 | Q8: Frass Box 1 Replikat 2 [%] | R8: 36.16 | U8: =100-R8 -> 63.84 | Y8: Larven geerntet Box 1 Replikat 2 [%] | Z8: 58.49 | AC8: =100-Z8 -> 41.51 | AG8: Überlebensrate Box 2 [%] | AH8: =AC3/M24*100 -> 29.253657
A9: 6 | B9: 45327 | C9: 0.353 | D9: =C9/A$16*1000 -> 14.12 | I9: Futter pro Tier in g | J9: 0.025 | L9: Weizenkleie soll Box 2 [g] | M9: 4.86 | Q9: Frass Box 1 Replikat 3 [%] | R9: 35.97 | U9: =100-R9 -> 64.03 | Y9: Larven geerntet Box 1 Replikat 3 [%] | Z9: 58.05 | AC9: =100-Z9 -> 41.95 | AG9: Überlebensrate Box 3 [%] | AH9: =AC4/M25*100 -> 33.354913
A10: 7 | B10: 45328 | C10: 0.4178 | D10: =C10/A$16*1000 -> 16.712 | L10: Weizenkleie soll Box 3 [g] | M10: 4.86 | Q10: Frass Box 2 Replikat 1 [%] | R10: 34.35 | S10: =AVERAGE(R10:R12) -> 32.35 | T10: =_xlfn.STDEV.P(R10:R12) -> 1.628926 | U10: =100-R10 -> 65.65 | V10: =AVERAGE(U10:U12) -> 67.65 | W10: =_xlfn.STDEV.P(U10:U12) -> 1.628926 | Y10: Larven geerntet Box 2 Replikat 1 [%] | Z10: 56.8 | AA10: =AVERAGE(Z10:Z12) -> 57.046667 | AB10: =_xlfn.STDEV.P(Z10:Z12) -> 0.18624953 | AC10: =100-Z10 -> 43.2 | AD10: =AVERAGE(AC10:AC12) -> 42.953333 | AE10: =_xlfn.STDEV.P(AC10:AC12) -> 0.18624953
A11: 8 | B11: 45329 | C11: 0.4329 | D11: =C11/A$16*1000 -> 17.316 | L11: Weizenkleie ist Box 1 [g] | M11: =J6 -> 4.86 | N11: =AVERAGE(M11:M13) -> 4.86 | O11: =_xlfn.STDEV.P(M11:M13) -> 0 | Q11: Frass Box 2 Replikat 2 [%] | R11: 32.34 | U11: =100-R11 -> 67.66 | Y11: Larven geerntet Box 2 Replikat 2 [%] | Z11: 57.09 | AC11: =100-Z11 -> 42.91 | AH11: Substratreduction [%] | AI11: Mittelwert | AJ11: STABW
A12: 9 | B12: 45330 | C12: 0.3238 | D12: =C12/A$16*1000 -> 12.952 | L12: Weizenkleie ist Box 2 [g] | M12: =J24 -> 4.86 | Q12: Frass Box 2 Replikat 3 [%] | R12: 30.36 | U12: =100-R12 -> 69.64 | Y12: Larven geerntet Box 2 Replikat 3 [%] | Z12: 57.25 | AC12: =100-Z12 -> 42.75 | AG12: Substratreduction Box 1 [%] | AH12: =(M26-R18)/M26*100 -> 37.286873 | AI12: =AVERAGE(AH12:AH14) -> 34.463708 | AJ12: =_xlfn.STDEV.P(AH12:AH14) -> 2.3741744
A13: 10 | B13: 45331 | C13: 4.0969 | D13: =C13/D15*1000 -> 10.696867 | F13: Endgewicht Larvenernte | L13: Weizenkleie ist Box 3 [g] | M13: =J42 -> 4.86 | Q13: Frass Box 3 Replikat 1 [%] | R13: 35.87 | S13: =AVERAGE(R13:R15) -> 36.34 | T13: =_xlfn.STDEV.P(R13:R15) -> 1.0307602 | U13: =100-R13 -> 64.13 | V13: =AVERAGE(U13:U15) -> 63.66 | W13: =_xlfn.STDEV.P(U13:U15) -> 1.0307602 | Y13: Larven geerntet Box 3 Replikat 1 [%] | Z13: 57.84 | AA13: =AVERAGE(Z13:Z15) -> 58.73 | AB13: =_xlfn.STDEV.P(Z13:Z15) -> 0.63092525 | AC13: =100-Z13 -> 42.16 | AD13: =AVERAGE(AC13:AC15) -> 41.27 | AE13: =_xlfn.STDEV.P(AC13:AC15) -> 0.63092525 | AG13: Substratreduction Box 2 [%] | AH13: =(M27-R19)/M27*100 -> 31.478162
L14: Gesamtmenge Box 1 [g] | M14: =M5+M11 -> 78.28 | N14: =AVERAGE(M14:M16) -> 78.28 | O14: =_xlfn.STDEV.P(M14:M16) -> 0 | Q14: Frass Box 3 Replikat 2 [%] | R14: 37.77 | U14: =100-R14 -> 62.23 | Y14: Larven geerntet Box 3 Replikat 2 [%] | Z14: 59.12 | AC14: =100-Z14 -> 40.88 | AG14: Substratreduction Box 3 [%] | AH14: =(M28-R20)/M28*100 -> 34.62609
A15: 855 | B15: Gesamtmenge | C15: Anzahl Larven an Tag 10 | D15: 383 | E15: Larven im Frass | F15: 11 | L15: Gesamtmenge Box 2 [g] | M15: =M6+M12 -> 78.28 | Q15: Frass Box 3 Replikat 3 [%] | R15: 35.38 | U15: =100-R15 -> 64.62 | Y15: Larven geerntet Box 3 Replikat 3 [%] | Z15: 59.23 | AC15: =100-Z15 -> 40.77
A16: 25 | B16: Tiere pro Tag gezählt | C16: Frass [g] | D16: 21.05 | L16: Gesamtmenge Box 3 [g] | M16: =M7+M13 -> 78.28 | AH16: Waste reduction index | AI16: Mittelwert | AJ16: STABW
L17: Larven soll Box 1 [g] | M17: 5.2281825 | N17: =AVERAGE(M17:M19) -> 5.2281825 | O17: =_xlfn.STDEV.P(M17:M19) -> 0 | R17: Einwaage [g] | S17: Mittelwert | T17: STABW | Z17: Einwaage [g] | AA17: Mittelwert | AB17: STABW | AG17: Waste reduction index Box 1 [%/d] | AH17: =AH12/10 -> 3.7286873 | AI17: =AVERAGE(AH17:AH19) -> 3.4463708 | AJ17: =_xlfn.STDEV.P(AH17:AH19) -> 0.23741744
L18: Larven soll Box 2 [g] | M18: 5.2281825 | Q18: Frass (trocken) ist Box 1 [g] | R18: =R2*(V7/100) -> 13.40464 | S18: =AVERAGE(R18:R20) -> 14.008078 | T18: =_xlfn.STDEV.P(R18:R20) -> 0.50746877 | Y18: Larven geerntet (trocken) Box 1 [g] | Z18: =Z2*(AD7/100) -> 1.7637957 | AA18: =AVERAGE(Z18:Z20) -> 1.3099346 | AB18: =_xlfn.STDEV.P(Z18:Z20) -> 0.32933335 | AC18: Hier muss noch das eingesetzte Gewicht subtrahiert werden! | AG18: Waste reduction index Box 2 [%/d] | AH18: =AH13/10 -> 3.1478162
A19: Box 2 | L19: Larven soll Box 3 [g] | M19: 5.2281825 | Q19: Frass (trocken) ist Box 2 [g] | R19: =R3*(V10/100) -> 14.646225 | Y19: Larven geerntet (trocken) Box 2 [g] | Z19: =Z3*(AD10/100) -> 0.99245965 | AG19: Waste reduction index Box 3 [%/d] | AH19: =AH14/10 -> 3.462609
A20: Tag | B20: Datum | C20: Gewicht 25 Larven [mg] | D20: individuelles Gewicht [mg] | E20: Anzahl geflohene Larven | F20: Beobachtungen | I20: Einwaage Substrat soll [g] | J20: ='Berechnungen Fütterungsmenge'!M14 -> 73.42207 | L20: Larven ist Box 1 [g] | M20: =J7 -> 5.2287 | N20: =AVERAGE(M20:M22) -> 5.2264 | O20: =_xlfn.STDEV.P(M20:M22) -> 0.0016673332 | Q20: Frass (trocken) ist Box 3 [g] | R20: =R4*(V13/100) -> 13.97337 | Y20: Larven geerntet (trocken) Box 3 [g] | Z20: =Z4*(AD13/100) -> 1.1735486
A21: 0 | B21: 45321 | C21: 5.2257 | D21: =C21/A33*1000 -> 6.1119298 | F21: Initiales Larvengewicht 855x | I21: Einwaage Weizenkleie soll [g] | J21: ='Berechnungen Fütterungsmenge'!M23 -> 4.8599795 | L21: Larven ist Box 2 [g] | M21: =J25 -> 5.2257 | Y21: Initiales Larvengewicht (feucht) Box 1 [g] | Z21: =M20 -> 5.2287 | AA21: =AVERAGE(Z21:Z23) -> 5.2264 | AB21: =_xlfn.STDEV.P(Z21:Z23) -> 0.0016673332 | AH21: ECI | AI21: Mittelwert | AJ21: STABW
A22: 1 | B22: 45322 | C22: 0.1756 | D22: =C22/A$16*1000 -> 7.024 | I22: Einwaage Larven soll | J22: ='Berechnungen Fütterungsmenge'!F22 -> 5.2281825 | L22: Larven ist Box 3 [g] | M22: =J43 -> 5.2248 | Y22: Initiales Larvengewicht (feucht) Box 2 [g] | Z22: =M21 -> 5.2257 | AC22: Trockensubstanz Junglarven [%] | AD22: 22.966667 | AG22: Efficiency of conversion of the ingested feed Box 1 | AH22: =Z27/(M26-R18) -> 0.070632989 | AI22: =AVERAGE(AH22:AH24) -> 0.012064383 | AJ22: =_xlfn.STDEV.P(AH22:AH24) -> 0.042887933
A23: 2 | B23: 45323 | C23: 0.2381 | D23: =C23/A$16*1000 -> 9.524 | I23: Einwaage Substrat ist [g] | J23: 73.42 | L23: Larven ist Box 1 [Anzahl] | M23: =M20/'Berechnungen Fütterungsmenge'!$F$21 -> 855.08463 | N23: =AVERAGE(M23:M25) -> 854.7085 | O23: =_xlfn.STDEV.P(M23:M25) -> 0.27267026 | Y23: Initiales Larvengewicht (feucht) Box 3 [g] | Z23: =M22 -> 5.2248 | AG23: Efficiency of conversion of the ingested feed Box 2 | AH23: =Z28/(M27-R19) -> -0.030870964
A24: 3 | B24: 45324 | C24: 0.2517 | D24: =C24/A$16*1000 -> 10.068 | I24: Einwaage Weizenkleie ist [g] | J24: 4.86 | L24: Larven ist Box 2 [Anzahl] | M24: =M21/'Berechnungen Fütterungsmenge'!$F$21 -> 854.59402 | Y24: Initiales Larvengewicht (trocken) Box 1 [g] | Z24: =Z21*(AD22/100) -> 1.2008581 | AA24: =AVERAGE(Z24:Z26) -> 1.2003299 | AB24: =_xlfn.STDEV.P(Z24:Z26) -> 0.00038293086 | AG24: Efficiency of conversion of the ingested feed Box 3 | AH24: =Z29/(M28-R20) -> -0.0035688753
A25: 4 | B25: 45325 | C25: 0.2963 | D25: =C25/A$16*1000 -> 11.852 | I25: Einwaage Larven | J25: 5.2257 | L25: Larven ist Box 3 [Anzahl] | M25: =M22/'Berechnungen Fütterungsmenge'!$F$21 -> 854.44684 | Y25: Initiales Larvengewicht (trocken) Box 2 [g] | Z25: =Z22*(AD22/100) -> 1.2001691
A26: 5 | B26: 45326 | C26: 0.3104 | D26: =C26/A$16*1000 -> 12.416 | L26: Gesamtmenge TS Box 1 [g] | M26: =M5*('Berechnungen Fütterungsmenge'!$F$5/100)+M11*('Berechnungen Fütterungsmenge'!$F$10/100) -> 21.374536 | N26: =AVERAGE(M26:M28) -> 21.374536 | O26: =_xlfn.STDEV.P(M26:M28) -> 0 | Y26: Initiales Larvengewicht (trocken) Box 3 [g] | Z26: =Z23*(AD22/100) -> 1.1999624 | AH26: Larval growth rate | AI26: Mittelwert | AJ26: STABW
A27: 6 | B27: 45327 | C27: 0.2835 | D27: =C27/A$16*1000 -> 11.34 | L27: Gesamtmenge TS Box 2 [g] | M27: =M6*('Berechnungen Fütterungsmenge'!$F$5/100)+M12*('Berechnungen Fütterungsmenge'!$F$10/100) -> 21.374536 | Y27: Larven geerntet-initial (trocken) Box 1 [g] | Z27: =Z18-Z24 -> 0.56293758 | AA27: =AVERAGE(Z27:Z29) -> 0.10960476 | AB27: =_xlfn.STDEV.P(Z27:Z29) -> 0.32898835 | AG27: Larval growth rate Box 1 [g/d] | AH27: =(Z18-Z24)/10 -> 0.056293758 | AI27: =AVERAGE(AH27:AH29) -> 0.010960476 | AJ27: =_xlfn.STDEV.P(AH27:AH29) -> 0.032898835
A28: 7 | B28: 45328 | C28: 0.4227 | D28: =C28/A$16*1000 -> 16.908 | L28: Gesamtmenge TS Box 3 [g] | M28: =M7*('Berechnungen Fütterungsmenge'!$F$5/100)+M13*('Berechnungen Fütterungsmenge'!$F$10/100) -> 21.374536 | Y28: Larven geerntet-initial (trocken) Box 2 [g] | Z28: =Z19-Z25 -> -0.20770945 | AG28: Larval growth rate Box 2 [g/d] | AH28: =(Z19-Z25)/10 -> -0.020770945
A29: 8 | B29: 45329 | C29: 0.3188 | D29: =C29/A$16*1000 -> 12.752 | Y29: Larven geerntet-initial (trocken) Box 3 [g] | Z29: =Z20-Z26 -> -0.026413839 | AG29: Larval growth rate Box 3 [g/d] | AH29: =(Z20-Z26)/10 -> -0.0026413839
A30: 9 | B30: 45330 | C30: 0.362 | D30: =C30/A$16*1000 -> 14.48
A31: 10 | B31: 45331 | C31: 2.2551 | D31: =C31/D33*1000 -> 9.2422131 | F31: Endgewicht Larvenernte | AD31: Einzelgewicht Larve [g] | AH31: Yield | AI31: Mittelwert | AJ31: STABW
AC32: Larven geerntet Einzelgewicht Box 1 [g] | AD32: =Z2/AC2 -> 0.010696867 | AG32: Yield Box 1 [g] | AH32: =Z27 -> 0.56293758 | AI32: =AVERAGE(AH32:AH34) -> 0.10960476 | AJ32: =_xlfn.STDEV.P(AH32:AH34) -> 0.32898835
A33: 855 | B33: Gesamtmenge | C33: Anzahl Larven an Tag 10 | D33: 244 | E33: Larven im Frass | F33: 6 | AG33: Yield Box 2 [g] | AH33: =Z28 -> -0.20770945
A34: 25 | B34: Tiere pro Tag gezählt | C34: Frass [g] | D34: 21.65 | AG34: Yield Box 3 [g] | AH34: =Z29 -> -0.026413839
AC35: Larven geerntet Einzelgewicht Box 2 [g] | AD35: =Z3/AC3 -> 0.0092422131
AH36: LFW | AI36: Mittelwert | AJ36: STABW
A37: Box 3 | AG37: Larval final weight Box 1 [mg/Larve] | AH37: =Z18*1000/AC2 -> 4.4766388 | AI37: =AVERAGE(AH37:AH39) -> 4.1880639 | AJ37: =_xlfn.STDEV.P(AH37:AH39) -> 0.21279631
A38: Tag | B38: Datum | C38: Gewicht 25 Larven [mg] | D38: individuelles Gewicht [mg] | E38: Anzahl geflohene Larven | F38: Beobachtungen | I38: Einwaage Substrat soll [g] | J38: ='Berechnungen Fütterungsmenge'!M14 -> 73.42207 | AC38: Larven geerntet Einzelgewicht Box [g] | AD38: =Z4/AC4 -> 0.0099775 | AG38: Larval final weight Box 2 [mg/Larve] | AH38: =Z19*1000/AC3 -> 3.9698386
A39: 0 | B39: 45321 | C39: 5.2248 | D39: =C39/A51*1000 -> 6.1108772 | F39: Initiales Larvengewicht 855x | I39: Einwaage Weizenkleie soll [g] | J39: ='Berechnungen Fütterungsmenge'!M23 -> 4.8599795 | AG39: Larval final weight Box 3 [mg/Larve] | AH39: =Z20*1000/AC4 -> 4.1177143
A40: 1 | B40: 45322 | C40: 0.176 | D40: =C40/A$16*1000 -> 7.04 | I40: Einwaage Larven soll | J40: ='Berechnungen Fütterungsmenge'!F22 -> 5.2281825
...

Sheet 50 mg
A1: Box 1 | M1: Eiwaage [g] | N1: Mittelwert | O1: STABW | R1: Einwaage [g] | S1: Mittelwert | T1: STABW | Z1: Einwaage [g] | AA1: Mittelwert | AB1: STABW | AC1: Anzahl | AD1: Mittelwert | AE1: STABW | AH1: FCR DM/DM | AI1: Mittelwert | AJ1: STABW
A2: Tag | B2: Datum | C2: Gewicht 25 Larven [mg] | D2: individuelles Gewicht [mg] | E2: Anzahl geflohene Larven | F2: Beobachtungen | I2: Einwaage Substrat soll [g] | J2: ='Berechnungen Fütterungsmenge'!M15 -> 146.84414 | L2: PigSLK soll Box 1 [g] | M2: 146.844 | N2: =AVERAGE(M2:M4) -> 146.844 | O2: =_xlfn.STDEV.P(M2:M4) -> 0 | Q2: Frass (feucht) ist Box 1 [g] | R2: =D16 -> 56.19 | S2: =AVERAGE(R2:R4) -> 55.753333 | T2: =_xlfn.STDEV.P(R2:R4) -> 2.0200715 | Y2: Larven geerntet (feucht) Box 1 [g] | Z2: =C13+F15*(D13/1000) -> 10.713122 | AA2: =AVERAGE(Z2:Z4) -> 12.811883 | AB2: =_xlfn.STDEV.P(Z2:Z4) -> 3.5480418 | AC2: =D15+F15 -> 497 | AD2: =AVERAGE(AC2:AC4) -> 597 | AE2: =_xlfn.STDEV.P(AC2:AC4) -> 173.46662 | AG2: Feed Conversion Rate Box 1 | AH2: =M26/Z27 -> 14.402779 | AI2: =AVERAGE(AH2:AH4) -> 13.042439 | AJ2: =_xlfn.STDEV.P(AH2:AH4) -> 3.9645763
A3: 0 | B3: 45321 | C3: 5.2281 | D3: =C3/A15*1000 -> 6.1147368 | I3: Einwaaage Weizenkleie soll [g] | J3: 9.7199591 | L3: PigSLK soll Box 2 [g] | Q3: Frass (feucht) ist Box 2 [g] | R3: =D34 -> 53.09 | Y3: Larven geerntet (feucht) Box 2 [g] | Z3: =C31+F33*(D31/1000) -> 17.808326 | AC3: =D33+F33 -> 841 | AG3: Feed Conversion Rate Box 2 | AH3: =M27/Z28 -> 7.651759
A4: 1 | B4: 45322 | C4: 0.1835 | D4: =C4/A$16*1000 -> 7.34 | I4: Einwaage Larven soll | J4: 5.2281825 | L4: PigSLK soll Box 3 [g] | Q4: Frass (feucht) ist Box 3 [g] | R4: =D52 -> 57.98 | Y4: Larven geerntet (feucht) Box 3 [g] | Z4: =C49+F51*(D49/1000) -> 9.9142 | AC4: =D51+F51 -> 453 | AG4: Feed Conversion Rate Box 3 | AH4: =M28/Z29 -> 17.072779
A5: 2 | B5: 45323 | C5: 0.2444 | D5: =C5/A$16*1000 -> 9.776 | I5: Einwaage Substrat ist [g] | J5: 146.84 | L5: PigSLK ist Box 1 [g] | M5: =J5 -> 146.84 | N5: =AVERAGE(M5:M7) -> 146.84 | O5: =_xlfn.STDEV.P(M5:M7) -> 0
A6: 3 | B6: 45324 | C6: 0.367 | D6: =C6/A$16*1000 -> 14.68 | I6: Einwaaage Weizenkleie ist [g] | J6: 9.72 | L6: PigSLK ist Box 2 [g] | M6: =J23 -> 146.84 | R6: Wassergehalt [%] | S6: Mittelwert | T6: STABW | U6: Trockensubstanz [%] | V6: Mittelwert | W6: STABW | Z6: Wassergehalt [%] | AA6: Mittelwert | AB6: STABW | AC6: Trockensubstanz [%] | AD6: Mittelwert | AE6: STABW | AH6: Überlebensrate [%] | AI6: Mittelwert | AJ6: STABW
A7: 4 | B7: 45325 | C7: 0.3145 | D7: =C7/A$16*1000 -> 12.58 | I7: Larven Einwaage ist | J7: 5.2281 | L7: PigSLK ist Box 3 [g] | M7: =J41 -> 146.84 | Q7: Frass Box 1 Replikat 1 [%] | R7: 47.22 | S7: =AVERAGE(R7:R9) -> 48.673333 | T7: =_xlfn.STDEV.P(R7:R9) -> 1.4599163 | U7: =100-R7 -> 52.78 | V7: =AVERAGE(U7:U9) -> 51.326667 | W7: =_xlfn.STDEV.P(U7:U9) -> 1.4599163 | Y7: Larven geerntet Box 1 Replikat 1 [%] | Z7: 60.04 | AA7: =AVERAGE(Z7:Z9) -> 61.086667 | AB7: =_xlfn.STDEV.P(Z7:Z9) -> 0.74028523 | AC7: =100-Z7 -> 39.96 | AD7: =AVERAGE(AC7:AC9) -> 38.913333 | AE7: =_xlfn.STDEV.P(AC7:AC9) -> 0.74028523 | AG7: Überlebensrate Box 1 [%] | AH7: =AC2/M23*100 -> 58.129572 | AI7: =AVERAGE(AH7:AH9) -> 69.815681 | AJ7: =_xlfn.STDEV.P(AH7:AH9) -> 20.273261
A8: 5 | B8: 45326 | C8: 0.3304 | D8: =C8/A$16*1000 -> 13.216 | L8: Weizenkleie soll Box 1 [g] | M8: 9.72 | N8: =AVERAGE(M8:M10) -> 9.72 | O8: =_xlfn.STDEV.P(M8:M10) -> 0 | Q8: Frass Box 1 Replikat 2 [%] | R8: 48.13 | U8: =100-R8 -> 51.87 | Y8: Larven geerntet Box 1 Replikat 2 [%] | Z8: 61.59 | AC8: =100-Z8 -> 38.41 | AG8: Überlebensrate Box 2 [%] | AH8: =AC3/M24*100 -> 98.332151
A9: 6 | B9: 45327 | C9: 0.6505 | D9: =C9/A$16*1000 -> 26.02 | I9: Futter pro Tier in g | J9: 0.05 | L9: Weizenkleie soll Box 2 [g] | Q9: Frass Box 1 Replikat 3 [%] | R9: 50.67 | U9: =100-R9 -> 49.33 | Y9: Larven geerntet Box 1 Replikat 3 [%] | Z9: 61.63 | AC9: =100-Z9 -> 38.37 | AG9: Überlebensrate Box 3 [%] | AH9: =AC4/M25*100 -> 52.985319
A10: 7 | B10: 45328 | C10: 0.6789 | D10: =C10/A$16*1000 -> 27.156 | L10: Weizenkleie soll Box 3 [g] | Q10: Frass Box 2 Replikat 1 [%] | R10: 49.15 | S10: =AVERAGE(R10:R12) -> 48.576667 | T10: =_xlfn.STDEV.P(R10:R12) -> 0.4170798 | U10: =100-R10 -> 50.85 | V10: =AVERAGE(U10:U12) -> 51.423333 | W10: =_xlfn.STDEV.P(U10:U12) -> 0.4170798 | Y10: Larven geerntet Box 2 Replikat 1 [%] | Z10: 61.3 | AA10: =AVERAGE(Z10:Z12) -> 61.883333 | AB10: =_xlfn.STDEV.P(Z10:Z12) -> 0.41298372 | AC10: =100-Z10 -> 38.7 | AD10: =AVERAGE(AC10:AC12) -> 38.116667 | AE10: =_xlfn.STDEV.P(AC10:AC12) -> 0.41298372
A11: 8 | B11: 45329 | C11: 0.7697 | D11: =C11/A$16*1000 -> 30.788 | L11: Weizenkleie ist Box 1 [g] | M11: =J6 -> 9.72 | N11: =AVERAGE(M11:M13) -> 9.72 | O11: =_xlfn.STDEV.P(M11:M13) -> 0 | Q11: Frass Box 2 Replikat 2 [%] | R11: 48.17 | U11: =100-R11 -> 51.83 | Y11: Larven geerntet Box 2 Replikat 2 [%] | Z11: 62.2 | AC11: =100-Z11 -> 37.8 | AH11: Substratreduction [%] | AI11: Mittelwert | AJ11: STABW
A12: 9 | B12: 45330 | C12: 0.7324 | D12: =C12/A$16*1000 -> 29.296 | L12: Weizenkleie ist Box 2 [g] | M12: =J24 -> 9.72 | Q12: Frass Box 2 Replikat 3 [%] | R12: 48.41 | U12: =100-R12 -> 51.59 | Y12: Larven geerntet Box 2 Replikat 3 [%] | Z12: 62.15 | AC12: =100-Z12 -> 37.85 | AG12: Substratreduction Box 1 [%] | AH12: =(M26-R18)/M26*100 -> 32.535485 | AI12: =AVERAGE(AH12:AH14) -> 33.563774 | AJ12: =_xlfn.STDEV.P(AH12:AH14) -> 1.8320666
A13: 10 | B13: 45331 | C13: 10.6269 | D13: =C13/D15*1000 -> 21.555578 | L13: Weizenkleie ist Box 3 [g] | M13: =J42 -> 9.72 | Q13: Frass Box 3 Replikat 1 [%] | R13: 50.15 | S13: =AVERAGE(R13:R15) -> 49.876667 | T13: =_xlfn.STDEV.P(R13:R15) -> 1.482348 | U13: =100-R13 -> 49.85 | V13: =AVERAGE(U13:U15) -> 50.123333 | W13: =_xlfn.STDEV.P(U13:U15) -> 1.482348 | Y13: Larven geerntet Box 3 Replikat 1 [%] | Z13: 62.1 | AA13: =AVERAGE(Z13:Z15) -> 62.633333 | AB13: =_xlfn.STDEV.P(Z13:Z15) -> 0.39406711 | AC13: =100-Z13 -> 37.9 | AD13: =AVERAGE(AC13:AC15) -> 37.366667 | AE13: =_xlfn.STDEV.P(AC13:AC15) -> 0.39406711 | AG13: Substratreduction Box 2 [%] | AH13: =(M27-R19)/M27*100 -> 36.13745
L14: Gesamtmenge Box 1 [g] | M14: =M5+M11 -> 156.56 | N14: =AVERAGE(M14:M16) -> 156.56 | O14: =_xlfn.STDEV.P(M14:M16) -> 0 | Q14: Frass Box 3 Replikat 2 [%] | R14: 47.94 | U14: =100-R14 -> 52.06 | Y14: Larven geerntet Box 3 Replikat 2 [%] | Z14: 63.04 | AC14: =100-Z14 -> 36.96 | AG14: Substratreduction Box 3 [%] | AH14: =(M28-R20)/M28*100 -> 32.018387
A15: 855 | B15: Gesamtmenge | C15: Anzahl Larven an Tag 10 | D15: 493 | E15: Larven im Frass | F15: 4 | L15: Gesamtmenge Box 2 [g] | M15: =M6+M12 -> 156.56 | Q15: Frass Box 3 Replikat 3 [%] | R15: 51.54 | U15: =100-R15 -> 48.46 | Y15: Larven geerntet Box 3 Replikat 3 [%] | Z15: 62.76 | AC15: =100-Z15 -> 37.24
A16: 25 | B16: Tiere pro Tag gezählt | C16: Frass [g] | D16: 56.19 | L16: Gesamtmenge Box 3 [g] | M16: =M7+M13 -> 156.56 | AH16: Waste reduction index | AI16: Mittelwert | AJ16: STABW
L17: Larven soll Box 1 [g] | M17: 5.2281825 | N17: =AVERAGE(M17:M19) -> 5.2281825 | O17: =_xlfn.STDEV.P(M17:M19) -> 0 | R17: Einwaage [g] | S17: Mittelwert | T17: STABW | Z17: Einwaage [g] | AA17: Mittelwert | AB17: STABW | AG17: Waste reduction index Box 1 [%/d] | AH17: =AH12/10 -> 3.2535485 | AI17: =AVERAGE(AH17:AH19) -> 3.3563774 | AJ17: =_xlfn.STDEV.P(AH17:AH19) -> 0.18320666
L18: Larven soll Box 2 [g] | Q18: Frass (trocken) ist Box 1 [g] | R18: =R2*(V7/100) -> 28.840454 | S18: =AVERAGE(R18:R20) -> 28.40087 | T18: =_xlfn.STDEV.P(R18:R20) -> 0.78319149 | Y18: Larven geerntet (trocken) Box 1 [g] | Z18: =Z2*(AD7/100) -> 4.168833 | AA18: =AVERAGE(Z18:Z20) -> 4.8871264 | AB18: =_xlfn.STDEV.P(Z18:Z20) -> 1.357374 | AC18: Hier muss noch das eingesetzte Gewicht subtrahiert werden! | AG18: Waste reduction index Box 2 [%/d] | AH18: =AH13/10 -> 3.613745
A19: Box 2 | L19: Larven soll Box 3 [g] | Q19: Frass (trocken) ist Box 2 [g] | R19: =R3*(V10/100) -> 27.300648 | Y19: Larven geerntet (trocken) Box 2 [g] | Z19: =Z3*(AD10/100) -> 6.7879401 | AG19: Waste reduction index Box 3 [%/d] | AH19: =AH14/10 -> 3.2018387
A20: Tag | B20: Datum | C20: Gewicht 25 Larven [mg] | D20: individuelles Gewicht [mg] | E20: Anzahl geflohene Larven | F20: Beobachtungen | I20: Einwaage Substrat soll [g] | J20: 146.84414 | L20: Larven ist Box 1 [g] | M20: =J7 -> 5.2281 | N20: =AVERAGE(M20:M22) -> 5.2286 | O20: =_xlfn.STDEV.P(M20:M22) -> 0.00085244746 | Q20: Frass (trocken) ist Box 3 [g] | R20: =R4*(V13/100) -> 29.061509 | Y20: Larven geerntet (trocken) Box 3 [g] | Z20: =Z4*(AD13/100) -> 3.7046061
A21: 0 | B21: 45321 | C21: 5.2298 | D21: =C21/A33*1000 -> 6.1167251 | I21: Einwaaage Weizenkleie soll [g] | J21: 9.7199591 | L21: Larven ist Box 2 [g] | M21: =J25 -> 5.2298 | Y21: Initiales Larvengewicht (feucht) Box 1 [g] | Z21: =M20 -> 5.2281 | AA21: =AVERAGE(Z21:Z23) -> 5.2286 | AB21: =_xlfn.STDEV.P(Z21:Z23) -> 0.00085244746 | AH21: ECI | AI21: Mittelwert | AJ21: STABW
A22: 1 | B22: 45322 | C22: 0.2072 | D22: =C22/A$16*1000 -> 8.288 | I22: Einwaage Larven soll | J22: 5.2281825 | L22: Larven ist Box 3 [g] | M22: =J43 -> 5.2279 | Y22: Initiales Larvengewicht (feucht) Box 2 [g] | Z22: =M21 -> 5.2298 | AC22: Trockensubstanz Junglarven [%] | AD22: 22.966667 | AG22: Efficiency of conversion of the ingested feed Box 1 | AH22: =Z27/(M26-R18) -> 0.21340098 | AI22: =AVERAGE(AH22:AH24) -> 0.25265991 | AJ22: =_xlfn.STDEV.P(AH22:AH24) -> 0.078060612
A23: 2 | B23: 45323 | C23: 0.2403 | D23: =C23/A$16*1000 -> 9.612 | I23: Einwaage Substrat ist [g] | J23: 146.84 | L23: Larven ist Box 1 [Anzahl] | M23: =M20/'Berechnungen Fütterungsmenge'!$F$21 -> 854.98651 | N23: =AVERAGE(M23:M25) -> 855.06828 | O23: =_xlfn.STDEV.P(M23:M25) -> 0.13940649 | Y23: Initiales Larvengewicht (feucht) Box 3 [g] | Z23: =M22 -> 5.2279 | AG23: Efficiency of conversion of the ingested feed Box 2 | AH23: =Z28/(M27-R19) -> 0.36164396
A24: 3 | B24: 45324 | C24: 0.3042 | D24: =C24/A$16*1000 -> 12.168 | I24: Einwaaage Weizenkleie ist [g] | J24: 9.72 | L24: Larven ist Box 2 [Anzahl] | M24: =M21/'Berechnungen Fütterungsmenge'!$F$21 -> 855.26452 | Y24: Initiales Larvengewicht (trocken) Box 1 [g] | Z24: =Z21*(AD22/100) -> 1.2007203 | AA24: =AVERAGE(Z24:Z26) -> 1.2008351 | AB24: =_xlfn.STDEV.P(Z24:Z26) -> 0.00019577877 | AG24: Efficiency of conversion of the ingested feed Box 3 | AH24: =Z29/(M28-R20) -> 0.1829348
A25: 4 | B25: 45325 | C25: 0.3332 | D25: =C25/A$16*1000 -> 13.328 | I25: Larven Einwaage ist | J25: 5.2298 | L25: Larven ist Box 3 [Anzahl] | M25: =M22/'Berechnungen Fütterungsmenge'!$F$21 -> 854.9538 | Y25: Initiales Larvengewicht (trocken) Box 2 [g] | Z25: =Z22*(AD22/100) -> 1.2011107
A26: 5 | B26: 45326 | C26: 0.36 | D26: =C26/A$16*1000 -> 14.4 | L26: Gesamtmenge TS Box 1 [g] | M26: =M5*('Berechnungen Fütterungsmenge'!$F$5/100)+M11*('Berechnungen Fütterungsmenge'!$F$10/100) -> 42.749072 | N26: =AVERAGE(M26:M28) -> 42.749072 | O26: =_xlfn.STDEV.P(M26:M28) -> 0 | Y26: Initiales Larvengewicht (trocken) Box 3 [g] | Z26: =Z23*(AD22/100) -> 1.2006744 | AH26: Larval growth rate | AI26: Mittelwert | AJ26: STABW
A27: 6 | B27: 45327 | C27: 0.4991 | D27: =C27/A$16*1000 -> 19.964 | L27: Gesamtmenge TS Box 2 [g] | M27: =M6*('Berechnungen Fütterungsmenge'!$F$5/100)+M12*('Berechnungen Fütterungsmenge'!$F$10/100) -> 42.749072 | Y27: Larven geerntet-initial (trocken) Box 1 [g] | Z27: =Z18-Z24 -> 2.9681127 | AA27: =AVERAGE(Z27:Z29) -> 3.6862912 | AB27: =_xlfn.STDEV.P(Z27:Z29) -> 1.3571784 | AG27: Larval growth rate Box 1 [g/d] | AH27: =(Z18-Z24)/10 -> 0.29681127 | AI27: =AVERAGE(AH27:AH29) -> 0.36862912 | AJ27: =_xlfn.STDEV.P(AH27:AH29) -> 0.13571784
A28: 7 | B28: 45328 | C28: 0.6766 | D28: =C28/A$16*1000 -> 27.064 | L28: Gesamtmenge TS Box 3 [g] | M28: =M7*('Berechnungen Fütterungsmenge'!$F$5/100)+M13*('Berechnungen Fütterungsmenge'!$F$10/100) -> 42.749072 | Y28: Larven geerntet-initial (trocken) Box 2 [g] | Z28: =Z19-Z25 -> 5.5868294 | AG28: Larval growth rate Box 2 [g/d] | AH28: =(Z19-Z25)/10 -> 0.55868294
A29: 8 | B29: 45329 | C29: 0.8453 | D29: =C29/A$16*1000 -> 33.812 | Y29: Larven geerntet-initial (trocken) Box 3 [g] | Z29: =Z20-Z26 -> 2.5039317 | AG29: Larval growth rate Box 3 [g/d] | AH29: =(Z20-Z26)/10 -> 0.25039317
A30: 9 | B30: 45330 | C30: 0.6447 | D30: =C30/A$16*1000 -> 25.788
A31: 10 | B31: 45331 | C31: 17.7448 | D31: =C31/D33*1000 -> 21.175179 | AD31: Einzelgewicht Larve [g] | AH31: Yield | AI31: Mittelwert | AJ31: STABW
AC32: Larven geerntet Einzelgewicht Box 1 [g] | AD32: =Z2/AC2 -> 0.021555578 | AG32: Yield Box 1 [g] | AH32: =Z27 -> 2.9681127 | AI32: =AVERAGE(AH32:AH34) -> 3.6862912 | AJ32: =_xlfn.STDEV.P(AH32:AH34) -> 1.3571784
A33: 855 | B33: Gesamtmenge | C33: Anzahl Larven an Tag 10 | D33: 838 | E33: Larven im Frass | F33: 3 | AG33: Yield Box 2 [g] | AH33: =Z28 -> 5.5868294
A34: 25 | B34: Tiere pro Tag gezählt | C34: Frass [g] | D34: 53.09 | AG34: Yield Box 3 [g] | AH34: =Z29 -> 2.5039317
AC35: Larven geerntet Einzelgewicht Box 2 [g] | AD35: =Z3/AC3 -> 0.021175179
AH36: LFW | AI36: Mittelwert | AJ36: STABW
A37: Box 3 | AG37: Larval final weight Box 1 [mg/Larve] | AH37: =Z18*1000/AC2 -> 8.387994 | AI37: =AVERAGE(AH37:AH39) -> 8.2124016 | AJ37: =_xlfn.STDEV.P(AH37:AH39) -> 0.13157741
A38: Tag | B38: Datum | C38: Gewicht 25 Larven [mg] | D38: individuelles Gewicht [mg] | E38: Anzahl geflohene Larven | F38: Beobachtungen | I38: Einwaage Substrat soll [g] | J38: 146.84414 | AC38: Larven geerntet Einzelgewicht Box [g] | AD38: =Z4/AC4 -> 0.021885651 | AG38: Larval final weight Box 2 [mg/Larve] | AH38: =Z19*1000/AC3 -> 8.0712724
A39: 0 | B39: 45321 | C39: 5.2279 | D39: =C39/A51*1000 -> 6.1145029 | I39: Einwaaage Weizenkleie soll [g] | J39: 9.7199591 | AG39: Larval final weight Box 3 [mg/Larve] | AH39: =Z20*1000/AC4 -> 8.1779383
A40: 1 | B40: 45322 | C40: 0.1728 | D40: =C40/A$16*1000 -> 6.912 | I40: Einwaage Larven soll | J40: 5.2281825
...

Sheet 100 mg
A1: Box 1 | M1: Eiwaage [g] | N1: Mittelwert | O1: STABW | R1: Einwaage [g] | S1: Mittelwert | T1: STABW | Z1: Einwaage [g] | AA1: Mittelwert | AB1: STABW | AC1: Anzahl | AD1: Mittelwert | AE1: STABW | AH1: FCR DM/DM | AI1: Mittelwert | AJ1: STABW
A2: Tag | B2: Datum | C2: Gewicht 25 Larven [mg] | D2: individuelles Gewicht [mg] | E2: Anzahl geflohene Larven | F2: Beobachtungen | I2: Einwaage Substrat soll [g] | J2: =M2 -> 293.699 | L2: PigSLK soll Box 1 [g] | M2: 293.699 | N2: =AVERAGE(M2:M4) -> 293.699 | O2: =_xlfn.STDEV.P(M2:M4) -> 0 | Q2: Frass (feucht) ist Box 1 [g] | R2: =D16 -> 124.49 | S2: =AVERAGE(R2:R4) -> 132.12667 | T2: =_xlfn.STDEV.P(R2:R4) -> 7.7129343 | Y2: Larven geerntet (feucht) Box 1 [g] | Z2: =C13+F15*(D13/1000) -> 45.743197 | AA2: =AVERAGE(Z2:Z4) -> 43.076751 | AB2: =_xlfn.STDEV.P(Z2:Z4) -> 3.9125955 | AC2: =D15+F15 -> 994 | AD2: =AVERAGE(AC2:AC4) -> 875.66667 | AE2: =_xlfn.STDEV.P(AC2:AC4) -> 84.751926 | AG2: Feed Conversion Rate Box 1 | AH2: =M26/Z27 -> 5.9447921 | AI2: =AVERAGE(AH2:AH4) -> 6.8124487 | AJ2: =_xlfn.STDEV.P(AH2:AH4) -> 0.94678034
A3: 0 | B3: 45321 | C3: 5.2283 | D3: =C3/A15*1000 -> 6.1149708 | I3: Einwaaage Weizenkleie soll [g] | J3: =M8 -> 19.44 | L3: PigSLK soll Box 2 [g] | M3: 293.699 | Q3: Frass (feucht) ist Box 2 [g] | R3: =D34 -> 142.69 | Y3: Larven geerntet (feucht) Box 2 [g] | Z3: =C31+F33*(D31/1000) -> 37.5447 | AC3: =D33+F33 -> 833 | AG3: Feed Conversion Rate Box 2 | AH3: =M27/Z28 -> 8.1294352
A4: 1 | B4: 45322 | C4: 0.2149 | D4: =C4/A$16*1000 -> 8.596 | I4: Einwaage Larven soll | J4: 5.2281825 | L4: PigSLK soll Box 3 [g] | M4: 293.699 | Q4: Frass (feucht) ist Box 3 [g] | R4: =D52 -> 129.2 | Y4: Larven geerntet (feucht) Box 3 [g] | Z4: =C49+F51*(D49/1000) -> 45.942356 | AC4: =D51+F51 -> 800 | AG4: Feed Conversion Rate Box 3 | AH4: =M28/Z29 -> 6.3631187
A5: 2 | B5: 45323 | C5: 0.246 | D5: =C5/A$16*1000 -> 9.84 | I5: Einwaage Substrat ist [g] | J5: 293.69 | L5: PigSLK ist Box 1 [g] | M5: =J5 -> 293.69 | N5: =AVERAGE(M5:M7) -> 293.69 | O5: =_xlfn.STDEV.P(M5:M7) -> 0
A6: 3 | B6: 45324 | C6: 0.3786 | D6: =C6/A$16*1000 -> 15.144 | I6: Einwaaage Weizenkleie ist [g] | J6: 19.44 | L6: PigSLK ist Box 2 [g] | M6: =J23 -> 293.69 | R6: Wassergehalt [%] | S6: Mittelwert | T6: STABW | U6: Trockensubstanz [%] | V6: Mittelwert | W6: STABW | Z6: Wassergehalt [%] | AA6: Mittelwert | AB6: STABW | AC6: Trockensubstanz [%] | AD6: Mittelwert | AE6: STABW | AH6: Überlebensrate [%] | AI6: Mittelwert | AJ6: STABW
A7: 4 | B7: 45325 | C7: 0.3938 | D7: =C7/A$16*1000 -> 15.752 | I7: Larven Einwaage ist | J7: 5.2283 | L7: PigSLK ist Box 3 [g] | M7: =J41 -> 293.69 | Q7: Frass Box 1 Replikat 1 [%] | R7: 60.04 | S7: =AVERAGE(R7:R9) -> 58.693333 | T7: =_xlfn.STDEV.P(R7:R9) -> 1.1831408 | U7: =100-R7 -> 39.96 | V7: =AVERAGE(U7:U9) -> 41.306667 | W7: =_xlfn.STDEV.P(U7:U9) -> 1.1831408 | Y7: Larven geerntet Box 1 Replikat 1 [%] | Z7: 65.26 | AA7: =AVERAGE(Z7:Z9) -> 65.933333 | AB7: =_xlfn.STDEV.P(Z7:Z9) -> 0.84838408 | AC7: =100-Z7 -> 34.74 | AD7: =AVERAGE(AC7:AC9) -> 34.066667 | AE7: =_xlfn.STDEV.P(AC7:AC9) -> 0.84838408 | AG7: Überlebensrate Box 1 [%] | AH7: =AC2/M23*100 -> 116.2547 | AI7: =AVERAGE(AH7:AH9) -> 102.43802 | AJ7: =_xlfn.STDEV.P(AH7:AH9) -> 9.8964381
A8: 5 | B8: 45326 | C8: 0.4711 | D8: =C8/A$16*1000 -> 18.844 | L8: Weizenkleie soll Box 1 [g] | M8: 19.44 | N8: =AVERAGE(M8:M10) -> 19.44 | O8: =_xlfn.STDEV.P(M8:M10) -> 0 | Q8: Frass Box 1 Replikat 2 [%] | R8: 58.88 | U8: =100-R8 -> 41.12 | Y8: Larven geerntet Box 1 Replikat 2 [%] | Z8: 67.13 | AC8: =100-Z8 -> 32.87 | AG8: Überlebensrate Box 2 [%] | AH8: =AC3/M24*100 -> 97.461994
A9: 6 | B9: 45327 | C9: 0.7252 | D9: =C9/A$16*1000 -> 29.008 | I9: Futter pro Tier in g | J9: 0.1 | L9: Weizenkleie soll Box 2 [g] | M9: 19.44 | Q9: Frass Box 1 Replikat 3 [%] | R9: 57.16 | U9: =100-R9 -> 42.84 | Y9: Larven geerntet Box 1 Replikat 3 [%] | Z9: 65.41 | AC9: =100-Z9 -> 34.59 | AG9: Überlebensrate Box 3 [%] | AH9: =AC4/M25*100 -> 93.597372
A10: 7 | B10: 45328 | C10: 1.3277 | D10: =C10/A$16*1000 -> 53.108 | L10: Weizenkleie soll Box 3 [g] | M10: 19.44 | Q10: Frass Box 2 Replikat 1 [%] | R10: 60.53 | S10: =AVERAGE(R10:R12) -> 61.873333 | T10: =_xlfn.STDEV.P(R10:R12) -> 0.98624991 | U10: =100-R10 -> 39.47 | V10: =AVERAGE(U10:U12) -> 38.126667 | W10: =_xlfn.STDEV.P(U10:U12) -> 0.98624991 | Y10: Larven geerntet Box 2 Replikat 1 [%] | Z10: 70.15 | AA10: =AVERAGE(Z10:Z12) -> 68.79 | AB10: =_xlfn.STDEV.P(Z10:Z12) -> 0.98661036 | AC10: =100-Z10 -> 29.85 | AD10: =AVERAGE(AC10:AC12) -> 31.21 | AE10: =_xlfn.STDEV.P(AC10:AC12) -> 0.98661036
A11: 8 | B11: 45329 | C11: 1.7356 | D11: =C11/A$16*1000 -> 69.424 | L11: Weizenkleie ist Box 1 [g] | M11: =J6 -> 19.44 | N11: =AVERAGE(M11:M13) -> 19.44 | O11: =_xlfn.STDEV.P(M11:M13) -> 0 | Q11: Frass Box 2 Replikat 2 [%] | R11: 62.87 | U11: =100-R11 -> 37.13 | Y11: Larven geerntet Box 2 Replikat 2 [%] | Z11: 68.38 | AC11: =100-Z11 -> 31.62 | AH11: Substratreduction [%] | AI11: Mittelwert | AJ11: STABW
A12: 9 | B12: 45330 | C12: 1.4824 | D12: =C12/A$16*1000 -> 59.296 | L12: Weizenkleie ist Box 2 [g] | M12: =J24 -> 19.44 | Q12: Frass Box 2 Replikat 3 [%] | R12: 62.22 | U12: =100-R12 -> 37.78 | Y12: Larven geerntet Box 2 Replikat 3 [%] | Z12: 67.84 | AC12: =100-Z12 -> 32.16 | AG12: Substratreduction Box 1 [%] | AH12: =(M26-R18)/M26*100 -> 39.85686 | AI12: =AVERAGE(AH12:AH14) -> 39.944562 | AJ12: =_xlfn.STDEV.P(AH12:AH14) -> 2.9541084
A13: 10 | B13: 45331 | C13: 45.5131 | D13: =C13/D15*1000 -> 46.019312 | L13: Weizenkleie ist Box 3 [g] | M13: =J42 -> 19.44 | Q13: Frass Box 3 Replikat 1 [%] | R13: 61.24 | S13: =AVERAGE(R13:R15) -> 62.68 | T13: =_xlfn.STDEV.P(R13:R15) -> 1.855658 | U13: =100-R13 -> 38.76 | V13: =AVERAGE(U13:U15) -> 37.32 | W13: =_xlfn.STDEV.P(U13:U15) -> 1.855658 | Y13: Larven geerntet Box 3 Replikat 1 [%] | Z13: 67.07 | AA13: =AVERAGE(Z13:Z15) -> 68.14 | AB13: =_xlfn.STDEV.P(Z13:Z15) -> 1.1588212 | AC13: =100-Z13 -> 32.93 | AD13: =AVERAGE(AC13:AC15) -> 31.86 | AE13: =_xlfn.STDEV.P(AC13:AC15) -> 1.1588212 | AG13: Substratreduction Box 2 [%] | AH13: =(M27-R19)/M27*100 -> 36.371182
L14: Gesamtmenge Box 1 [g] | M14: =M5+M11 -> 313.13 | N14: =AVERAGE(M14:M16) -> 313.13 | O14: =_xlfn.STDEV.P(M14:M16) -> 0 | Q14: Frass Box 3 Replikat 2 [%] | R14: 61.5 | U14: =100-R14 -> 38.5 | Y14: Larven geerntet Box 3 Replikat 2 [%] | Z14: 69.75 | AC14: =100-Z14 -> 30.25 | AG14: Substratreduction Box 3 [%] | AH14: =(M28-R20)/M28*100 -> 43.605645
A15: 855 | B15: Gesamtmenge | C15: Anzahl Larven an Tag 10 | D15: 989 | E15: Larven im Frass | F15: 5 | L15: Gesamtmenge Box 2 [g] | M15: =M6+M12 -> 313.13 | Q15: Frass Box 3 Replikat 3 [%] | R15: 65.3 | U15: =100-R15 -> 34.7 | Y15: Larven geerntet Box 3 Replikat 3 [%] | Z15: 67.6 | AC15: =100-Z15 -> 32.4
A16: 25 | B16: Tiere pro Tag gezählt | C16: Frass [g] | D16: 124.49 | L16: Gesamtmenge Box 3 [g] | M16: =M7+M13 -> 313.13 | AH16: Waste reduction index | AI16: Mittelwert | AJ16: STABW
L17: Larven soll Box 1 [g] | M17: 5.2281825 | N17: =AVERAGE(M17:M19) -> 5.2281825 | O17: =_xlfn.STDEV.P(M17:M19) -> 0 | R17: Einwaage [g] | S17: Mittelwert | T17: STABW | Z17: Einwaage [g] | AA17: Mittelwert | AB17: STABW | AG17: Waste reduction index Box 1 [%/d] | AH17: =AH12/10 -> 3.985686 | AI17: =AVERAGE(AH17:AH19) -> 3.9944562 | AJ17: =_xlfn.STDEV.P(AH17:AH19) -> 0.29541084
L18: Larven soll Box 2 [g] | M18: 5.2281825 | Q18: Frass (trocken) ist Box 1 [g] | R18: =R2*(V7/100) -> 51.422669 | S18: =AVERAGE(R18:R20) -> 51.347683 | T18: =_xlfn.STDEV.P(R18:R20) -> 2.5257767 | Y18: Larven geerntet (trocken) Box 1 [g] | Z18: =Z2*(AD7/100) -> 15.583182 | AA18: =AVERAGE(Z18:Z20) -> 13.979373 | AB18: =_xlfn.STDEV.P(Z18:Z20) -> 1.6452099 | AC18: Hier muss noch das eingesetzte Gewicht subtrahiert werden! | AG18: Waste reduction index Box 2 [%/d] | AH18: =AH13/10 -> 3.6371182
A19: Box 2 | L19: Larven soll Box 3 [g] | M19: 5.2281825 | Q19: Frass (trocken) ist Box 2 [g] | R19: =R3*(V10/100) -> 54.402941 | Y19: Larven geerntet (trocken) Box 2 [g] | Z19: =Z3*(AD10/100) -> 11.717701 | AG19: Waste reduction index Box 3 [%/d] | AH19: =AH14/10 -> 4.3605645
A20: Tag | B20: Datum | C20: Gewicht 25 Larven [mg] | D20: individuelles Gewicht [mg] | E20: Anzahl geflohene Larven | F20: Beobachtungen | I20: Einwaage Substrat soll [g] | J20: =M2 -> 293.699 | L20: Larven ist Box 1 [g] | M20: =J7 -> 5.2283 | N20: =AVERAGE(M20:M22) -> 5.2270333 | O20: =_xlfn.STDEV.P(M20:M22) -> 0.0008993825 | Q20: Frass (trocken) ist Box 3 [g] | R20: =R4*(V13/100) -> 48.21744 | Y20: Larven geerntet (trocken) Box 3 [g] | Z20: =Z4*(AD13/100) -> 14.637235
A21: 0 | B21: 45321 | C21: 5.2263 | D21: =C21/A33*1000 -> 6.1126316 | I21: Einwaaage Weizenkleie soll [g] | J21: =M8 -> 19.44 | L21: Larven ist Box 2 [g] | M21: =J25 -> 5.2263 | Y21: Initiales Larvengewicht (feucht) Box 1 [g] | Z21: =M20 -> 5.2283 | AA21: =AVERAGE(Z21:Z23) -> 5.2270333 | AB21: =_xlfn.STDEV.P(Z21:Z23) -> 0.0008993825 | AH21: ECI | AI21: Mittelwert | AJ21: STABW
A22: 1 | B22: 45322 | C22: 0.1876 | D22: =C22/A$16*1000 -> 7.504 | I22: Einwaage Larven soll | J22: 5.2281825 | L22: Larven ist Box 3 [g] | M22: =J43 -> 5.2265 | Y22: Initiales Larvengewicht (feucht) Box 2 [g] | Z22: =M21 -> 5.2263 | AC22: Trockensubstanz Junglarven [%] | AD22: 22.966667 | AG22: Efficiency of conversion of the ingested feed Box 1 | AH22: =Z27/(M26-R18) -> 0.42204645 | AI22: =AVERAGE(AH22:AH24) -> 0.37355174 | AJ22: =_xlfn.STDEV.P(AH22:AH24) -> 0.035467932
A23: 2 | B23: 45323 | C23: 0.2236 | D23: =C23/A$16*1000 -> 8.944 | I23: Einwaage Substrat ist [g] | J23: 293.69 | L23: Larven ist Box 1 [Anzahl] | M23: =M20/'Berechnungen Fütterungsmenge'!$F$21 -> 855.01922 | N23: =AVERAGE(M23:M25) -> 854.81207 | O23: =_xlfn.STDEV.P(M23:M25) -> 0.1470821 | Y23: Initiales Larvengewicht (feucht) Box 3 [g] | Z23: =M22 -> 5.2265 | AG23: Efficiency of conversion of the ingested feed Box 2 | AH23: =Z28/(M27-R19) -> 0.33820671
A24: 3 | B24: 45324 | C24: 0.3183 | D24: =C24/A$16*1000 -> 12.732 | I24: Einwaaage Weizenkleie ist [g] | J24: 19.44 | L24: Larven ist Box 2 [Anzahl] | M24: =M21/'Berechnungen Fütterungsmenge'!$F$21 -> 854.69214 | Y24: Initiales Larvengewicht (trocken) Box 1 [g] | Z24: =Z21*(AD22/100) -> 1.2007662 | AA24: =AVERAGE(Z24:Z26) -> 1.2004753 | AB24: =_xlfn.STDEV.P(Z24:Z26) -> 0.00020655818 | AG24: Efficiency of conversion of the ingested feed Box 3 | AH24: =Z29/(M28-R20) -> 0.36040206
A25: 4 | B25: 45325 | C25: 0.3474 | D25: =C25/A$16*1000 -> 13.896 | I25: Larven Einwaage ist | J25: 5.2263 | L25: Larven ist Box 3 [Anzahl] | M25: =M22/'Berechnungen Fütterungsmenge'!$F$21 -> 854.72485 | Y25: Initiales Larvengewicht (trocken) Box 2 [g] | Z25: =Z22*(AD22/100) -> 1.2003069
A26: 5 | B26: 45326 | C26: 0.4048 | D26: =C26/A$16*1000 -> 16.192 | L26: Gesamtmenge TS Box 1 [g] | M26: =M5*('Berechnungen Fütterungsmenge'!$F$5/100)+M11*('Berechnungen Fütterungsmenge'!$F$10/100) -> 85.500473 | N26: =AVERAGE(M26:M28) -> 85.500473 | O26: =_xlfn.STDEV.P(M26:M28) -> 0 | Y26: Initiales Larvengewicht (trocken) Box 3 [g] | Z26: =Z23*(AD22/100) -> 1.2003528 | AH26: Larval growth rate | AI26: Mittelwert | AJ26: STABW
A27: 6 | B27: 45327 | C27: 0.5463 | D27: =C27/A$16*1000 -> 21.852 | L27: Gesamtmenge TS Box 2 [g] | M27: =M6*('Berechnungen Fütterungsmenge'!$F$5/100)+M12*('Berechnungen Fütterungsmenge'!$F$10/100) -> 85.500473 | Y27: Larven geerntet-initial (trocken) Box 1 [g] | Z27: =Z18-Z24 -> 14.382416 | AA27: =AVERAGE(Z27:Z29) -> 12.778897 | AB27: =_xlfn.STDEV.P(Z27:Z29) -> 1.6450545 | AG27: Larval growth rate Box 1 [g/d] | AH27: =(Z18-Z24)/10 -> 1.4382416 | AI27: =AVERAGE(AH27:AH29) -> 1.2778897 | AJ27: =_xlfn.STDEV.P(AH27:AH29) -> 0.16450545
A28: 7 | B28: 45328 | C28: 1.199 | D28: =C28/A$16*1000 -> 47.96 | L28: Gesamtmenge TS Box 3 [g] | M28: =M7*('Berechnungen Fütterungsmenge'!$F$5/100)+M13*('Berechnungen Fütterungsmenge'!$F$10/100) -> 85.500473 | Y28: Larven geerntet-initial (trocken) Box 2 [g] | Z28: =Z19-Z25 -> 10.517394 | AG28: Larval growth rate Box 2 [g/d] | AH28: =(Z19-Z25)/10 -> 1.0517394
A29: 8 | B29: 45329 | C29: 1.8522 | D29: =C29/A$16*1000 -> 74.088 | Y29: Larven geerntet-initial (trocken) Box 3 [g] | Z29: =Z20-Z26 -> 13.436882 | AG29: Larval growth rate Box 3 [g/d] | AH29: =(Z20-Z26)/10 -> 1.3436882
A30: 9 | B30: 45330 | C30: 1.6302 | D30: =C30/A$16*1000 -> 65.208
A31: 10 | B31: 45331 | C31: 37.5447 | D31: =C31/D33*1000 -> 45.071669 | AD31: Einzelgewicht Larve [g] | AH31: Yield | AI31: Mittelwert | AJ31: STABW
AC32: Larven geerntet Einzelgewicht Box 1 [g] | AD32: =Z2/AC2 -> 0.046019312 | AG32: Yield Box 1 [g] | AH32: =Z27 -> 14.382416 | AI32: =AVERAGE(AH32:AH34) -> 12.778897 | AJ32: =_xlfn.STDEV.P(AH32:AH34) -> 1.6450545
A33: 855 | B33: Gesamtmenge | C33: Anzahl Larven an Tag 10 | D33: 833 | E33: Larven im Frass | F33: 0 | AG33: Yield Box 2 [g] | AH33: =Z28 -> 10.517394
A34: 25 | B34: Tiere pro Tag gezählt | C34: Frass [g] | D34: 142.69 | AG34: Yield Box 3 [g] | AH34: =Z29 -> 13.436882
AC35: Larven geerntet Einzelgewicht Box 2 [g] | AD35: =Z3/AC3 -> 0.045071669
AH36: LFW | AI36: Mittelwert | AJ36: STABW
A37: Box 3 | AG37: Larval final weight Box 1 [mg/Larve] | AH37: =Z18*1000/AC2 -> 15.677246 | AI37: =AVERAGE(AH37:AH39) -> 16.013552 | AJ37: =_xlfn.STDEV.P(AH37:AH39) -> 1.7430558
A38: Tag | B38: Datum | C38: Gewicht 25 Larven [mg] | D38: individuelles Gewicht [mg] | E38: Anzahl geflohene Larven | F38: Beobachtungen | I38: Einwaage Substrat soll [g] | J38: =M2 -> 293.699 | AC38: Larven geerntet Einzelgewicht Box [g] | AD38: =Z4/AC4 -> 0.057427945 | AG38: Larval final weight Box 2 [mg/Larve] | AH38: =Z19*1000/AC3 -> 14.066868
A39: 0 | B39: 45321 | C39: 5.2265 | D39: =C39/A51*1000 -> 6.1128655 | I39: Einwaaage Weizenkleie soll [g] | J39: =M8 -> 19.44 | AG39: Larval final weight Box 3 [mg/Larve] | AH39: =Z20*1000/AC4 -> 18.296543
A40: 1 | B40: 45322 | C40: 0.1603 | D40: =C40/A$16*1000 -> 6.412 | I40: Einwaage Larven soll | J40: 5.2281825
...

Sheet 150 mg
A1: Box 1 | M1: Eiwaage [g] | N1: Mittelwert | O1: STABW | R1: Einwaage [g] | S1: Mittelwert | T1: STABW | Z1: Einwaage [g] | AA1: Mittelwert | AB1: STABW | AC1: Anzahl | AD1: Mittelwert | AE1: STABW | AH1: FCR DM/DM | AI1: Mittelwert | AJ1: STABW
A2: Tag | B2: Datum | C2: Gewicht 25 Larven [mg] | D2: individuelles Gewicht [mg] | E2: Anzahl geflohene Larven | F2: Beobachtungen | I2: Einwaage Substrat soll [g] | J2: =M2 -> 440.532 | L2: PigSLK soll Box 1 [g] | M2: 440.532 | N2: =AVERAGE(M2:M4) -> 440.532 | O2: =_xlfn.STDEV.P(M2:M4) -> 0 | Q2: Frass (feucht) ist Box 1 [g] | R2: =D16 -> 241.84 | S2: =AVERAGE(R2:R4) -> 241.06 | T2: =_xlfn.STDEV.P(R2:R4) -> 5.3358098 | Y2: Larven geerntet (feucht) Box 1 [g] | Z2: =C13+F15*(D13/1000) -> 54.226202 | AA2: =AVERAGE(Z2:Z4) -> 56.823524 | AB2: =_xlfn.STDEV.P(Z2:Z4) -> 2.1520745 | AC2: =D15+F15 -> 787 | AD2: =AVERAGE(AC2:AC4) -> 782 | AE2: =_xlfn.STDEV.P(AC2:AC4) -> 62.561969 | AG2: Feed Conversion Rate Box 1 | AH2: =M26/Z27 -> 8.560906 | AI2: =AVERAGE(AH2:AH4) -> 8.1360655 | AJ2: =_xlfn.STDEV.P(AH2:AH4) -> 0.30440974
A3: 0 | B3: 45321 | C3: 5.2261 | D3: =C3/A15*1000 -> 6.1123977 | I3: Einwaaage Weizenkleie soll [g] | J3: =M8 -> 29.16 | L3: PigSLK soll Box 2 [g] | M3: 440.532 | Q3: Frass (feucht) ist Box 2 [g] | R3: =D34 -> 234.17 | Y3: Larven geerntet (feucht) Box 2 [g] | Z3: =C31+F33*(D31/1000) -> 56.748292 | AC3: =D33+F33 -> 703 | AG3: Feed Conversion Rate Box 2 | AH3: =M27/Z28 -> 7.8633887
A4: 1 | B4: 45322 | C4: 0.2184 | D4: =C4/A$16*1000 -> 8.736 | I4: Einwaage Larven soll | J4: 5.2281825 | L4: PigSLK soll Box 3 [g] | M4: 440.532 | Q4: Frass (feucht) ist Box 3 [g] | R4: =D52 -> 247.17 | Y4: Larven geerntet (feucht) Box 3 [g] | Z4: =C49+F51*(D49/1000) -> 59.496076 | AC4: =D51+F51 -> 856 | AG4: Feed Conversion Rate Box 3 | AH4: =M28/Z29 -> 7.9839019
A5: 2 | B5: 45323 | C5: 0.2732 | D5: =C5/A$16*1000 -> 10.928 | I5: Einwaage Substrat ist [g] | J5: 440.53 | L5: PigSLK ist Box 1 [g] | M5: =J5 -> 440.53 | N5: =AVERAGE(M5:M7) -> 440.53 | O5: =_xlfn.STDEV.P(M5:M7) -> 0
A6: 3 | B6: 45324 | C6: 0.4352 | D6: =C6/A$16*1000 -> 17.408 | I6: Einwaaage Weizenkleie ist [g] | J6: 29.16 | L6: PigSLK ist Box 2 [g] | M6: =J23 -> 440.53 | R6: Wassergehalt [%] | S6: Mittelwert | T6: STABW | U6: Trockensubstanz [%] | V6: Mittelwert | W6: STABW | Z6: Wassergehalt [%] | AA6: Mittelwert | AB6: STABW | AC6: Trockensubstanz [%] | AD6: Mittelwert | AE6: STABW | AH6: Überlebensrate [%] | AI6: Mittelwert | AJ6: STABW
A7: 4 | B7: 45325 | C7: 0.3687 | D7: =C7/A$16*1000 -> 14.748 | I7: Larven Einwaage ist | J7: 5.2261 | L7: PigSLK ist Box 3 [g] | M7: =J41 -> 440.53 | Q7: Frass Box 1 Replikat 1 [%] | R7: 66.96 | S7: =AVERAGE(R7:R9) -> 67.72 | T7: =_xlfn.STDEV.P(R7:R9) -> 0.7439086 | U7: =100-R7 -> 33.04 | V7: =AVERAGE(U7:U9) -> 32.28 | W7: =_xlfn.STDEV.P(U7:U9) -> 0.7439086 | Y7: Larven geerntet Box 1 Replikat 1 [%] | Z7: 70.59 | AA7: =AVERAGE(Z7:Z9) -> 70.16 | AB7: =_xlfn.STDEV.P(Z7:Z9) -> 0.40898248 | AC7: =100-Z7 -> 29.41 | AD7: =AVERAGE(AC7:AC9) -> 29.84 | AE7: =_xlfn.STDEV.P(AC7:AC9) -> 0.40898248 | AG7: Überlebensrate Box 1 [%] | AH7: =AC2/M23*100 -> 92.083462 | AI7: =AVERAGE(AH7:AH9) -> 91.483228 | AJ7: =_xlfn.STDEV.P(AH7:AH9) -> 7.3393131
A8: 5 | B8: 45326 | C8: 0.5334 | D8: =C8/A$16*1000 -> 21.336 | L8: Weizenkleie soll Box 1 [g] | M8: 29.16 | N8: =AVERAGE(M8:M10) -> 29.16 | O8: =_xlfn.STDEV.P(M8:M10) -> 0 | Q8: Frass Box 1 Replikat 2 [%] | R8: 67.47 | U8: =100-R8 -> 32.53 | Y8: Larven geerntet Box 1 Replikat 2 [%] | Z8: 70.28 | AC8: =100-Z8 -> 29.72 | AG8: Überlebensrate Box 2 [%] | AH8: =AC3/M24*100 -> 82.209368
A9: 6 | B9: 45327 | C9: 1.2898 | D9: =C9/A$16*1000 -> 51.592 | I9: Futter pro Tier in g | J9: 0.15 | L9: Weizenkleie soll Box 2 [g] | M9: 29.16 | Q9: Frass Box 1 Replikat 3 [%] | R9: 68.73 | U9: =100-R9 -> 31.27 | Y9: Larven geerntet Box 1 Replikat 3 [%] | Z9: 69.61 | AC9: =100-Z9 -> 30.39 | AG9: Überlebensrate Box 3 [%] | AH9: =AC4/M25*100 -> 100.15685
A10: 7 | B10: 45328 | C10: 1.4467 | D10: =C10/A$16*1000 -> 57.868 | L10: Weizenkleie soll Box 3 [g] | M10: 29.16 | Q10: Frass Box 2 Replikat 1 [%] | R10: 66.96 | S10: =AVERAGE(R10:R12) -> 67.663333 | T10: =_xlfn.STDEV.P(R10:R12) -> 0.5131818 | U10: =100-R10 -> 33.04 | V10: =AVERAGE(U10:U12) -> 32.336667 | W10: =_xlfn.STDEV.P(U10:U12) -> 0.5131818 | Y10: Larven geerntet Box 2 Replikat 1 [%] | Z10: 69.09 | AA10: =AVERAGE(Z10:Z12) -> 69.143333 | AB10: =_xlfn.STDEV.P(Z10:Z12) -> 1.1437171 | AC10: =100-Z10 -> 30.91 | AD10: =AVERAGE(AC10:AC12) -> 30.856667 | AE10: =_xlfn.STDEV.P(AC10:AC12) -> 1.1437171
A11: 8 | B11: 45329 | C11: 1.7812 | D11: =C11/A$16*1000 -> 71.248 | L11: Weizenkleie ist Box 1 [g] | M11: =J6 -> 29.16 | N11: =AVERAGE(M11:M13) -> 29.16 | O11: =_xlfn.STDEV.P(M11:M13) -> 0 | Q11: Frass Box 2 Replikat 2 [%] | R11: 67.86 | U11: =100-R11 -> 32.14 | Y11: Larven geerntet Box 2 Replikat 2 [%] | Z11: 67.77 | AC11: =100-Z11 -> 32.23 | AH11: Substratreduction [%] | AI11: Mittelwert | AJ11: STABW
A12: 9 | B12: 45330 | C12: 2.2134 | D12: =C12/A$16*1000 -> 88.536 | L12: Weizenkleie ist Box 2 [g] | M12: =J24 -> 29.16 | Q12: Frass Box 2 Replikat 3 [%] | R12: 68.17 | U12: =100-R12 -> 31.83 | Y12: Larven geerntet Box 2 Replikat 3 [%] | Z12: 70.57 | AC12: =100-Z12 -> 29.43 | AG12: Substratreduction Box 1 [%] | AH12: =(M26-R18)/M26*100 -> 39.129646 | AI12: =AVERAGE(AH12:AH14) -> 43.225229 | AJ12: =_xlfn.STDEV.P(AH12:AH14) -> 4.5615076
A13: 10 | B13: 45331 | C13: 54.1573 | D13: =C13/D15*1000 -> 68.902417 | L13: Weizenkleie ist Box 3 [g] | M13: =J42 -> 29.16 | Q13: Frass Box 3 Replikat 1 [%] | R13: 74.73 | S13: =AVERAGE(R13:R15) -> 73.843333 | T13: =_xlfn.STDEV.P(R13:R15) -> 0.83207906 | U13: =100-R13 -> 25.27 | V13: =AVERAGE(U13:U15) -> 26.156667 | W13: =_xlfn.STDEV.P(U13:U15) -> 0.83207906 | Y13: Larven geerntet Box 3 Replikat 1 [%] | Z13: 70.82 | AA13: =AVERAGE(Z13:Z15) -> 70.983333 | AB13: =_xlfn.STDEV.P(Z13:Z15) -> 0.17745109 | AC13: =100-Z13 -> 29.18 | AD13: =AVERAGE(AC13:AC15) -> 29.016667 | AE13: =_xlfn.STDEV.P(AC13:AC15) -> 0.17745109 | AG13: Substratreduction Box 2 [%] | AH13: =(M27-R19)/M27*100 -> 40.956693
L14: Gesamtmenge Box 1 [g] | M14: =M5+M11 -> 469.69 | N14: =AVERAGE(M14:M16) -> 469.69 | O14: =_xlfn.STDEV.P(M14:M16) -> 0 | Q14: Frass Box 3 Replikat 2 [%] | R14: 74.07 | U14: =100-R14 -> 25.93 | Y14: Larven geerntet Box 3 Replikat 2 [%] | Z14: 70.9 | AC14: =100-Z14 -> 29.1 | AG14: Substratreduction Box 3 [%] | AH14: =(M28-R20)/M28*100 -> 49.589347
A15: 855 | B15: Gesamtmenge | C15: Anzahl Larven an Tag 10 | D15: 786 | E15: Larven im Frass | F15: 1 | L15: Gesamtmenge Box 2 [g] | M15: =M6+M12 -> 469.69 | Q15: Frass Box 3 Replikat 3 [%] | R15: 72.73 | U15: =100-R15 -> 27.27 | Y15: Larven geerntet Box 3 Replikat 3 [%] | Z15: 71.23 | AC15: =100-Z15 -> 28.77
A16: 25 | B16: Tiere pro Tag gezählt | C16: Frass [g] | D16: 241.84 | L16: Gesamtmenge Box 3 [g] | M16: =M7+M13 -> 469.69 | AH16: Waste reduction index | AI16: Mittelwert | AJ16: STABW
L17: Larven soll Box 1 [g] | M17: 5.2281825 | N17: =AVERAGE(M17:M19) -> 5.2281825 | O17: =_xlfn.STDEV.P(M17:M19) -> 0 | R17: Einwaage [g] | S17: Mittelwert | T17: STABW | Z17: Einwaage [g] | AA17: Mittelwert | AB17: STABW | AG17: Waste reduction index Box 1 [%/d] | AH17: =AH12/10 -> 3.9129646 | AI17: =AVERAGE(AH17:AH19) -> 4.3225229 | AJ17: =_xlfn.STDEV.P(AH17:AH19) -> 0.45615076
L18: Larven soll Box 2 [g] | M18: 5.2281825 | Q18: Frass (trocken) ist Box 1 [g] | R18: =R2*(V7/100) -> 78.065952 | S18: =AVERAGE(R18:R20) -> 72.813386 | T18: =_xlfn.STDEV.P(R18:R20) -> 5.8501127 | Y18: Larven geerntet (trocken) Box 1 [g] | Z18: =Z2*(AD7/100) -> 16.181099 | AA18: =AVERAGE(Z18:Z20) -> 16.985169 | AB18: =_xlfn.STDEV.P(Z18:Z20) -> 0.57742607 | AC18: Hier muss noch das eingesetzte Gewicht subtrahiert werden! | AG18: Waste reduction index Box 2 [%/d] | AH18: =AH13/10 -> 4.0956693
A19: Box 2 | L19: Larven soll Box 3 [g] | M19: 5.2281825 | Q19: Frass (trocken) ist Box 2 [g] | R19: =R3*(V10/100) -> 75.722772 | Y19: Larven geerntet (trocken) Box 2 [g] | Z19: =Z3*(AD10/100) -> 17.510631 | AG19: Waste reduction index Box 3 [%/d] | AH19: =AH14/10 -> 4.9589347
A20: Tag | B20: Datum | C20: Gewicht 25 Larven [mg] | D20: individuelles Gewicht [mg] | E20: Anzahl geflohene Larven | F20: Beobachtungen | I20: Einwaage Substrat soll [g] | J20: =M2 -> 440.532 | L20: Larven ist Box 1 [g] | M20: =J7 -> 5.2261 | N20: =AVERAGE(M20:M22) -> 5.2270667 | O20: =_xlfn.STDEV.P(M20:M22) -> 0.0013670731 | Q20: Frass (trocken) ist Box 3 [g] | R20: =R4*(V13/100) -> 64.651433 | Y20: Larven geerntet (trocken) Box 3 [g] | Z20: =Z4*(AD13/100) -> 17.263778
A21: 0 | B21: 45321 | C21: 5.229 | D21: =C21/A33*1000 -> 6.1157895 | I21: Einwaaage Weizenkleie soll [g] | J21: =M8 -> 29.16 | L21: Larven ist Box 2 [g] | M21: =J25 -> 5.229 | Y21: Initiales Larvengewicht (feucht) Box 1 [g] | Z21: =M20 -> 5.2261 | AA21: =AVERAGE(Z21:Z23) -> 5.2270667 | AB21: =_xlfn.STDEV.P(Z21:Z23) -> 0.0013670731 | AH21: ECI | AI21: Mittelwert | AJ21: STABW
A22: 1 | B22: 45322 | C22: 0.2052 | D22: =C22/A$16*1000 -> 8.208 | I22: Einwaage Larven soll | J22: 5.2281825 | L22: Larven ist Box 3 [g] | M22: =J43 -> 5.2261 | Y22: Initiales Larvengewicht (feucht) Box 2 [g] | Z22: =M21 -> 5.229 | AC22: Trockensubstanz Junglarven [%] | AD22: 22.966667 | AG22: Efficiency of conversion of the ingested feed Box 1 | AH22: =Z27/(M26-R18) -> 0.29852063 | AI22: =AVERAGE(AH22:AH24) -> 0.28720062 | AJ22: =_xlfn.STDEV.P(AH22:AH24) -> 0.024965435
A23: 2 | B23: 45323 | C23: 0.2758 | D23: =C23/A$16*1000 -> 11.032 | I23: Einwaage Substrat ist [g] | J23: 440.53 | L23: Larven ist Box 1 [Anzahl] | M23: =M20/'Berechnungen Fütterungsmenge'!$F$21 -> 854.65943 | N23: =AVERAGE(M23:M25) -> 854.81752 | O23: =_xlfn.STDEV.P(M23:M25) -> 0.2235667 | Y23: Initiales Larvengewicht (feucht) Box 3 [g] | Z23: =M22 -> 5.2261 | AG23: Efficiency of conversion of the ingested feed Box 2 | AH23: =Z28/(M27-R19) -> 0.31050269
A24: 3 | B24: 45324 | C24: 0.4111 | D24: =C24/A$16*1000 -> 16.444 | I24: Einwaaage Weizenkleie ist [g] | J24: 29.16 | L24: Larven ist Box 2 [Anzahl] | M24: =M21/'Berechnungen Fütterungsmenge'!$F$21 -> 855.13369 | Y24: Initiales Larvengewicht (trocken) Box 1 [g] | Z24: =Z21*(AD22/100) -> 1.200261 | AA24: =AVERAGE(Z24:Z26) -> 1.200483 | AB24: =_xlfn.STDEV.P(Z24:Z26) -> 0.00031397112 | AG24: Efficiency of conversion of the ingested feed Box 3 | AH24: =Z29/(M28-R20) -> 0.25257852
A25: 4 | B25: 45325 | C25: 0.4022 | D25: =C25/A$16*1000 -> 16.088 | I25: Larven Einwaage ist | J25: 5.229 | L25: Larven ist Box 3 [Anzahl] | M25: =M22/'Berechnungen Fütterungsmenge'!$F$21 -> 854.65943 | Y25: Initiales Larvengewicht (trocken) Box 2 [g] | Z25: =Z22*(AD22/100) -> 1.200927
A26: 5 | B26: 45326 | C26: 0.5818 | D26: =C26/A$16*1000 -> 23.272 | L26: Gesamtmenge TS Box 1 [g] | M26: =M5*('Berechnungen Fütterungsmenge'!$F$5/100)+M11*('Berechnungen Fütterungsmenge'!$F$10/100) -> 128.24955 | N26: =AVERAGE(M26:M28) -> 128.24955 | O26: =_xlfn.STDEV.P(M26:M28) -> 0 | Y26: Initiales Larvengewicht (trocken) Box 3 [g] | Z26: =Z23*(AD22/100) -> 1.200261 | AH26: Larval growth rate | AI26: Mittelwert | AJ26: STABW
A27: 6 | B27: 45327 | C27: 1.0963 | D27: =C27/A$16*1000 -> 43.852 | L27: Gesamtmenge TS Box 2 [g] | M27: =M6*('Berechnungen Fütterungsmenge'!$F$5/100)+M12*('Berechnungen Fütterungsmenge'!$F$10/100) -> 128.24955 | Y27: Larven geerntet-initial (trocken) Box 1 [g] | Z27: =Z18-Z24 -> 14.980838 | AA27: =AVERAGE(Z27:Z29) -> 15.784686 | AB27: =_xlfn.STDEV.P(Z27:Z29) -> 0.57722409 | AG27: Larval growth rate Box 1 [g/d] | AH27: =(Z18-Z24)/10 -> 1.4980838 | AI27: =AVERAGE(AH27:AH29) -> 1.5784686 | AJ27: =_xlfn.STDEV.P(AH27:AH29) -> 0.057722409
A28: 7 | B28: 45328 | C28: 1.6533 | D28: =C28/A$16*1000 -> 66.132 | L28: Gesamtmenge TS Box 3 [g] | M28: =M7*('Berechnungen Fütterungsmenge'!$F$5/100)+M13*('Berechnungen Fütterungsmenge'!$F$10/100) -> 128.24955 | Y28: Larven geerntet-initial (trocken) Box 2 [g] | Z28: =Z19-Z25 -> 16.309704 | AG28: Larval growth rate Box 2 [g/d] | AH28: =(Z19-Z25)/10 -> 1.6309704
A29: 8 | B29: 45329 | C29: 1.3963 | D29: =C29/A$16*1000 -> 55.852 | Y29: Larven geerntet-initial (trocken) Box 3 [g] | Z29: =Z20-Z26 -> 16.063517 | AG29: Larval growth rate Box 3 [g/d] | AH29: =(Z20-Z26)/10 -> 1.6063517
A30: 9 | B30: 45330 | C30: 1.7424 | D30: =C30/A$16*1000 -> 69.696
A31: 10 | B31: 45331 | C31: 56.4254 | D31: =C31/D33*1000 -> 80.723033 | AD31: Einzelgewicht Larve [g] | AH31: Yield | AI31: Mittelwert | AJ31: STABW
AC32: Larven geerntet Einzelgewicht Box 1 [g] | AD32: =Z2/AC2 -> 0.068902417 | AG32: Yield Box 1 [g] | AH32: =Z27 -> 14.980838 | AI32: =AVERAGE(AH32:AH34) -> 15.784686 | AJ32: =_xlfn.STDEV.P(AH32:AH34) -> 0.57722409
A33: 855 | B33: Gesamtmenge | C33: Anzahl Larven an Tag 10 | D33: 699 | E33: Larven im Frass | F33: 4 | AG33: Yield Box 2 [g] | AH33: =Z28 -> 16.309704
A34: 25 | B34: Tiere pro Tag gezählt | C34: Frass [g] | D34: 234.17 | AG34: Yield Box 3 [g] | AH34: =Z29 -> 16.063517
AC35: Larven geerntet Einzelgewicht Box 2 [g] | AD35: =Z3/AC3 -> 0.080723033
AH36: LFW | AI36: Mittelwert | AJ36: STABW
A37: Box 3 | AG37: Larval final weight Box 1 [mg/Larve] | AH37: =Z18*1000/AC2 -> 20.560481 | AI37: =AVERAGE(AH37:AH39) -> 21.878961 | AJ37: =_xlfn.STDEV.P(AH37:AH39) -> 2.1481482
